BEGIN:VCALENDAR
VERSION:2.0
PRODID:-//Knowlton House Distillery - ECPv6.15.17.1//NONSGML v1.0//EN
CALSCALE:GREGORIAN
METHOD:PUBLISH
X-ORIGINAL-URL:https://knowltonhouse.com
X-WR-CALDESC:Events for Knowlton House Distillery
REFRESH-INTERVAL;VALUE=DURATION:PT1H
X-Robots-Tag:noindex
X-PUBLISHED-TTL:PT1H
BEGIN:VTIMEZONE
TZID:America/Chicago
BEGIN:DAYLIGHT
TZOFFSETFROM:-0600
TZOFFSETTO:-0500
TZNAME:CDT
DTSTART:20250309T080000
END:DAYLIGHT
BEGIN:STANDARD
TZOFFSETFROM:-0500
TZOFFSETTO:-0600
TZNAME:CST
DTSTART:20251102T070000
END:STANDARD
BEGIN:DAYLIGHT
TZOFFSETFROM:-0600
TZOFFSETTO:-0500
TZNAME:CDT
DTSTART:20260308T080000
END:DAYLIGHT
BEGIN:STANDARD
TZOFFSETFROM:-0500
TZOFFSETTO:-0600
TZNAME:CST
DTSTART:20261101T070000
END:STANDARD
BEGIN:DAYLIGHT
TZOFFSETFROM:-0600
TZOFFSETTO:-0500
TZNAME:CDT
DTSTART:20270314T080000
END:DAYLIGHT
BEGIN:STANDARD
TZOFFSETFROM:-0500
TZOFFSETTO:-0600
TZNAME:CST
DTSTART:20271107T070000
END:STANDARD
END:VTIMEZONE
BEGIN:VEVENT
DTSTART;TZID=America/Chicago:20260423T160000
DTEND;TZID=America/Chicago:20260423T210000
DTSTAMP:20260419T143640
CREATED:20260331T151132Z
LAST-MODIFIED:20260331T151132Z
UID:10158-1776960000-1776978000@knowltonhouse.com
SUMMARY:$59 Date Night for Two
DESCRIPTION:Grab your plus one and head out to Knowlton House Distillery for a special Thursday Date Night experience! \nEnjoy our curated Date Night Pre-Fixe Menu for $59 per couple\, including: \n\n\n 	One shared appetizer\n 	Two full-size entrees\n 	One shared dessert\n 	Two drinks (cocktail\, mocktail\, or beer)\n\nPerfect for an easy weeknight treat that still feels special. \nOur pre-fixe menu changes seasonally\, and featured options will be posted on our online menu. \n📅 Available Thursdays only
URL:https://knowltonhouse.com/event/59-date-night-for-two-7/
LOCATION:Knowlton House Distillery\, 204575 County Rd DB\, Mosinee\, WI\, 54455\, United States
ORGANIZER;CN="Knowlton House Distillery":MAILTO:info@knowltonhouse.com
END:VEVENT
BEGIN:VEVENT
DTSTART;TZID=America/Chicago:20260424T173000
DTEND;TZID=America/Chicago:20260424T183000
DTSTAMP:20260419T143640
CREATED:20260311T140940Z
LAST-MODIFIED:20260311T140940Z
UID:10005-1777051800-1777055400@knowltonhouse.com
SUMMARY:Classic Distillery Tour & Tasting - 5:30pm
DESCRIPTION:Get a behind the scenes peak at how our spirits are crafted as we take you through the history\, ingredients\, and process that goes into distilling each bottle of our award-winning TenHead spirits.\n\nTour includes a guided tasting.\n\nDuration: 60 minutes
URL:https://knowltonhouse.com/event/classic-distillery-tour-tasting-530pm-98/
LOCATION:Knowlton House Distillery\, 204575 County Rd DB\, Mosinee\, WI\, 54455\, United States
CATEGORIES:Distillery Tours
ORGANIZER;CN="Knowlton House Distillery":MAILTO:info@knowltonhouse.com
END:VEVENT
BEGIN:VEVENT
DTSTART;TZID=America/Chicago:20260424T190000
DTEND;TZID=America/Chicago:20260424T200000
DTSTAMP:20260419T143640
CREATED:20260311T144058Z
LAST-MODIFIED:20260311T144058Z
UID:10017-1777057200-1777060800@knowltonhouse.com
SUMMARY:Classic Distillery Tour & Tasting - 7:00pm
DESCRIPTION:Get a behind the scenes peak at how our spirits are crafted as we take you through the history\, ingredients\, and process that goes into distilling each bottle of our award-winning TenHead spirits.\n\nTour includes a guided tasting.\n\nDuration: 60 minutes
URL:https://knowltonhouse.com/event/classic-distillery-tour-tasting-700pm-51/
LOCATION:Knowlton House Distillery\, 204575 County Rd DB\, Mosinee\, WI\, 54455\, United States
CATEGORIES:Distillery Tours
ORGANIZER;CN="Knowlton House Distillery":MAILTO:info@knowltonhouse.com
END:VEVENT
BEGIN:VEVENT
DTSTART;TZID=America/Chicago:20260425T143000
DTEND;TZID=America/Chicago:20260425T153000
DTSTAMP:20260419T143640
CREATED:20260311T150921Z
LAST-MODIFIED:20260311T150921Z
UID:10029-1777127400-1777131000@knowltonhouse.com
SUMMARY:Classic Distillery Tour & Tasting - 2:30pm
DESCRIPTION:Get a behind the scenes peak at how our spirits are crafted as we take you through the history\, ingredients\, and process that goes into distilling each bottle of our award-winning TenHead spirits.\n\nTour includes a guided tasting.\n\nDuration: 60 minutes
URL:https://knowltonhouse.com/event/classic-distillery-tour-tasting-230pm-65/
LOCATION:Knowlton House Distillery\, 204575 County Rd DB\, Mosinee\, WI\, 54455\, United States
CATEGORIES:Distillery Tours
ORGANIZER;CN="Knowlton House Distillery":MAILTO:info@knowltonhouse.com
END:VEVENT
BEGIN:VEVENT
DTSTART;TZID=America/Chicago:20260425T160000
DTEND;TZID=America/Chicago:20260425T170000
DTSTAMP:20260419T143640
CREATED:20260311T162345Z
LAST-MODIFIED:20260311T162345Z
UID:10038-1777132800-1777136400@knowltonhouse.com
SUMMARY:Classic Distillery Tour & Tasting - 4:00pm
DESCRIPTION:Get a behind the scenes peak at how our spirits are crafted as we take you through the history\, ingredients\, and process that goes into distilling each bottle of our award-winning TenHead spirits.\n\nTour includes a guided tasting.\n\nDuration: 60 minutes
URL:https://knowltonhouse.com/event/classic-distillery-tour-tasting-400pm-77/
LOCATION:Knowlton House Distillery\, 204575 County Rd DB\, Mosinee\, WI\, 54455\, United States
CATEGORIES:Distillery Tours
ORGANIZER;CN="Knowlton House Distillery":MAILTO:info@knowltonhouse.com
END:VEVENT
BEGIN:VEVENT
DTSTART;TZID=America/Chicago:20260430T160000
DTEND;TZID=America/Chicago:20260430T210000
DTSTAMP:20260419T143640
CREATED:20260331T151310Z
LAST-MODIFIED:20260331T151310Z
UID:10160-1777564800-1777582800@knowltonhouse.com
SUMMARY:$59 Date Night for Two
DESCRIPTION:Grab your plus one and head out to Knowlton House Distillery for a special Thursday Date Night experience! \nEnjoy our curated Date Night Pre-Fixe Menu for $59 per couple\, including: \n\n\n 	One shared appetizer\n 	Two full-size entrees\n 	One shared dessert\n 	Two drinks (cocktail\, mocktail\, or beer)\n\nPerfect for an easy weeknight treat that still feels special. \nOur pre-fixe menu changes seasonally\, and featured options will be posted on our online menu. \n📅 Available Thursdays only
URL:https://knowltonhouse.com/event/59-date-night-for-two-8/
LOCATION:Knowlton House Distillery\, 204575 County Rd DB\, Mosinee\, WI\, 54455\, United States
ORGANIZER;CN="Knowlton House Distillery":MAILTO:info@knowltonhouse.com
END:VEVENT
END:VCALENDAR