BEGIN:VCALENDAR
VERSION:2.0
PRODID:-//Knowlton House Distillery - ECPv6.15.17.1//NONSGML v1.0//EN
CALSCALE:GREGORIAN
METHOD:PUBLISH
X-WR-CALNAME:Knowlton House Distillery
X-ORIGINAL-URL:https://knowltonhouse.com
X-WR-CALDESC:Events for Knowlton House Distillery
REFRESH-INTERVAL;VALUE=DURATION:PT1H
X-Robots-Tag:noindex
X-PUBLISHED-TTL:PT1H
BEGIN:VTIMEZONE
TZID:America/Chicago
BEGIN:DAYLIGHT
TZOFFSETFROM:-0600
TZOFFSETTO:-0500
TZNAME:CDT
DTSTART:20240310T080000
END:DAYLIGHT
BEGIN:STANDARD
TZOFFSETFROM:-0500
TZOFFSETTO:-0600
TZNAME:CST
DTSTART:20241103T070000
END:STANDARD
BEGIN:DAYLIGHT
TZOFFSETFROM:-0600
TZOFFSETTO:-0500
TZNAME:CDT
DTSTART:20250309T080000
END:DAYLIGHT
BEGIN:STANDARD
TZOFFSETFROM:-0500
TZOFFSETTO:-0600
TZNAME:CST
DTSTART:20251102T070000
END:STANDARD
BEGIN:DAYLIGHT
TZOFFSETFROM:-0600
TZOFFSETTO:-0500
TZNAME:CDT
DTSTART:20260308T080000
END:DAYLIGHT
BEGIN:STANDARD
TZOFFSETFROM:-0500
TZOFFSETTO:-0600
TZNAME:CST
DTSTART:20261101T070000
END:STANDARD
END:VTIMEZONE
BEGIN:VEVENT
DTSTART;TZID=America/Chicago:20250803T090000
DTEND;TZID=America/Chicago:20250803T130000
DTSTAMP:20260423T192813
CREATED:20250506T155022Z
LAST-MODIFIED:20250506T155022Z
UID:7842-1754211600-1754226000@knowltonhouse.com
SUMMARY:Farmers Market
DESCRIPTION:Make Sunday a Funday at Knowlton House.  Shop for local produce\, meats\, flowers & other goods with a cocktail in hand at our Sunday Farmers Market from 9:00am-1:00pm.  Stick around to join us for all day brunch and live music at 11:00am.\n\nStaying for the music?  Feel free to bring a lawn chair or picnic blanket to kick back and relax.
URL:https://knowltonhouse.com/event/farmers-market-21/
LOCATION:Knowlton House Distillery\, 204575 County Rd DB\, Mosinee\, WI\, 54455\, United States
CATEGORIES:Seasonal Market
ATTACH;FMTTYPE=image/jpeg:https://knowltonhouse.com/wp-content/uploads/2025/04/Farmers-Market-Digital-Mobile-Ad-1.91-to-1.jpg
ORGANIZER;CN="Knowlton House Distillery":MAILTO:info@knowltonhouse.com
END:VEVENT
BEGIN:VEVENT
DTSTART;TZID=America/Chicago:20250810T090000
DTEND;TZID=America/Chicago:20250810T130000
DTSTAMP:20260423T192813
CREATED:20250506T155103Z
LAST-MODIFIED:20250506T155103Z
UID:7844-1754816400-1754830800@knowltonhouse.com
SUMMARY:Farmers Market
DESCRIPTION:Make Sunday a Funday at Knowlton House.  Shop for local produce\, meats\, flowers & other goods with a cocktail in hand at our Sunday Farmers Market from 9:00am-1:00pm.  Stick around to join us for all day brunch and live music at 11:00am.\n\nStaying for the music?  Feel free to bring a lawn chair or picnic blanket to kick back and relax.
URL:https://knowltonhouse.com/event/farmers-market-22/
LOCATION:Knowlton House Distillery\, 204575 County Rd DB\, Mosinee\, WI\, 54455\, United States
CATEGORIES:Seasonal Market
ATTACH;FMTTYPE=image/jpeg:https://knowltonhouse.com/wp-content/uploads/2025/04/Farmers-Market-Digital-Mobile-Ad-1.91-to-1.jpg
ORGANIZER;CN="Knowlton House Distillery":MAILTO:info@knowltonhouse.com
END:VEVENT
BEGIN:VEVENT
DTSTART;TZID=America/Chicago:20250817T090000
DTEND;TZID=America/Chicago:20250817T130000
DTSTAMP:20260423T192813
CREATED:20250506T155145Z
LAST-MODIFIED:20250506T155145Z
UID:7846-1755421200-1755435600@knowltonhouse.com
SUMMARY:Farmers Market
DESCRIPTION:Make Sunday a Funday at Knowlton House.  Shop for local produce\, meats\, flowers & other goods with a cocktail in hand at our Sunday Farmers Market from 9:00am-1:00pm.  Stick around to join us for all day brunch and live music at 11:00am.\n\nStaying for the music?  Feel free to bring a lawn chair or picnic blanket to kick back and relax.
URL:https://knowltonhouse.com/event/farmers-market-23/
LOCATION:Knowlton House Distillery\, 204575 County Rd DB\, Mosinee\, WI\, 54455\, United States
CATEGORIES:Seasonal Market
ATTACH;FMTTYPE=image/jpeg:https://knowltonhouse.com/wp-content/uploads/2025/04/Farmers-Market-Digital-Mobile-Ad-1.91-to-1.jpg
ORGANIZER;CN="Knowlton House Distillery":MAILTO:info@knowltonhouse.com
END:VEVENT
BEGIN:VEVENT
DTSTART;TZID=America/Chicago:20250824T090000
DTEND;TZID=America/Chicago:20250824T130000
DTSTAMP:20260423T192813
CREATED:20250506T155226Z
LAST-MODIFIED:20250506T155226Z
UID:7848-1756026000-1756040400@knowltonhouse.com
SUMMARY:Farmers Market
DESCRIPTION:Make Sunday a Funday at Knowlton House.  Shop for local produce\, meats\, flowers & other goods with a cocktail in hand at our Sunday Farmers Market from 9:00am-1:00pm.  Stick around to join us for all day brunch and live music at 11:00am.\n\nStaying for the music?  Feel free to bring a lawn chair or picnic blanket to kick back and relax.
URL:https://knowltonhouse.com/event/farmers-market-24/
LOCATION:Knowlton House Distillery\, 204575 County Rd DB\, Mosinee\, WI\, 54455\, United States
CATEGORIES:Seasonal Market
ATTACH;FMTTYPE=image/jpeg:https://knowltonhouse.com/wp-content/uploads/2025/04/Farmers-Market-Digital-Mobile-Ad-1.91-to-1.jpg
ORGANIZER;CN="Knowlton House Distillery":MAILTO:info@knowltonhouse.com
END:VEVENT
BEGIN:VEVENT
DTSTART;TZID=America/Chicago:20250831T090000
DTEND;TZID=America/Chicago:20250831T130000
DTSTAMP:20260423T192813
CREATED:20250506T155312Z
LAST-MODIFIED:20250506T155312Z
UID:7850-1756630800-1756645200@knowltonhouse.com
SUMMARY:Farmers Market
DESCRIPTION:Make Sunday a Funday at Knowlton House.  Shop for local produce\, meats\, flowers & other goods with a cocktail in hand at our Sunday Farmers Market from 9:00am-1:00pm.  Stick around to join us for all day brunch and live music at 11:00am.\n\nStaying for the music?  Feel free to bring a lawn chair or picnic blanket to kick back and relax.
URL:https://knowltonhouse.com/event/farmers-market-25/
LOCATION:Knowlton House Distillery\, 204575 County Rd DB\, Mosinee\, WI\, 54455\, United States
CATEGORIES:Seasonal Market
ATTACH;FMTTYPE=image/jpeg:https://knowltonhouse.com/wp-content/uploads/2025/04/Farmers-Market-Digital-Mobile-Ad-1.91-to-1.jpg
ORGANIZER;CN="Knowlton House Distillery":MAILTO:info@knowltonhouse.com
END:VEVENT
END:VCALENDAR