BEGIN:VCALENDAR
VERSION:2.0
PRODID:-//Knowlton House Distillery - ECPv6.15.17.1//NONSGML v1.0//EN
CALSCALE:GREGORIAN
METHOD:PUBLISH
X-ORIGINAL-URL:https://knowltonhouse.com
X-WR-CALDESC:Events for Knowlton House Distillery
REFRESH-INTERVAL;VALUE=DURATION:PT1H
X-Robots-Tag:noindex
X-PUBLISHED-TTL:PT1H
BEGIN:VTIMEZONE
TZID:America/Chicago
BEGIN:DAYLIGHT
TZOFFSETFROM:-0600
TZOFFSETTO:-0500
TZNAME:CDT
DTSTART:20240310T080000
END:DAYLIGHT
BEGIN:STANDARD
TZOFFSETFROM:-0500
TZOFFSETTO:-0600
TZNAME:CST
DTSTART:20241103T070000
END:STANDARD
BEGIN:DAYLIGHT
TZOFFSETFROM:-0600
TZOFFSETTO:-0500
TZNAME:CDT
DTSTART:20250309T080000
END:DAYLIGHT
BEGIN:STANDARD
TZOFFSETFROM:-0500
TZOFFSETTO:-0600
TZNAME:CST
DTSTART:20251102T070000
END:STANDARD
BEGIN:DAYLIGHT
TZOFFSETFROM:-0600
TZOFFSETTO:-0500
TZNAME:CDT
DTSTART:20260308T080000
END:DAYLIGHT
BEGIN:STANDARD
TZOFFSETFROM:-0500
TZOFFSETTO:-0600
TZNAME:CST
DTSTART:20261101T070000
END:STANDARD
END:VTIMEZONE
BEGIN:VEVENT
DTSTART;TZID=America/Chicago:20250907T090000
DTEND;TZID=America/Chicago:20250907T130000
DTSTAMP:20260423T175620
CREATED:20250506T155402Z
LAST-MODIFIED:20250506T155402Z
UID:7852-1757235600-1757250000@knowltonhouse.com
SUMMARY:Farmers Market
DESCRIPTION:Make Sunday a Funday at Knowlton House.  Shop for local produce\, meats\, flowers & other goods with a cocktail in hand at our Sunday Farmers Market from 9:00am-1:00pm.  Stick around to join us for all day brunch and live music at 11:00am.\n\nStaying for the music?  Feel free to bring a lawn chair or picnic blanket to kick back and relax.
URL:https://knowltonhouse.com/event/farmers-market-26/
LOCATION:Knowlton House Distillery\, 204575 County Rd DB\, Mosinee\, WI\, 54455\, United States
CATEGORIES:Seasonal Market
ATTACH;FMTTYPE=image/jpeg:https://knowltonhouse.com/wp-content/uploads/2025/04/Farmers-Market-Digital-Mobile-Ad-1.91-to-1.jpg
ORGANIZER;CN="Knowlton House Distillery":MAILTO:info@knowltonhouse.com
END:VEVENT
BEGIN:VEVENT
DTSTART;TZID=America/Chicago:20250914T090000
DTEND;TZID=America/Chicago:20250914T130000
DTSTAMP:20260423T175620
CREATED:20250506T155444Z
LAST-MODIFIED:20250506T155444Z
UID:7854-1757840400-1757854800@knowltonhouse.com
SUMMARY:Farmers Market
DESCRIPTION:Make Sunday a Funday at Knowlton House.  Shop for local produce\, meats\, flowers & other goods with a cocktail in hand at our Sunday Farmers Market from 9:00am-1:00pm.  Stick around to join us for all day brunch and live music at 11:00am.\n\nStaying for the music?  Feel free to bring a lawn chair or picnic blanket to kick back and relax.
URL:https://knowltonhouse.com/event/farmers-market-27/
LOCATION:Knowlton House Distillery\, 204575 County Rd DB\, Mosinee\, WI\, 54455\, United States
CATEGORIES:Seasonal Market
ATTACH;FMTTYPE=image/jpeg:https://knowltonhouse.com/wp-content/uploads/2025/04/Farmers-Market-Digital-Mobile-Ad-1.91-to-1.jpg
ORGANIZER;CN="Knowlton House Distillery":MAILTO:info@knowltonhouse.com
END:VEVENT
BEGIN:VEVENT
DTSTART;TZID=America/Chicago:20250921T090000
DTEND;TZID=America/Chicago:20250921T130000
DTSTAMP:20260423T175620
CREATED:20250506T155522Z
LAST-MODIFIED:20250506T155522Z
UID:7856-1758445200-1758459600@knowltonhouse.com
SUMMARY:Farmers Market
DESCRIPTION:Make Sunday a Funday at Knowlton House.  Shop for local produce\, meats\, flowers & other goods with a cocktail in hand at our Sunday Farmers Market from 9:00am-1:00pm.  Stick around to join us for all day brunch and live music at 11:00am.\n\nStaying for the music?  Feel free to bring a lawn chair or picnic blanket to kick back and relax.
URL:https://knowltonhouse.com/event/farmers-market-28/
LOCATION:Knowlton House Distillery\, 204575 County Rd DB\, Mosinee\, WI\, 54455\, United States
CATEGORIES:Seasonal Market
ATTACH;FMTTYPE=image/jpeg:https://knowltonhouse.com/wp-content/uploads/2025/04/Farmers-Market-Digital-Mobile-Ad-1.91-to-1.jpg
ORGANIZER;CN="Knowlton House Distillery":MAILTO:info@knowltonhouse.com
END:VEVENT
BEGIN:VEVENT
DTSTART;TZID=America/Chicago:20250928T090000
DTEND;TZID=America/Chicago:20250928T130000
DTSTAMP:20260423T175620
CREATED:20250506T155615Z
LAST-MODIFIED:20250506T155615Z
UID:7858-1759050000-1759064400@knowltonhouse.com
SUMMARY:Farmers Market
DESCRIPTION:Make Sunday a Funday at Knowlton House.  Shop for local produce\, meats\, flowers & other goods with a cocktail in hand at our Sunday Farmers Market from 9:00am-1:00pm.  Stick around to join us for all day brunch and live music at 11:00am.\n\nStaying for the music?  Feel free to bring a lawn chair or picnic blanket to kick back and relax.
URL:https://knowltonhouse.com/event/farmers-market-29/
LOCATION:Knowlton House Distillery\, 204575 County Rd DB\, Mosinee\, WI\, 54455\, United States
CATEGORIES:Seasonal Market
ATTACH;FMTTYPE=image/jpeg:https://knowltonhouse.com/wp-content/uploads/2025/04/Farmers-Market-Digital-Mobile-Ad-1.91-to-1.jpg
ORGANIZER;CN="Knowlton House Distillery":MAILTO:info@knowltonhouse.com
END:VEVENT
END:VCALENDAR