BEGIN:VCALENDAR
VERSION:2.0
PRODID:-//Knowlton House Distillery - ECPv6.15.17.1//NONSGML v1.0//EN
CALSCALE:GREGORIAN
METHOD:PUBLISH
X-ORIGINAL-URL:https://knowltonhouse.com
X-WR-CALDESC:Events for Knowlton House Distillery
REFRESH-INTERVAL;VALUE=DURATION:PT1H
X-Robots-Tag:noindex
X-PUBLISHED-TTL:PT1H
BEGIN:VTIMEZONE
TZID:America/Chicago
BEGIN:DAYLIGHT
TZOFFSETFROM:-0600
TZOFFSETTO:-0500
TZNAME:CDT
DTSTART:20240310T080000
END:DAYLIGHT
BEGIN:STANDARD
TZOFFSETFROM:-0500
TZOFFSETTO:-0600
TZNAME:CST
DTSTART:20241103T070000
END:STANDARD
BEGIN:DAYLIGHT
TZOFFSETFROM:-0600
TZOFFSETTO:-0500
TZNAME:CDT
DTSTART:20250309T080000
END:DAYLIGHT
BEGIN:STANDARD
TZOFFSETFROM:-0500
TZOFFSETTO:-0600
TZNAME:CST
DTSTART:20251102T070000
END:STANDARD
BEGIN:DAYLIGHT
TZOFFSETFROM:-0600
TZOFFSETTO:-0500
TZNAME:CDT
DTSTART:20260308T080000
END:DAYLIGHT
BEGIN:STANDARD
TZOFFSETFROM:-0500
TZOFFSETTO:-0600
TZNAME:CST
DTSTART:20261101T070000
END:STANDARD
END:VTIMEZONE
BEGIN:VEVENT
DTSTART;VALUE=DATE:20251128
DTEND;VALUE=DATE:20251221
DTSTAMP:20260423T130919
CREATED:20251029T144658Z
LAST-MODIFIED:20251029T162521Z
UID:8994-1764288000-1766275199@knowltonhouse.com
SUMMARY:Tipsy Tree Market: Fresh Cut\, Local Christmas Trees
DESCRIPTION:Kick off the holiday season at Knowlton House Distillery’s Tipsy Tree Market\, featuring fresh-cut local Christmas trees from Swan’s Christmas Tree Farm of Mosinee! \n\n\nVisit us on Saturdays and Sundays to pick out your perfect tree with the help of Swan’s friendly staff — or stop by any day of the week to grab one on your own. Simply pay by Cash or PayPal\, load up your tree\, and take home a piece of Wisconsin holiday tradition. \n\n\nAfter finding your tree\, head inside the distillery for a cozy cocktail or a bite from our kitchen to warm up and get into the festive spirit. \n\n\nCelebrate local\, sip local\, and make your season bright at the Tipsy Tree Market — where holiday cheer and handcrafted spirits meet! \n 
URL:https://knowltonhouse.com/event/christmas_tree_market/
LOCATION:Knowlton House Distillery\, 204575 County Rd DB\, Mosinee\, WI\, 54455\, United States
CATEGORIES:Seasonal Market
ATTACH;FMTTYPE=image/jpeg:https://knowltonhouse.com/wp-content/uploads/2025/10/Tipsy-Tree-Market-e1761748702338.jpg
ORGANIZER;CN="Knowlton House Distillery":MAILTO:info@knowltonhouse.com
END:VEVENT
BEGIN:VEVENT
DTSTART;TZID=America/Chicago:20251206T120000
DTEND;TZID=America/Chicago:20251206T170000
DTSTAMP:20260423T130919
CREATED:20251103T215224Z
LAST-MODIFIED:20251105T191134Z
UID:9036-1765022400-1765040400@knowltonhouse.com
SUMMARY:Craft & Cocktail Holiday Makers Market
DESCRIPTION:Date: Saturday\, December 6\n\nTime: 12:00 PM – 5:00 PM\n\nCelebrate the season with us at our Craft & Cocktail Holiday Makers Market — where local craftsmanship meets handcrafted cocktails.\n\nShop an inspired selection of locally made goods\, from home décor and pottery to jewelry\, candles\, leather goods\, and more. Meet the makers behind the magic and find one-of-a-kind gifts that make holiday shopping feel joyful (and local!).\n\nEnjoy live music while you sip on a seasonal craft cocktail. Make a day of it — grab a bite from our scratch kitchen\, pick out the perfect Christmas tree from our Tipsy Tree Market\, and browse our bottle shop for boozy gifts that’ll keep spirits bright all season long.\n\nJoin us for a cozy\, festive afternoon of shopping small\, sipping local\, and celebrating the holidays in true craft style.\n\nNo ticket necessary.
URL:https://knowltonhouse.com/event/craft-cocktail-holiday-makers-market/
LOCATION:Knowlton House Distillery\, 204575 County Rd DB\, Mosinee\, WI\, 54455\, United States
CATEGORIES:Seasonal Market
ATTACH;FMTTYPE=image/jpeg:https://knowltonhouse.com/wp-content/uploads/2025/11/Holiday-Makers-Market.jpg
ORGANIZER;CN="Knowlton House Distillery":MAILTO:info@knowltonhouse.com
END:VEVENT
END:VCALENDAR