BEGIN:VCALENDAR
VERSION:2.0
PRODID:-//Knowlton House Distillery - ECPv6.15.17.1//NONSGML v1.0//EN
CALSCALE:GREGORIAN
METHOD:PUBLISH
X-WR-CALNAME:Knowlton House Distillery
X-ORIGINAL-URL:https://knowltonhouse.com
X-WR-CALDESC:Events for Knowlton House Distillery
REFRESH-INTERVAL;VALUE=DURATION:PT1H
X-Robots-Tag:noindex
X-PUBLISHED-TTL:PT1H
BEGIN:VTIMEZONE
TZID:America/Chicago
BEGIN:DAYLIGHT
TZOFFSETFROM:-0600
TZOFFSETTO:-0500
TZNAME:CDT
DTSTART:20250309T080000
END:DAYLIGHT
BEGIN:STANDARD
TZOFFSETFROM:-0500
TZOFFSETTO:-0600
TZNAME:CST
DTSTART:20251102T070000
END:STANDARD
BEGIN:DAYLIGHT
TZOFFSETFROM:-0600
TZOFFSETTO:-0500
TZNAME:CDT
DTSTART:20260308T080000
END:DAYLIGHT
BEGIN:STANDARD
TZOFFSETFROM:-0500
TZOFFSETTO:-0600
TZNAME:CST
DTSTART:20261101T070000
END:STANDARD
BEGIN:DAYLIGHT
TZOFFSETFROM:-0600
TZOFFSETTO:-0500
TZNAME:CDT
DTSTART:20270314T080000
END:DAYLIGHT
BEGIN:STANDARD
TZOFFSETFROM:-0500
TZOFFSETTO:-0600
TZNAME:CST
DTSTART:20271107T070000
END:STANDARD
END:VTIMEZONE
BEGIN:VEVENT
DTSTART;TZID=America/Chicago:20260802T090000
DTEND;TZID=America/Chicago:20260802T130000
DTSTAMP:20260423T113558
CREATED:20260327T172706Z
LAST-MODIFIED:20260327T173005Z
UID:10075-1785661200-1785675600@knowltonhouse.com
SUMMARY:Farmers Market
DESCRIPTION:Make Sunday a Funday at Knowlton House Distillery’s Sunday Farmers Market in Mosinee\, Wisconsin. Join us from 9:00am–1:00pm to shop a curated selection of local produce\, fresh meats\, flowers\, and artisan goods – all while enjoying a craft cocktail from the distillery. \nTurn your morning into a full experience with all-day brunch starting at 9:00am and live music from 11:00am–2:00pm. Bring your friends. Heck\, bring your dog (our patio is pet-friendly). Knowlton House is your go-to destination for a lively Sunday in Central Wisconsin. \nPlanning to stay for the music? Bring a lawn chair or picnic blanket and settle in for a laid-back afternoon of great drinks\, good food\, and live entertainment.
URL:https://knowltonhouse.com/event/farmers-market-32/
LOCATION:Knowlton House Distillery\, 204575 County Rd DB\, Mosinee\, WI\, 54455\, United States
CATEGORIES:Seasonal Market
ATTACH;FMTTYPE=image/jpeg:https://knowltonhouse.com/wp-content/uploads/2025/04/Farmers-Market-Digital-Mobile-Ad-1.91-to-1.jpg
ORGANIZER;CN="Knowlton House Distillery":MAILTO:info@knowltonhouse.com
END:VEVENT
BEGIN:VEVENT
DTSTART;TZID=America/Chicago:20260809T090000
DTEND;TZID=America/Chicago:20260809T130000
DTSTAMP:20260423T113558
CREATED:20260327T180732Z
LAST-MODIFIED:20260327T180732Z
UID:10081-1786266000-1786280400@knowltonhouse.com
SUMMARY:Farmers Market
DESCRIPTION:Make Sunday a Funday at Knowlton House Distillery’s Sunday Farmers Market in Mosinee\, Wisconsin. Join us from 9:00am–1:00pm to shop a curated selection of local produce\, fresh meats\, flowers\, and artisan goods – all while enjoying a craft cocktail from the distillery. \nTurn your morning into a full experience with all-day brunch starting at 9:00am and live music from 11:00am–2:00pm. Bring your friends. Heck\, bring your dog (our patio is pet-friendly). Knowlton House is your go-to destination for a lively Sunday in Central Wisconsin. \nPlanning to stay for the music? Bring a lawn chair or picnic blanket and settle in for a laid-back afternoon of great drinks\, good food\, and live entertainment.
URL:https://knowltonhouse.com/event/farmers-market-35/
LOCATION:Knowlton House Distillery\, 204575 County Rd DB\, Mosinee\, WI\, 54455\, United States
CATEGORIES:Seasonal Market
ATTACH;FMTTYPE=image/jpeg:https://knowltonhouse.com/wp-content/uploads/2025/04/Farmers-Market-Digital-Mobile-Ad-1.91-to-1.jpg
ORGANIZER;CN="Knowlton House Distillery":MAILTO:info@knowltonhouse.com
END:VEVENT
BEGIN:VEVENT
DTSTART;TZID=America/Chicago:20260816T090000
DTEND;TZID=America/Chicago:20260816T130000
DTSTAMP:20260423T113558
CREATED:20260327T180912Z
LAST-MODIFIED:20260327T180912Z
UID:10083-1786870800-1786885200@knowltonhouse.com
SUMMARY:Farmers Market
DESCRIPTION:Make Sunday a Funday at Knowlton House Distillery’s Sunday Farmers Market in Mosinee\, Wisconsin. Join us from 9:00am–1:00pm to shop a curated selection of local produce\, fresh meats\, flowers\, and artisan goods – all while enjoying a craft cocktail from the distillery. \nTurn your morning into a full experience with all-day brunch starting at 9:00am and live music from 11:00am–2:00pm. Bring your friends. Heck\, bring your dog (our patio is pet-friendly). Knowlton House is your go-to destination for a lively Sunday in Central Wisconsin. \nPlanning to stay for the music? Bring a lawn chair or picnic blanket and settle in for a laid-back afternoon of great drinks\, good food\, and live entertainment.
URL:https://knowltonhouse.com/event/farmers-market-36/
LOCATION:Knowlton House Distillery\, 204575 County Rd DB\, Mosinee\, WI\, 54455\, United States
CATEGORIES:Seasonal Market
ATTACH;FMTTYPE=image/jpeg:https://knowltonhouse.com/wp-content/uploads/2025/04/Farmers-Market-Digital-Mobile-Ad-1.91-to-1.jpg
ORGANIZER;CN="Knowlton House Distillery":MAILTO:info@knowltonhouse.com
END:VEVENT
BEGIN:VEVENT
DTSTART;TZID=America/Chicago:20260823T090000
DTEND;TZID=America/Chicago:20260823T130000
DTSTAMP:20260423T113558
CREATED:20260327T181027Z
LAST-MODIFIED:20260327T181027Z
UID:10085-1787475600-1787490000@knowltonhouse.com
SUMMARY:Farmers Market
DESCRIPTION:Make Sunday a Funday at Knowlton House Distillery’s Sunday Farmers Market in Mosinee\, Wisconsin. Join us from 9:00am–1:00pm to shop a curated selection of local produce\, fresh meats\, flowers\, and artisan goods – all while enjoying a craft cocktail from the distillery. \nTurn your morning into a full experience with all-day brunch starting at 9:00am and live music from 11:00am–2:00pm. Bring your friends. Heck\, bring your dog (our patio is pet-friendly). Knowlton House is your go-to destination for a lively Sunday in Central Wisconsin. \nPlanning to stay for the music? Bring a lawn chair or picnic blanket and settle in for a laid-back afternoon of great drinks\, good food\, and live entertainment.
URL:https://knowltonhouse.com/event/farmers-market-37/
LOCATION:Knowlton House Distillery\, 204575 County Rd DB\, Mosinee\, WI\, 54455\, United States
CATEGORIES:Seasonal Market
ATTACH;FMTTYPE=image/jpeg:https://knowltonhouse.com/wp-content/uploads/2025/04/Farmers-Market-Digital-Mobile-Ad-1.91-to-1.jpg
ORGANIZER;CN="Knowlton House Distillery":MAILTO:info@knowltonhouse.com
END:VEVENT
BEGIN:VEVENT
DTSTART;TZID=America/Chicago:20260830T090000
DTEND;TZID=America/Chicago:20260830T130000
DTSTAMP:20260423T113558
CREATED:20260327T181127Z
LAST-MODIFIED:20260327T181127Z
UID:10087-1788080400-1788094800@knowltonhouse.com
SUMMARY:Farmers Market
DESCRIPTION:Make Sunday a Funday at Knowlton House Distillery’s Sunday Farmers Market in Mosinee\, Wisconsin. Join us from 9:00am–1:00pm to shop a curated selection of local produce\, fresh meats\, flowers\, and artisan goods – all while enjoying a craft cocktail from the distillery. \nTurn your morning into a full experience with all-day brunch starting at 9:00am and live music from 11:00am–2:00pm. Bring your friends. Heck\, bring your dog (our patio is pet-friendly). Knowlton House is your go-to destination for a lively Sunday in Central Wisconsin. \nPlanning to stay for the music? Bring a lawn chair or picnic blanket and settle in for a laid-back afternoon of great drinks\, good food\, and live entertainment.
URL:https://knowltonhouse.com/event/farmers-market-38/
LOCATION:Knowlton House Distillery\, 204575 County Rd DB\, Mosinee\, WI\, 54455\, United States
CATEGORIES:Seasonal Market
ATTACH;FMTTYPE=image/jpeg:https://knowltonhouse.com/wp-content/uploads/2025/04/Farmers-Market-Digital-Mobile-Ad-1.91-to-1.jpg
ORGANIZER;CN="Knowlton House Distillery":MAILTO:info@knowltonhouse.com
END:VEVENT
END:VCALENDAR