BEGIN:VCALENDAR
VERSION:2.0
PRODID:-//Knowlton House Distillery - ECPv6.15.17.1//NONSGML v1.0//EN
CALSCALE:GREGORIAN
METHOD:PUBLISH
X-ORIGINAL-URL:https://knowltonhouse.com
X-WR-CALDESC:Events for Knowlton House Distillery
REFRESH-INTERVAL;VALUE=DURATION:PT1H
X-Robots-Tag:noindex
X-PUBLISHED-TTL:PT1H
BEGIN:VTIMEZONE
TZID:America/Chicago
BEGIN:DAYLIGHT
TZOFFSETFROM:-0600
TZOFFSETTO:-0500
TZNAME:CDT
DTSTART:20240310T080000
END:DAYLIGHT
BEGIN:STANDARD
TZOFFSETFROM:-0500
TZOFFSETTO:-0600
TZNAME:CST
DTSTART:20241103T070000
END:STANDARD
BEGIN:DAYLIGHT
TZOFFSETFROM:-0600
TZOFFSETTO:-0500
TZNAME:CDT
DTSTART:20250309T080000
END:DAYLIGHT
BEGIN:STANDARD
TZOFFSETFROM:-0500
TZOFFSETTO:-0600
TZNAME:CST
DTSTART:20251102T070000
END:STANDARD
BEGIN:DAYLIGHT
TZOFFSETFROM:-0600
TZOFFSETTO:-0500
TZNAME:CDT
DTSTART:20260308T080000
END:DAYLIGHT
BEGIN:STANDARD
TZOFFSETFROM:-0500
TZOFFSETTO:-0600
TZNAME:CST
DTSTART:20261101T070000
END:STANDARD
END:VTIMEZONE
BEGIN:VEVENT
DTSTART;TZID=America/Chicago:20250905T173000
DTEND;TZID=America/Chicago:20250905T183000
DTSTAMP:20260423T064710
CREATED:20250729T190940Z
LAST-MODIFIED:20250729T191228Z
UID:8256-1757093400-1757097000@knowltonhouse.com
SUMMARY:Classic Distillery Tour & Tasting - 5:30pm
DESCRIPTION:Get a behind the scenes peak at how our spirits are crafted as we take you through the history\, ingredients\, and process that goes into distilling each bottle of our award-winning TenHead spirits.\n\nTour includes a guided tasting.\n\nDuration: 60 minutes
URL:https://knowltonhouse.com/event/classic-distillery-tour-tasting-530pm-73/
LOCATION:Knowlton House Distillery\, 204575 County Rd DB\, Mosinee\, WI\, 54455\, United States
CATEGORIES:Distillery Tours
ORGANIZER;CN="Knowlton House Distillery":MAILTO:info@knowltonhouse.com
END:VEVENT
BEGIN:VEVENT
DTSTART;TZID=America/Chicago:20250905T190000
DTEND;TZID=America/Chicago:20250905T200000
DTSTAMP:20260423T064710
CREATED:20250729T190516Z
LAST-MODIFIED:20250729T190516Z
UID:8258-1757098800-1757102400@knowltonhouse.com
SUMMARY:Classic Distillery Tour & Tasting - 7:00pm
DESCRIPTION:Get a behind the scenes peak at how our spirits are crafted as we take you through the history\, ingredients\, and process that goes into distilling each bottle of our award-winning TenHead spirits.\n\nTour includes a guided tasting.\n\nDuration: 60 minutes
URL:https://knowltonhouse.com/event/classic-distillery-tour-tasting-700pm-33/
LOCATION:Knowlton House Distillery\, 204575 County Rd DB\, Mosinee\, WI\, 54455\, United States
CATEGORIES:Distillery Tours
ORGANIZER;CN="Knowlton House Distillery":MAILTO:info@knowltonhouse.com
END:VEVENT
BEGIN:VEVENT
DTSTART;TZID=America/Chicago:20250907T090000
DTEND;TZID=America/Chicago:20250907T130000
DTSTAMP:20260423T064710
CREATED:20250506T155402Z
LAST-MODIFIED:20250506T155402Z
UID:7852-1757235600-1757250000@knowltonhouse.com
SUMMARY:Farmers Market
DESCRIPTION:Make Sunday a Funday at Knowlton House.  Shop for local produce\, meats\, flowers & other goods with a cocktail in hand at our Sunday Farmers Market from 9:00am-1:00pm.  Stick around to join us for all day brunch and live music at 11:00am.\n\nStaying for the music?  Feel free to bring a lawn chair or picnic blanket to kick back and relax.
URL:https://knowltonhouse.com/event/farmers-market-26/
LOCATION:Knowlton House Distillery\, 204575 County Rd DB\, Mosinee\, WI\, 54455\, United States
CATEGORIES:Seasonal Market
ATTACH;FMTTYPE=image/jpeg:https://knowltonhouse.com/wp-content/uploads/2025/04/Farmers-Market-Digital-Mobile-Ad-1.91-to-1.jpg
ORGANIZER;CN="Knowlton House Distillery":MAILTO:info@knowltonhouse.com
END:VEVENT
BEGIN:VEVENT
DTSTART;TZID=America/Chicago:20250907T100000
DTEND;TZID=America/Chicago:20250907T130000
DTSTAMP:20260423T064710
CREATED:20250729T193158Z
LAST-MODIFIED:20250729T193537Z
UID:8262-1757239200-1757250000@knowltonhouse.com
SUMMARY:Live Music: Dustin Lee
DESCRIPTION:Enjoy Sunday Funday live music with local favorite DUSTIN LEE. From rock to country to everything in between\, Dustin covers a variety of genres that will be giving you all the Sunday fun vibes.\n\nLive music on the Distillery’s southern lawn and pet-friendly patio.  Feel free to bring folding chairs or picnic blanket.  All-day brunch available starting at 9:00am.  Farmers Market runs 9:00am-1:00pm.\n\n \n\n 
URL:https://knowltonhouse.com/event/live-music-dustin-lee/
LOCATION:Knowlton House Distillery\, 204575 County Rd DB\, Mosinee\, WI\, 54455\, United States
CATEGORIES:Live Music
ATTACH;FMTTYPE=image/jpeg:https://knowltonhouse.com/wp-content/uploads/2025/07/Dustin-Lee-e1753817689909.jpg
ORGANIZER;CN="Knowlton House Distillery":MAILTO:info@knowltonhouse.com
END:VEVENT
BEGIN:VEVENT
DTSTART;TZID=America/Chicago:20250912T173000
DTEND;TZID=America/Chicago:20250912T183000
DTSTAMP:20260423T064710
CREATED:20250801T202725Z
LAST-MODIFIED:20250801T202725Z
UID:8272-1757698200-1757701800@knowltonhouse.com
SUMMARY:Classic Distillery Tour & Tasting - 5:30pm
DESCRIPTION:Get a behind the scenes peak at how our spirits are crafted as we take you through the history\, ingredients\, and process that goes into distilling each bottle of our award-winning TenHead spirits.\n\nTour includes a guided tasting.\n\nDuration: 60 minutes
URL:https://knowltonhouse.com/event/classic-distillery-tour-tasting-530pm-77/
LOCATION:Knowlton House Distillery\, 204575 County Rd DB\, Mosinee\, WI\, 54455\, United States
CATEGORIES:Distillery Tours
ORGANIZER;CN="Knowlton House Distillery":MAILTO:info@knowltonhouse.com
END:VEVENT
BEGIN:VEVENT
DTSTART;TZID=America/Chicago:20250912T190000
DTEND;TZID=America/Chicago:20250912T200000
DTSTAMP:20260423T064710
CREATED:20250801T203035Z
LAST-MODIFIED:20250801T203035Z
UID:8274-1757703600-1757707200@knowltonhouse.com
SUMMARY:Classic Distillery Tour & Tasting - 7:00pm
DESCRIPTION:Get a behind the scenes peak at how our spirits are crafted as we take you through the history\, ingredients\, and process that goes into distilling each bottle of our award-winning TenHead spirits.\n\nTour includes a guided tasting.\n\nDuration: 60 minutes
URL:https://knowltonhouse.com/event/classic-distillery-tour-tasting-700pm-38/
LOCATION:Knowlton House Distillery\, 204575 County Rd DB\, Mosinee\, WI\, 54455\, United States
CATEGORIES:Distillery Tours
ORGANIZER;CN="Knowlton House Distillery":MAILTO:info@knowltonhouse.com
END:VEVENT
BEGIN:VEVENT
DTSTART;TZID=America/Chicago:20250913T130000
DTEND;TZID=America/Chicago:20250913T140000
DTSTAMP:20260423T064710
CREATED:20250801T203503Z
LAST-MODIFIED:20250801T203503Z
UID:8276-1757768400-1757772000@knowltonhouse.com
SUMMARY:Classic Distillery Tour & Tasting - 1:00pm
DESCRIPTION:Get a behind the scenes peak at how our spirits are crafted as we take you through the history\, ingredients\, and process that goes into distilling each bottle of our award-winning TenHead spirits.\n\nTour includes a guided tasting.\n\nDuration: 60 minutes
URL:https://knowltonhouse.com/event/classic-distillery-tour-tasting-100pm-37/
LOCATION:Knowlton House Distillery\, 204575 County Rd DB\, Mosinee\, WI\, 54455\, United States
CATEGORIES:Distillery Tours
ORGANIZER;CN="Knowlton House Distillery":MAILTO:info@knowltonhouse.com
END:VEVENT
BEGIN:VEVENT
DTSTART;TZID=America/Chicago:20250913T143000
DTEND;TZID=America/Chicago:20250913T153000
DTSTAMP:20260423T064710
CREATED:20250801T203632Z
LAST-MODIFIED:20250801T203632Z
UID:8278-1757773800-1757777400@knowltonhouse.com
SUMMARY:Classic Distillery Tour & Tasting - 2:30pm
DESCRIPTION:Get a behind the scenes peak at how our spirits are crafted as we take you through the history\, ingredients\, and process that goes into distilling each bottle of our award-winning TenHead spirits.\n\nTour includes a guided tasting.\n\nDuration: 60 minutes
URL:https://knowltonhouse.com/event/classic-distillery-tour-tasting-230pm-49/
LOCATION:Knowlton House Distillery\, 204575 County Rd DB\, Mosinee\, WI\, 54455\, United States
CATEGORIES:Distillery Tours
ORGANIZER;CN="Knowlton House Distillery":MAILTO:info@knowltonhouse.com
END:VEVENT
BEGIN:VEVENT
DTSTART;TZID=America/Chicago:20250913T160000
DTEND;TZID=America/Chicago:20250913T170000
DTSTAMP:20260423T064710
CREATED:20250801T203803Z
LAST-MODIFIED:20250801T203803Z
UID:8280-1757779200-1757782800@knowltonhouse.com
SUMMARY:Classic Distillery Tour & Tasting - 4:00pm
DESCRIPTION:Get a behind the scenes peak at how our spirits are crafted as we take you through the history\, ingredients\, and process that goes into distilling each bottle of our award-winning TenHead spirits.\n\nTour includes a guided tasting.\n\nDuration: 60 minutes
URL:https://knowltonhouse.com/event/classic-distillery-tour-tasting-400pm-65/
LOCATION:Knowlton House Distillery\, 204575 County Rd DB\, Mosinee\, WI\, 54455\, United States
CATEGORIES:Distillery Tours
ORGANIZER;CN="Knowlton House Distillery":MAILTO:info@knowltonhouse.com
END:VEVENT
BEGIN:VEVENT
DTSTART;TZID=America/Chicago:20250914T090000
DTEND;TZID=America/Chicago:20250914T130000
DTSTAMP:20260423T064710
CREATED:20250506T155444Z
LAST-MODIFIED:20250506T155444Z
UID:7854-1757840400-1757854800@knowltonhouse.com
SUMMARY:Farmers Market
DESCRIPTION:Make Sunday a Funday at Knowlton House.  Shop for local produce\, meats\, flowers & other goods with a cocktail in hand at our Sunday Farmers Market from 9:00am-1:00pm.  Stick around to join us for all day brunch and live music at 11:00am.\n\nStaying for the music?  Feel free to bring a lawn chair or picnic blanket to kick back and relax.
URL:https://knowltonhouse.com/event/farmers-market-27/
LOCATION:Knowlton House Distillery\, 204575 County Rd DB\, Mosinee\, WI\, 54455\, United States
CATEGORIES:Seasonal Market
ATTACH;FMTTYPE=image/jpeg:https://knowltonhouse.com/wp-content/uploads/2025/04/Farmers-Market-Digital-Mobile-Ad-1.91-to-1.jpg
ORGANIZER;CN="Knowlton House Distillery":MAILTO:info@knowltonhouse.com
END:VEVENT
BEGIN:VEVENT
DTSTART;TZID=America/Chicago:20250914T110000
DTEND;TZID=America/Chicago:20250914T140000
DTSTAMP:20260423T064710
CREATED:20250729T194140Z
LAST-MODIFIED:20250729T194532Z
UID:8265-1757847600-1757858400@knowltonhouse.com
SUMMARY:LIVE MUSIC: BRADLEY SPERGER
DESCRIPTION:Enjoy Sunday Funday as local multi-instrumentalist BRADLEY SPERGER builds songs live & jams out.\n\nMusic on the Distillery’s southern lawn and pet-friendly patio.  Feel free to bring folding chairs or picnic blanket.  All-day brunch available starting at 9:00am.  Farmers Market runs 9:00am-1:00pm.
URL:https://knowltonhouse.com/event/live-music-bradley-sperger-4/
LOCATION:Knowlton House Distillery\, 204575 County Rd DB\, Mosinee\, WI\, 54455\, United States
CATEGORIES:Live Music
ATTACH;FMTTYPE=image/jpeg:https://knowltonhouse.com/wp-content/uploads/2025/05/bradley-sperger-music-e1746549260661.jpg
ORGANIZER;CN="Knowlton House Distillery":MAILTO:info@knowltonhouse.com
END:VEVENT
BEGIN:VEVENT
DTSTART;TZID=America/Chicago:20250919T173000
DTEND;TZID=America/Chicago:20250919T183000
DTSTAMP:20260423T064710
CREATED:20250801T202855Z
LAST-MODIFIED:20250801T202855Z
UID:8283-1758303000-1758306600@knowltonhouse.com
SUMMARY:Classic Distillery Tour & Tasting - 5:30pm
DESCRIPTION:Get a behind the scenes peak at how our spirits are crafted as we take you through the history\, ingredients\, and process that goes into distilling each bottle of our award-winning TenHead spirits.\n\nTour includes a guided tasting.\n\nDuration: 60 minutes
URL:https://knowltonhouse.com/event/classic-distillery-tour-tasting-530pm-90/
LOCATION:Knowlton House Distillery\, 204575 County Rd DB\, Mosinee\, WI\, 54455\, United States
CATEGORIES:Distillery Tours
ORGANIZER;CN="Knowlton House Distillery":MAILTO:info@knowltonhouse.com
END:VEVENT
BEGIN:VEVENT
DTSTART;TZID=America/Chicago:20250919T190000
DTEND;TZID=America/Chicago:20250919T200000
DTSTAMP:20260423T064710
CREATED:20250801T203206Z
LAST-MODIFIED:20250801T203206Z
UID:8287-1758308400-1758312000@knowltonhouse.com
SUMMARY:Classic Distillery Tour & Tasting - 7:00pm
DESCRIPTION:Get a behind the scenes peak at how our spirits are crafted as we take you through the history\, ingredients\, and process that goes into distilling each bottle of our award-winning TenHead spirits.\n\nTour includes a guided tasting.\n\nDuration: 60 minutes
URL:https://knowltonhouse.com/event/classic-distillery-tour-tasting-700pm-39/
LOCATION:Knowlton House Distillery\, 204575 County Rd DB\, Mosinee\, WI\, 54455\, United States
CATEGORIES:Distillery Tours
ORGANIZER;CN="Knowlton House Distillery":MAILTO:info@knowltonhouse.com
END:VEVENT
BEGIN:VEVENT
DTSTART;TZID=America/Chicago:20250921T090000
DTEND;TZID=America/Chicago:20250921T130000
DTSTAMP:20260423T064710
CREATED:20250506T155522Z
LAST-MODIFIED:20250506T155522Z
UID:7856-1758445200-1758459600@knowltonhouse.com
SUMMARY:Farmers Market
DESCRIPTION:Make Sunday a Funday at Knowlton House.  Shop for local produce\, meats\, flowers & other goods with a cocktail in hand at our Sunday Farmers Market from 9:00am-1:00pm.  Stick around to join us for all day brunch and live music at 11:00am.\n\nStaying for the music?  Feel free to bring a lawn chair or picnic blanket to kick back and relax.
URL:https://knowltonhouse.com/event/farmers-market-28/
LOCATION:Knowlton House Distillery\, 204575 County Rd DB\, Mosinee\, WI\, 54455\, United States
CATEGORIES:Seasonal Market
ATTACH;FMTTYPE=image/jpeg:https://knowltonhouse.com/wp-content/uploads/2025/04/Farmers-Market-Digital-Mobile-Ad-1.91-to-1.jpg
ORGANIZER;CN="Knowlton House Distillery":MAILTO:info@knowltonhouse.com
END:VEVENT
BEGIN:VEVENT
DTSTART;TZID=America/Chicago:20250921T110000
DTEND;TZID=America/Chicago:20250921T140000
DTSTAMP:20260423T064710
CREATED:20250801T204151Z
LAST-MODIFIED:20250801T204151Z
UID:8293-1758452400-1758463200@knowltonhouse.com
SUMMARY:LIVE MUSIC: JORDAN BAIN
DESCRIPTION:Enjoy Sunday Funday at the distillery with live music\, brunch & a Bloody Mary.  Kick back on with music from local artist JORDAN BAIN as he plays a fun mix of Indie\, Classic Rock\, Country & originals.\n\nLive music on the Distillery’s southern lawn and pet-friendly patio.  Feel free to bring folding chairs or picnic blanket.  All-day brunch available starting at 9:00am.  Farmers Market runs 9:00am-1:00pm.\n\n \n\n \n\n 
URL:https://knowltonhouse.com/event/live-music-jordan-bain-2/
LOCATION:Knowlton House Distillery\, 204575 County Rd DB\, Mosinee\, WI\, 54455\, United States
CATEGORIES:Live Music
ATTACH;FMTTYPE=image/jpeg:https://knowltonhouse.com/wp-content/uploads/2025/04/Jordan-Bain-Musician.jpg
ORGANIZER;CN="Knowlton House Distillery":MAILTO:info@knowltonhouse.com
END:VEVENT
BEGIN:VEVENT
DTSTART;TZID=America/Chicago:20250928T090000
DTEND;TZID=America/Chicago:20250928T130000
DTSTAMP:20260423T064710
CREATED:20250506T155615Z
LAST-MODIFIED:20250506T155615Z
UID:7858-1759050000-1759064400@knowltonhouse.com
SUMMARY:Farmers Market
DESCRIPTION:Make Sunday a Funday at Knowlton House.  Shop for local produce\, meats\, flowers & other goods with a cocktail in hand at our Sunday Farmers Market from 9:00am-1:00pm.  Stick around to join us for all day brunch and live music at 11:00am.\n\nStaying for the music?  Feel free to bring a lawn chair or picnic blanket to kick back and relax.
URL:https://knowltonhouse.com/event/farmers-market-29/
LOCATION:Knowlton House Distillery\, 204575 County Rd DB\, Mosinee\, WI\, 54455\, United States
CATEGORIES:Seasonal Market
ATTACH;FMTTYPE=image/jpeg:https://knowltonhouse.com/wp-content/uploads/2025/04/Farmers-Market-Digital-Mobile-Ad-1.91-to-1.jpg
ORGANIZER;CN="Knowlton House Distillery":MAILTO:info@knowltonhouse.com
END:VEVENT
BEGIN:VEVENT
DTSTART;TZID=America/Chicago:20250928T110000
DTEND;TZID=America/Chicago:20250928T140000
DTSTAMP:20260423T064710
CREATED:20250811T182557Z
LAST-MODIFIED:20250811T182557Z
UID:8340-1759057200-1759068000@knowltonhouse.com
SUMMARY:LIVE MUSIC: BRYCE TOMASCHEFSKY
DESCRIPTION:Enjoy Sunday Funday at the distillery with live music\, brunch & a Bloody Mary.  Kick back on with music from local singer-songwriter BRYCE TOMASCHEFSKY as he plays a blend of Country\, Folk and Americana music amplified with his own special twist.\n\nLive music on the Distillery’s southern lawn and pet-friendly patio.  Feel free to bring folding chairs or picnic blanket.  All-day brunch available starting at 9:00am.  Farmers Market runs 9:00am-1:00pm.\n\n \n\n \n\n 
URL:https://knowltonhouse.com/event/live-music-bryce-tomaschefsky/
LOCATION:Knowlton House Distillery\, 204575 County Rd DB\, Mosinee\, WI\, 54455\, United States
CATEGORIES:Live Music
ATTACH;FMTTYPE=image/jpeg:https://knowltonhouse.com/wp-content/uploads/2025/08/24sDaIOZgLdQtjgK4q2BwaSdHZYY4FSjvY3VEdsj.jpg
ORGANIZER;CN="Knowlton House Distillery":MAILTO:info@knowltonhouse.com
END:VEVENT
BEGIN:VEVENT
DTSTART;TZID=America/Chicago:20251004T130000
DTEND;TZID=America/Chicago:20251004T140000
DTSTAMP:20260423T064710
CREATED:20250904T145921Z
LAST-MODIFIED:20250904T145921Z
UID:8422-1759582800-1759586400@knowltonhouse.com
SUMMARY:Classic Distillery Tour & Tasting - 1:00pm
DESCRIPTION:Get a behind the scenes peak at how our spirits are crafted as we take you through the history\, ingredients\, and process that goes into distilling each bottle of our award-winning TenHead spirits.\n\nTour includes a guided tasting.\n\nDuration: 60 minutes
URL:https://knowltonhouse.com/event/classic-distillery-tour-tasting-100pm-32/
LOCATION:Knowlton House Distillery\, 204575 County Rd DB\, Mosinee\, WI\, 54455\, United States
CATEGORIES:Distillery Tours
ORGANIZER;CN="Knowlton House Distillery":MAILTO:info@knowltonhouse.com
END:VEVENT
BEGIN:VEVENT
DTSTART;TZID=America/Chicago:20251004T143000
DTEND;TZID=America/Chicago:20251004T153000
DTSTAMP:20260423T064710
CREATED:20250904T152239Z
LAST-MODIFIED:20250904T152239Z
UID:8431-1759588200-1759591800@knowltonhouse.com
SUMMARY:Classic Distillery Tour & Tasting - 2:30pm
DESCRIPTION:Get a behind the scenes peak at how our spirits are crafted as we take you through the history\, ingredients\, and process that goes into distilling each bottle of our award-winning TenHead spirits.\n\nTour includes a guided tasting.\n\nDuration: 60 minutes
URL:https://knowltonhouse.com/event/classic-distillery-tour-tasting-230pm-44/
LOCATION:Knowlton House Distillery\, 204575 County Rd DB\, Mosinee\, WI\, 54455\, United States
CATEGORIES:Distillery Tours
ORGANIZER;CN="Knowlton House Distillery":MAILTO:info@knowltonhouse.com
END:VEVENT
BEGIN:VEVENT
DTSTART;TZID=America/Chicago:20251004T160000
DTEND;TZID=America/Chicago:20251004T170000
DTSTAMP:20260423T064710
CREATED:20250904T160036Z
LAST-MODIFIED:20250904T160036Z
UID:8443-1759593600-1759597200@knowltonhouse.com
SUMMARY:Classic Distillery Tour & Tasting - 4:00pm
DESCRIPTION:Get a behind the scenes peak at how our spirits are crafted as we take you through the history\, ingredients\, and process that goes into distilling each bottle of our award-winning TenHead spirits.\n\nTour includes a guided tasting.\n\nDuration: 60 minutes
URL:https://knowltonhouse.com/event/classic-distillery-tour-tasting-400pm-54/
LOCATION:Knowlton House Distillery\, 204575 County Rd DB\, Mosinee\, WI\, 54455\, United States
CATEGORIES:Distillery Tours
ORGANIZER;CN="Knowlton House Distillery":MAILTO:info@knowltonhouse.com
END:VEVENT
BEGIN:VEVENT
DTSTART;TZID=America/Chicago:20251010T173000
DTEND;TZID=America/Chicago:20251010T183000
DTSTAMP:20260423T064710
CREATED:20250903T210353Z
LAST-MODIFIED:20250903T210353Z
UID:8403-1760117400-1760121000@knowltonhouse.com
SUMMARY:Classic Distillery Tour & Tasting - 5:30pm
DESCRIPTION:Get a behind the scenes peak at how our spirits are crafted as we take you through the history\, ingredients\, and process that goes into distilling each bottle of our award-winning TenHead spirits.\n\nTour includes a guided tasting.\n\nDuration: 60 minutes
URL:https://knowltonhouse.com/event/classic-distillery-tour-tasting-530pm-86/
LOCATION:Knowlton House Distillery\, 204575 County Rd DB\, Mosinee\, WI\, 54455\, United States
CATEGORIES:Distillery Tours
ORGANIZER;CN="Knowlton House Distillery":MAILTO:info@knowltonhouse.com
END:VEVENT
BEGIN:VEVENT
DTSTART;TZID=America/Chicago:20251010T190000
DTEND;TZID=America/Chicago:20251010T200000
DTSTAMP:20260423T064710
CREATED:20250903T212117Z
LAST-MODIFIED:20250903T212117Z
UID:8401-1760122800-1760126400@knowltonhouse.com
SUMMARY:Classic Distillery Tour & Tasting - 7:00pm
DESCRIPTION:Get a behind the scenes peak at how our spirits are crafted as we take you through the history\, ingredients\, and process that goes into distilling each bottle of our award-winning TenHead spirits.\n\nTour includes a guided tasting.\n\nDuration: 60 minutes
URL:https://knowltonhouse.com/event/classic-distillery-tour-tasting-700pm-41/
LOCATION:Knowlton House Distillery\, 204575 County Rd DB\, Mosinee\, WI\, 54455\, United States
CATEGORIES:Distillery Tours
ORGANIZER;CN="Knowlton House Distillery":MAILTO:info@knowltonhouse.com
END:VEVENT
BEGIN:VEVENT
DTSTART;TZID=America/Chicago:20251011T130000
DTEND;TZID=America/Chicago:20251011T160000
DTSTAMP:20260423T064710
CREATED:20250905T141255Z
LAST-MODIFIED:20250905T141255Z
UID:8474-1760187600-1760198400@knowltonhouse.com
SUMMARY:LIVE MUSIC: JT HORNE
DESCRIPTION:Join us for a relaxing Saturday afternoon of cocktails and live music\, featuring singer/songwriter JT HORNE.\n\nHis unorthodox voice will catch your ear and leave you craving for more\, while his songwriting provokes feelings wrapped in nostalgia. Catch the singer performing original tunes and favorite cover songs from the country\, folk\, rock\, blues\, and Americana genres.\n\n \n\n \n\n 
URL:https://knowltonhouse.com/event/live-music-jt-horne/
LOCATION:Knowlton House Distillery\, 204575 County Rd DB\, Mosinee\, WI\, 54455\, United States
CATEGORIES:Live Music
ATTACH;FMTTYPE=image/jpeg:https://knowltonhouse.com/wp-content/uploads/2025/09/JT-Horne-e1757081534817.jpg
ORGANIZER;CN="Knowlton House Distillery":MAILTO:info@knowltonhouse.com
END:VEVENT
BEGIN:VEVENT
DTSTART;TZID=America/Chicago:20251011T143000
DTEND;TZID=America/Chicago:20251011T153000
DTSTAMP:20260423T064710
CREATED:20250904T154555Z
LAST-MODIFIED:20250904T154555Z
UID:8434-1760193000-1760196600@knowltonhouse.com
SUMMARY:Classic Distillery Tour & Tasting - 2:30pm
DESCRIPTION:Get a behind the scenes peak at how our spirits are crafted as we take you through the history\, ingredients\, and process that goes into distilling each bottle of our award-winning TenHead spirits.\n\nTour includes a guided tasting.\n\nDuration: 60 minutes
URL:https://knowltonhouse.com/event/classic-distillery-tour-tasting-230pm-45/
LOCATION:Knowlton House Distillery\, 204575 County Rd DB\, Mosinee\, WI\, 54455\, United States
CATEGORIES:Distillery Tours
ORGANIZER;CN="Knowlton House Distillery":MAILTO:info@knowltonhouse.com
END:VEVENT
BEGIN:VEVENT
DTSTART;TZID=America/Chicago:20251011T160000
DTEND;TZID=America/Chicago:20251011T170000
DTSTAMP:20260423T064710
CREATED:20250904T160219Z
LAST-MODIFIED:20250904T160219Z
UID:8446-1760198400-1760202000@knowltonhouse.com
SUMMARY:Classic Distillery Tour & Tasting - 4:00pm
DESCRIPTION:Get a behind the scenes peak at how our spirits are crafted as we take you through the history\, ingredients\, and process that goes into distilling each bottle of our award-winning TenHead spirits.\n\nTour includes a guided tasting.\n\nDuration: 60 minutes
URL:https://knowltonhouse.com/event/classic-distillery-tour-tasting-400pm-61/
LOCATION:Knowlton House Distillery\, 204575 County Rd DB\, Mosinee\, WI\, 54455\, United States
CATEGORIES:Distillery Tours
ORGANIZER;CN="Knowlton House Distillery":MAILTO:info@knowltonhouse.com
END:VEVENT
BEGIN:VEVENT
DTSTART;TZID=America/Chicago:20251012T100000
DTEND;TZID=America/Chicago:20251012T110000
DTSTAMP:20260423T064710
CREATED:20250904T211331Z
LAST-MODIFIED:20251004T165700Z
UID:8468-1760263200-1760266800@knowltonhouse.com
SUMMARY:Puppy Yoga
DESCRIPTION:SOLD OUT – THERE’S MORE PUPPY YOGA ON DECEMBER 14.\n\nJoin us for a 40-minute yoga practice with puppies from Wags of Wisconsin!\nAll profits will benefit Wags of Wisconsin.  Your registration includes a 40-minute yoga practice\, one cocktail token\, a complimentary shopping coupon to our bottle shop & plenty of play time with these adorable pups.\n\nWags of Wisconsin\, Inc. is a local\, non-profit dog rescue in central Wisconsin.\n\nWe ask that you leave your own pups at home for this event.  All furry friends will be from Wags of Wisconsin! All ages & skill levels welcome.  Let’s be honest\, this is light yoga since we really just want to love on these adorable pups.\n\nDON’T FORGET YOUR YOGA MAT.  Class will take place in the distillery production space.\n\nStick around after for brunch.
URL:https://knowltonhouse.com/event/puppy-yoga-3/
LOCATION:Knowlton House Distillery\, 204575 County Rd DB\, Mosinee\, WI\, 54455\, United States
ATTACH;FMTTYPE=image/jpeg:https://knowltonhouse.com/wp-content/uploads/2025/09/Puppy-Yoga.jpg
ORGANIZER;CN="Knowlton House Distillery":MAILTO:info@knowltonhouse.com
END:VEVENT
BEGIN:VEVENT
DTSTART;TZID=America/Chicago:20251018T130000
DTEND;TZID=America/Chicago:20251018T140000
DTSTAMP:20260423T064710
CREATED:20250521T151333Z
LAST-MODIFIED:20250521T151333Z
UID:7911-1760792400-1760796000@knowltonhouse.com
SUMMARY:Classic Distillery Tour & Tasting - 1:00pm
DESCRIPTION:Get a behind the scenes peak at how our spirits are crafted as we take you through the history\, ingredients\, and process that goes into distilling each bottle of our award-winning TenHead spirits.\n\nTour includes a guided tasting.\n\nDuration: 60 minutes
URL:https://knowltonhouse.com/event/classic-distillery-tour-tasting-100pm-30/
LOCATION:Knowlton House Distillery\, 204575 County Rd DB\, Mosinee\, WI\, 54455\, United States
CATEGORIES:Distillery Tours
ORGANIZER;CN="Knowlton House Distillery":MAILTO:info@knowltonhouse.com
END:VEVENT
BEGIN:VEVENT
DTSTART;TZID=America/Chicago:20251018T143000
DTEND;TZID=America/Chicago:20251018T153000
DTSTAMP:20260423T064710
CREATED:20250904T155314Z
LAST-MODIFIED:20250904T155314Z
UID:8437-1760797800-1760801400@knowltonhouse.com
SUMMARY:Classic Distillery Tour & Tasting - 2:30pm
DESCRIPTION:Get a behind the scenes peak at how our spirits are crafted as we take you through the history\, ingredients\, and process that goes into distilling each bottle of our award-winning TenHead spirits.\n\nTour includes a guided tasting.\n\nDuration: 60 minutes
URL:https://knowltonhouse.com/event/classic-distillery-tour-tasting-230pm-48/
LOCATION:Knowlton House Distillery\, 204575 County Rd DB\, Mosinee\, WI\, 54455\, United States
CATEGORIES:Distillery Tours
ORGANIZER;CN="Knowlton House Distillery":MAILTO:info@knowltonhouse.com
END:VEVENT
BEGIN:VEVENT
DTSTART;TZID=America/Chicago:20251019T130000
DTEND;TZID=America/Chicago:20251019T153000
DTSTAMP:20260423T064710
CREATED:20250923T165848Z
LAST-MODIFIED:20250923T165848Z
UID:8601-1760878800-1760887800@knowltonhouse.com
SUMMARY:U Paint\, We Pour: Canvas Painting Class
DESCRIPTION:Join U Paint & Party for a canvas painting class of “Gift Giving Gnome”\, a colorful holiday masterpiece. Their step-by-step guidance makes it easy for everyone to participate and create a masterpiece of their own.  Customize your painting to make it unique!\n\nCocktails & food available for purchase.\n\nFor registration & questions\, contact U Paint & Party.\n\n 
URL:https://knowltonhouse.com/event/u-paint-we-pour-canvas-painting-class-8/
LOCATION:Knowlton House Distillery\, 204575 County Rd DB\, Mosinee\, WI\, 54455\, United States
CATEGORIES:Art & Crafting
ORGANIZER;CN="U Paint & Party":MAILTO:upaintandparty@gmail.com
END:VEVENT
BEGIN:VEVENT
DTSTART;TZID=America/Chicago:20251023T180000
DTEND;TZID=America/Chicago:20251023T193000
DTSTAMP:20260423T064710
CREATED:20250904T163842Z
LAST-MODIFIED:20250921T212555Z
UID:8457-1761242400-1761247800@knowltonhouse.com
SUMMARY:Halloween Cocktail Workshop: I Want Candy
DESCRIPTION:Get into the Halloween season with our I WANT CANDY cocktail-making workshop. Get hands-on as we guide you through basic mixology techniques.  Craft unexpected cocktails inspired by your favorite Halloween treats.  Workshop includes instruction\, welcome cocktail\, two cocktail creations & light bites from our scratch kitchen.  It’s an evening of fun for cocktail novices and aficionados alike.  Costumes not required\, but would be fun.\n\n \n\nMust be 21+ to participate.  \n\n \n\n \n\n \n\n \n\n 
URL:https://knowltonhouse.com/event/halloween-cocktail-workshop-i-want-candy/
LOCATION:Knowlton House Distillery\, 204575 County Rd DB\, Mosinee\, WI\, 54455\, United States
CATEGORIES:Cocktail Making Workshops
ATTACH;FMTTYPE=image/jpeg:https://knowltonhouse.com/wp-content/uploads/2024/04/231025_Knowlton-House-Distillery-Photography_Jena-Carlin-Creative-1733-2-LR-e1761747348673.jpg
ORGANIZER;CN="Knowlton House Distillery":MAILTO:info@knowltonhouse.com
END:VEVENT
END:VCALENDAR