BEGIN:VCALENDAR
VERSION:2.0
PRODID:-//Knowlton House Distillery - ECPv6.15.17.1//NONSGML v1.0//EN
CALSCALE:GREGORIAN
METHOD:PUBLISH
X-ORIGINAL-URL:https://knowltonhouse.com
X-WR-CALDESC:Events for Knowlton House Distillery
REFRESH-INTERVAL;VALUE=DURATION:PT1H
X-Robots-Tag:noindex
X-PUBLISHED-TTL:PT1H
BEGIN:VTIMEZONE
TZID:America/Chicago
BEGIN:DAYLIGHT
TZOFFSETFROM:-0600
TZOFFSETTO:-0500
TZNAME:CDT
DTSTART:20220313T080000
END:DAYLIGHT
BEGIN:STANDARD
TZOFFSETFROM:-0500
TZOFFSETTO:-0600
TZNAME:CST
DTSTART:20221106T070000
END:STANDARD
BEGIN:DAYLIGHT
TZOFFSETFROM:-0600
TZOFFSETTO:-0500
TZNAME:CDT
DTSTART:20230312T080000
END:DAYLIGHT
BEGIN:STANDARD
TZOFFSETFROM:-0500
TZOFFSETTO:-0600
TZNAME:CST
DTSTART:20231105T070000
END:STANDARD
BEGIN:DAYLIGHT
TZOFFSETFROM:-0600
TZOFFSETTO:-0500
TZNAME:CDT
DTSTART:20240310T080000
END:DAYLIGHT
BEGIN:STANDARD
TZOFFSETFROM:-0500
TZOFFSETTO:-0600
TZNAME:CST
DTSTART:20241103T070000
END:STANDARD
END:VTIMEZONE
BEGIN:VEVENT
DTSTART;TZID=America/Chicago:20231026T180000
DTEND;TZID=America/Chicago:20231026T200000
DTSTAMP:20260420T004550
CREATED:20230907T183153Z
LAST-MODIFIED:20231026T131939Z
UID:1991-1698343200-1698350400@knowltonhouse.com
SUMMARY:Shaken & Stirred Cocktail Class
DESCRIPTION:Step up your home bartending skills with our Shaken & Stirred cocktail class.  We’ll guide you through mixology and bartending techniques on your way to making two cocktails: one shaken\, one stirred.  Class includes welcome cocktail\, two cocktail creations and light bites.  An evening of fun for cocktail novices and aficionados alike. — Shaken Cocktail: Bolivar of Broken Dreams (Vodka) — Stirred Cocktail: Knowlton Old Fashioned (Bourbon)\n\n 
URL:https://knowltonhouse.com/event/shaken-stirred-cocktail-class-2/
LOCATION:Knowlton House Distillery\, 204575 County Rd DB\, Mosinee\, WI\, 54455\, United States
ORGANIZER;CN="Knowlton House Distillery":MAILTO:info@knowltonhouse.com
END:VEVENT
BEGIN:VEVENT
DTSTART;TZID=America/Chicago:20231103T170000
DTEND;TZID=America/Chicago:20231103T180000
DTSTAMP:20260420T004550
CREATED:20230928T122745Z
LAST-MODIFIED:20231026T132132Z
UID:2267-1699030800-1699034400@knowltonhouse.com
SUMMARY:Classic Distillery Tour & Tasting - 5:00pm
DESCRIPTION:Get a behind the scenes peak at how our spirits are crafted as we take you through the history\, ingredients\, and process that goes into distilling each bottle of Knowlton House spirits.\n\nTour includes a guided tasting.\n\nDuration: 45 minutes
URL:https://knowltonhouse.com/event/classic-distillery-tour-tasting-500pm-5/
LOCATION:Knowlton House Distillery\, 204575 County Rd DB\, Mosinee\, WI\, 54455\, United States
ORGANIZER;CN="Knowlton House Distillery":MAILTO:info@knowltonhouse.com
END:VEVENT
BEGIN:VEVENT
DTSTART;TZID=America/Chicago:20231103T183000
DTEND;TZID=America/Chicago:20231103T193000
DTSTAMP:20260420T004550
CREATED:20230928T122850Z
LAST-MODIFIED:20231026T132914Z
UID:2270-1699036200-1699039800@knowltonhouse.com
SUMMARY:Classic Distillery Tour & Tasting - 6:30pm
DESCRIPTION:Get a behind the scenes peak at how our spirits are crafted as we take you through the history\, ingredients\, and process that goes into distilling each bottle of Knowlton House spirits.\n\nTour includes a guided tasting.\n\nDuration: 45 minutes
URL:https://knowltonhouse.com/event/classic-distillery-tour-tasting-630pm-4/
LOCATION:Knowlton House Distillery\, 204575 County Rd DB\, Mosinee\, WI\, 54455\, United States
ORGANIZER;CN="Knowlton House Distillery":MAILTO:info@knowltonhouse.com
END:VEVENT
BEGIN:VEVENT
DTSTART;TZID=America/Chicago:20231104T130000
DTEND;TZID=America/Chicago:20231104T143000
DTSTAMP:20260420T004550
CREATED:20231026T183818Z
LAST-MODIFIED:20231102T204453Z
UID:2623-1699102800-1699108200@knowltonhouse.com
SUMMARY:Shaken & Stirred Cocktail Workshop
DESCRIPTION:Step up your home bartending skills with our Shaken & Stirred cocktail class.  We’ll guide you through mixology and bartending techniques on your way to making two cocktails: one shaken\, one stirred.  Class includes welcome cocktail\, two cocktail creations and light bites.  An evening of fun for cocktail novices and aficionados alike. — Shaken Cocktail: Bolivar of Broken Dreams (Vodka) — Stirred Cocktail: Knowlton Old Fashioned (Bourbon)\n\n 
URL:https://knowltonhouse.com/event/shaken-stirred-cocktail-class-4/
LOCATION:Knowlton House Distillery\, 204575 County Rd DB\, Mosinee\, WI\, 54455\, United States
ORGANIZER;CN="Knowlton House Distillery":MAILTO:info@knowltonhouse.com
END:VEVENT
BEGIN:VEVENT
DTSTART;TZID=America/Chicago:20231104T160000
DTEND;TZID=America/Chicago:20231104T170000
DTSTAMP:20260420T004550
CREATED:20230928T125903Z
LAST-MODIFIED:20231026T133503Z
UID:2279-1699113600-1699117200@knowltonhouse.com
SUMMARY:Classic Distillery Tour & Tasting - 4:00pm
DESCRIPTION:Get a behind the scenes peak at how our spirits are crafted as we take you through the history\, ingredients\, and process that goes into distilling each bottle of Knowlton House spirits.\n\nTour includes a guided tasting.\n\nDuration: 45 minutes
URL:https://knowltonhouse.com/event/classic-distillery-tour-tasting-400pm-6/
LOCATION:Knowlton House Distillery\, 204575 County Rd DB\, Mosinee\, WI\, 54455\, United States
ORGANIZER;CN="Knowlton House Distillery":MAILTO:info@knowltonhouse.com
END:VEVENT
BEGIN:VEVENT
DTSTART;TZID=America/Chicago:20231104T173000
DTEND;TZID=America/Chicago:20231104T183000
DTSTAMP:20260420T004550
CREATED:20230928T130007Z
LAST-MODIFIED:20231103T181514Z
UID:2285-1699119000-1699122600@knowltonhouse.com
SUMMARY:Classic Distillery Tour & Tasting - 5:30pm
DESCRIPTION:Get a behind the scenes peak at how our spirits are crafted as we take you through the history\, ingredients\, and process that goes into distilling each bottle of Knowlton House spirits.\n\nTour includes a guided tasting.\n\nDuration: 45 minutes
URL:https://knowltonhouse.com/event/classic-distillery-tour-tasting-530pm-4/
LOCATION:Knowlton House Distillery\, 204575 County Rd DB\, Mosinee\, WI\, 54455\, United States
ORGANIZER;CN="Knowlton House Distillery":MAILTO:info@knowltonhouse.com
END:VEVENT
BEGIN:VEVENT
DTSTART;TZID=America/Chicago:20231109T180000
DTEND;TZID=America/Chicago:20231109T193000
DTSTAMP:20260420T004550
CREATED:20231027T151511Z
LAST-MODIFIED:20231102T204054Z
UID:2661-1699552800-1699558200@knowltonhouse.com
SUMMARY:Shaken & Stirred Cocktail Workshop
DESCRIPTION:Step up your home bartending skills with our Shaken & Stirred cocktail class.  We’ll guide you through mixology and bartending techniques on your way to making two cocktails: one shaken\, one stirred.  Class includes welcome cocktail\, two cocktail creations and light bites.  An evening of fun for cocktail novices and aficionados alike. — Shaken Cocktail: Bolivar of Broken Dreams (Vodka) — Stirred Cocktail: Knowlton Old Fashioned (Bourbon)\n\n 
URL:https://knowltonhouse.com/event/shaken-stirred-cocktail-class-5/
LOCATION:Knowlton House Distillery\, 204575 County Rd DB\, Mosinee\, WI\, 54455\, United States
ORGANIZER;CN="Knowlton House Distillery":MAILTO:info@knowltonhouse.com
END:VEVENT
BEGIN:VEVENT
DTSTART;TZID=America/Chicago:20231110T170000
DTEND;TZID=America/Chicago:20231110T180000
DTSTAMP:20260420T004550
CREATED:20231002T182730Z
LAST-MODIFIED:20231026T133954Z
UID:2330-1699635600-1699639200@knowltonhouse.com
SUMMARY:Classic Distillery Tour & Tasting - 5:00pm
DESCRIPTION:Get a behind the scenes peak at how our spirits are crafted as we take you through the history\, ingredients\, and process that goes into distilling each bottle of Knowlton House spirits.\n\nTour includes a guided tasting.\n\nDuration: 45 minutes
URL:https://knowltonhouse.com/event/classic-distillery-tour-tasting-500pm-3/
LOCATION:Knowlton House Distillery\, 204575 County Rd DB\, Mosinee\, WI\, 54455\, United States
ORGANIZER;CN="Knowlton House Distillery":MAILTO:info@knowltonhouse.com
END:VEVENT
BEGIN:VEVENT
DTSTART;TZID=America/Chicago:20231110T183000
DTEND;TZID=America/Chicago:20231110T193000
DTSTAMP:20260420T004550
CREATED:20231002T183059Z
LAST-MODIFIED:20231026T134052Z
UID:2341-1699641000-1699644600@knowltonhouse.com
SUMMARY:Classic Distillery Tour & Tasting - 6:30pm
DESCRIPTION:Get a behind the scenes peak at how our spirits are crafted as we take you through the history\, ingredients\, and process that goes into distilling each bottle of Knowlton House spirits.\n\nTour includes a guided tasting.\n\nDuration: 45 minutes
URL:https://knowltonhouse.com/event/classic-distillery-tour-tasting-630pm-5/
LOCATION:Knowlton House Distillery\, 204575 County Rd DB\, Mosinee\, WI\, 54455\, United States
ORGANIZER;CN="Knowlton House Distillery":MAILTO:info@knowltonhouse.com
END:VEVENT
BEGIN:VEVENT
DTSTART;TZID=America/Chicago:20231111T130000
DTEND;TZID=America/Chicago:20231111T140000
DTSTAMP:20260420T004550
CREATED:20231026T131458Z
LAST-MODIFIED:20231026T134152Z
UID:2333-1699707600-1699711200@knowltonhouse.com
SUMMARY:Classic Distillery Tour & Tasting - 1:00pm
DESCRIPTION:Get a behind the scenes peak at how our spirits are crafted as we take you through the history\, ingredients\, and process that goes into distilling each bottle of Knowlton House spirits.\n\nTour includes a guided tasting.\n\nDuration: 45 minutes
URL:https://knowltonhouse.com/event/classic-distillery-tour-tasting-100pm-2/
LOCATION:Knowlton House Distillery\, 204575 County Rd DB\, Mosinee\, WI\, 54455\, United States
ORGANIZER;CN="Knowlton House Distillery":MAILTO:info@knowltonhouse.com
END:VEVENT
BEGIN:VEVENT
DTSTART;TZID=America/Chicago:20231111T143000
DTEND;TZID=America/Chicago:20231111T153000
DTSTAMP:20260420T004550
CREATED:20231026T134913Z
LAST-MODIFIED:20231026T134913Z
UID:2471-1699713000-1699716600@knowltonhouse.com
SUMMARY:Classic Distillery Tour & Tasting - 2:30pm
DESCRIPTION:Get a behind the scenes peak at how our spirits are crafted as we take you through the history\, ingredients\, and process that goes into distilling each bottle of Knowlton House spirits.\n\nTour includes a guided tasting.\n\nDuration: 45 minutes
URL:https://knowltonhouse.com/event/classic-distillery-tour-tasting-230pm-6/
LOCATION:Knowlton House Distillery\, 204575 County Rd DB\, Mosinee\, WI\, 54455\, United States
ORGANIZER;CN="Knowlton House Distillery":MAILTO:info@knowltonhouse.com
END:VEVENT
BEGIN:VEVENT
DTSTART;TZID=America/Chicago:20231111T160000
DTEND;TZID=America/Chicago:20231111T170000
DTSTAMP:20260420T004550
CREATED:20231026T135442Z
LAST-MODIFIED:20231026T135512Z
UID:2482-1699718400-1699722000@knowltonhouse.com
SUMMARY:Classic Distillery Tour & Tasting - 4:00pm
DESCRIPTION:Get a behind the scenes peak at how our spirits are crafted as we take you through the history\, ingredients\, and process that goes into distilling each bottle of Knowlton House spirits.\n\nTour includes a guided tasting.\n\nDuration: 45 minutes
URL:https://knowltonhouse.com/event/classic-distillery-tour-tasting-400pm-5/
LOCATION:Knowlton House Distillery\, 204575 County Rd DB\, Mosinee\, WI\, 54455\, United States
ORGANIZER;CN="Knowlton House Distillery":MAILTO:info@knowltonhouse.com
END:VEVENT
BEGIN:VEVENT
DTSTART;TZID=America/Chicago:20231111T173000
DTEND;TZID=America/Chicago:20231111T183000
DTSTAMP:20260420T004550
CREATED:20231026T135847Z
LAST-MODIFIED:20231026T135847Z
UID:2489-1699723800-1699727400@knowltonhouse.com
SUMMARY:Classic Distillery Tour & Tasting - 5:30pm
DESCRIPTION:Get a behind the scenes peak at how our spirits are crafted as we take you through the history\, ingredients\, and process that goes into distilling each bottle of Knowlton House spirits.\n\nTour includes a guided tasting.\n\nDuration: 45 minutes
URL:https://knowltonhouse.com/event/classic-distillery-tour-tasting-530pm-6/
LOCATION:Knowlton House Distillery\, 204575 County Rd DB\, Mosinee\, WI\, 54455\, United States
ORGANIZER;CN="Knowlton House Distillery":MAILTO:info@knowltonhouse.com
END:VEVENT
BEGIN:VEVENT
DTSTART;TZID=America/Chicago:20231112T120000
DTEND;TZID=America/Chicago:20231112T130000
DTSTAMP:20260420T004550
CREATED:20231002T182209Z
LAST-MODIFIED:20231026T134245Z
UID:2318-1699790400-1699794000@knowltonhouse.com
SUMMARY:Classic Distillery Tour & Tasting - 12:00pm
DESCRIPTION:Get a behind the scenes peak at how our spirits are crafted as we take you through the history\, ingredients\, and process that goes into distilling each bottle of Knowlton House spirits.\n\nTour includes a guided tasting.\n\nDuration: 45 minutes
URL:https://knowltonhouse.com/event/classic-distillery-tour-tasting-1200pm-6/
LOCATION:Knowlton House Distillery\, 204575 County Rd DB\, Mosinee\, WI\, 54455\, United States
ORGANIZER;CN="Knowlton House Distillery":MAILTO:info@knowltonhouse.com
END:VEVENT
BEGIN:VEVENT
DTSTART;TZID=America/Chicago:20231112T133000
DTEND;TZID=America/Chicago:20231112T143000
DTSTAMP:20260420T004550
CREATED:20231002T182313Z
LAST-MODIFIED:20231026T134415Z
UID:2321-1699795800-1699799400@knowltonhouse.com
SUMMARY:Classic Distillery Tour & Tasting - 1:30pm
DESCRIPTION:Get a behind the scenes peak at how our spirits are crafted as we take you through the history\, ingredients\, and process that goes into distilling each bottle of Knowlton House spirits.\n\nTour includes a guided tasting.\n\nDuration: 45 minutes
URL:https://knowltonhouse.com/event/classic-distillery-tour-tasting-130pm-5/
LOCATION:Knowlton House Distillery\, 204575 County Rd DB\, Mosinee\, WI\, 54455\, United States
ORGANIZER;CN="Knowlton House Distillery":MAILTO:info@knowltonhouse.com
END:VEVENT
BEGIN:VEVENT
DTSTART;TZID=America/Chicago:20231118T143000
DTEND;TZID=America/Chicago:20231118T153000
DTSTAMP:20260420T004550
CREATED:20231026T135006Z
LAST-MODIFIED:20231026T135006Z
UID:2474-1700317800-1700321400@knowltonhouse.com
SUMMARY:Classic Distillery Tour & Tasting - 2:30pm
DESCRIPTION:Get a behind the scenes peak at how our spirits are crafted as we take you through the history\, ingredients\, and process that goes into distilling each bottle of Knowlton House spirits.\n\nTour includes a guided tasting.\n\nDuration: 45 minutes
URL:https://knowltonhouse.com/event/classic-distillery-tour-tasting-230pm-7/
LOCATION:Knowlton House Distillery\, 204575 County Rd DB\, Mosinee\, WI\, 54455\, United States
ORGANIZER;CN="Knowlton House Distillery":MAILTO:info@knowltonhouse.com
END:VEVENT
BEGIN:VEVENT
DTSTART;TZID=America/Chicago:20231119T133000
DTEND;TZID=America/Chicago:20231119T143000
DTSTAMP:20260420T004550
CREATED:20231002T182538Z
LAST-MODIFIED:20231026T132356Z
UID:2327-1700400600-1700404200@knowltonhouse.com
SUMMARY:Classic Distillery Tour & Tasting - 1:30pm
DESCRIPTION:Get a behind the scenes peak at how our spirits are crafted as we take you through the history\, ingredients\, and process that goes into distilling each bottle of Knowlton House spirits.\n\nTour includes a guided tasting.\n\nDuration: 45 minutes
URL:https://knowltonhouse.com/event/classic-distillery-tour-tasting-130pm-6/
LOCATION:Knowlton House Distillery\, 204575 County Rd DB\, Mosinee\, WI\, 54455\, United States
ORGANIZER;CN="Knowlton House Distillery":MAILTO:info@knowltonhouse.com
END:VEVENT
BEGIN:VEVENT
DTSTART;TZID=America/Chicago:20231124T150000
DTEND;TZID=America/Chicago:20231124T160000
DTSTAMP:20260420T004550
CREATED:20231026T140618Z
LAST-MODIFIED:20231124T171934Z
UID:2518-1700838000-1700841600@knowltonhouse.com
SUMMARY:Classic Distillery Tour & Tasting - 3:00pm
DESCRIPTION:Get a behind the scenes peak at how our spirits are crafted as we take you through the history\, ingredients\, and process that goes into distilling each bottle of Knowlton House spirits.\n\nTour includes a guided tasting.\n\nDuration: 45 minutes
URL:https://knowltonhouse.com/event/classic-distillery-tour-tasting-1200pm-5/
LOCATION:Knowlton House Distillery\, 204575 County Rd DB\, Mosinee\, WI\, 54455\, United States
ORGANIZER;CN="Knowlton House Distillery":MAILTO:info@knowltonhouse.com
END:VEVENT
BEGIN:VEVENT
DTSTART;TZID=America/Chicago:20231125T130000
DTEND;TZID=America/Chicago:20231125T143000
DTSTAMP:20260420T004550
CREATED:20231027T145909Z
LAST-MODIFIED:20231124T034523Z
UID:2636-1700917200-1700922600@knowltonhouse.com
SUMMARY:Cocktail Workshop: Some Like it Hot\, Some Like it Cold
DESCRIPTION:Drink in the holiday spirit with our Some Like It Hot\, Some Like It Cold cocktail workshop.  We’ll guide you through mixology and bartending techniques as you get hands-on crafting two seasonal drinks: one chilled and one hot.  Class includes welcome cocktail\, two cocktail creations and light bites.  An evening of fun for cocktail novices and aficionados alike.\n\n 
URL:https://knowltonhouse.com/event/cocktail-workshop-some-like-it-hot-some-like-it-cold-2/
LOCATION:Knowlton House Distillery\, 204575 County Rd DB\, Mosinee\, WI\, 54455\, United States
ORGANIZER;CN="Knowlton House Distillery":MAILTO:info@knowltonhouse.com
END:VEVENT
BEGIN:VEVENT
DTSTART;TZID=America/Chicago:20231125T160000
DTEND;TZID=America/Chicago:20231125T170000
DTSTAMP:20260420T004550
CREATED:20231027T150759Z
LAST-MODIFIED:20231027T150759Z
UID:2652-1700928000-1700931600@knowltonhouse.com
SUMMARY:Classic Distillery Tour & Tasting - 4:00pm
DESCRIPTION:Get a behind the scenes peak at how our spirits are crafted as we take you through the history\, ingredients\, and process that goes into distilling each bottle of Knowlton House spirits.\n\nTour includes a guided tasting.\n\nDuration: 45 minutes
URL:https://knowltonhouse.com/event/classic-distillery-tour-tasting-400pm-10/
LOCATION:Knowlton House Distillery\, 204575 County Rd DB\, Mosinee\, WI\, 54455\, United States
ORGANIZER;CN="Knowlton House Distillery":MAILTO:info@knowltonhouse.com
END:VEVENT
BEGIN:VEVENT
DTSTART;TZID=America/Chicago:20231125T173000
DTEND;TZID=America/Chicago:20231125T183000
DTSTAMP:20260420T004550
CREATED:20231027T151034Z
LAST-MODIFIED:20231124T172106Z
UID:2655-1700933400-1700937000@knowltonhouse.com
SUMMARY:Classic Distillery Tour & Tasting - 5:30pm
DESCRIPTION:Get a behind the scenes peak at how our spirits are crafted as we take you through the history\, ingredients\, and process that goes into distilling each bottle of Knowlton House spirits.\n\nTour includes a guided tasting.\n\nDuration: 45 minutes
URL:https://knowltonhouse.com/event/classic-distillery-tour-tasting-530pm-11/
LOCATION:Knowlton House Distillery\, 204575 County Rd DB\, Mosinee\, WI\, 54455\, United States
ORGANIZER;CN="Knowlton House Distillery":MAILTO:info@knowltonhouse.com
END:VEVENT
BEGIN:VEVENT
DTSTART;TZID=America/Chicago:20231130T180000
DTEND;TZID=America/Chicago:20231130T193000
DTSTAMP:20260420T004550
CREATED:20231027T145732Z
LAST-MODIFIED:20231111T013254Z
UID:2633-1701367200-1701372600@knowltonhouse.com
SUMMARY:Cocktail Workshop: Some Like it Hot\, Some Like it Cold
DESCRIPTION:Drink in the holiday spirit with our Some Like It Hot\, Some Like It Cold cocktail workshop.  We’ll guide you through mixology and bartending techniques as you get hands-on crafting two seasonal drinks: one chilled and one hot.  Class includes welcome cocktail\, two cocktail creations and light bites.  An evening of fun for cocktail novices and aficionados alike.\n\n 
URL:https://knowltonhouse.com/event/cocktail-workshop-some-like-it-hot-some-like-it-cold/
LOCATION:Knowlton House Distillery\, 204575 County Rd DB\, Mosinee\, WI\, 54455\, United States
ORGANIZER;CN="Knowlton House Distillery":MAILTO:info@knowltonhouse.com
END:VEVENT
BEGIN:VEVENT
DTSTART;TZID=America/Chicago:20231202T130000
DTEND;TZID=America/Chicago:20231202T140000
DTSTAMP:20260420T004550
CREATED:20231026T131836Z
LAST-MODIFIED:20231026T135226Z
UID:2465-1701522000-1701525600@knowltonhouse.com
SUMMARY:Classic Distillery Tour & Tasting - 1:00pm
DESCRIPTION:Get a behind the scenes peak at how our spirits are crafted as we take you through the history\, ingredients\, and process that goes into distilling each bottle of Knowlton House spirits.\n\nTour includes a guided tasting.\n\nDuration: 45 minutes
URL:https://knowltonhouse.com/event/classic-distillery-tour-tasting-100pm-8/
LOCATION:Knowlton House Distillery\, 204575 County Rd DB\, Mosinee\, WI\, 54455\, United States
ORGANIZER;CN="Knowlton House Distillery":MAILTO:info@knowltonhouse.com
END:VEVENT
BEGIN:VEVENT
DTSTART;TZID=America/Chicago:20231202T143000
DTEND;TZID=America/Chicago:20231202T153000
DTSTAMP:20260420T004550
CREATED:20231026T134730Z
LAST-MODIFIED:20231026T135116Z
UID:2468-1701527400-1701531000@knowltonhouse.com
SUMMARY:Classic Distillery Tour & Tasting - 2:30pm
DESCRIPTION:Get a behind the scenes peak at how our spirits are crafted as we take you through the history\, ingredients\, and process that goes into distilling each bottle of Knowlton House spirits.\n\nTour includes a guided tasting.\n\nDuration: 45 minutes
URL:https://knowltonhouse.com/event/classic-distillery-tour-tasting-230pm-5/
LOCATION:Knowlton House Distillery\, 204575 County Rd DB\, Mosinee\, WI\, 54455\, United States
ORGANIZER;CN="Knowlton House Distillery":MAILTO:info@knowltonhouse.com
END:VEVENT
BEGIN:VEVENT
DTSTART;TZID=America/Chicago:20231203T120000
DTEND;TZID=America/Chicago:20231203T130000
DTSTAMP:20260420T004550
CREATED:20231026T140333Z
LAST-MODIFIED:20231026T140333Z
UID:2512-1701604800-1701608400@knowltonhouse.com
SUMMARY:Classic Distillery Tour & Tasting - 12:00pm
DESCRIPTION:Get a behind the scenes peak at how our spirits are crafted as we take you through the history\, ingredients\, and process that goes into distilling each bottle of Knowlton House spirits.\n\nTour includes a guided tasting.\n\nDuration: 45 minutes
URL:https://knowltonhouse.com/event/classic-distillery-tour-tasting-1200pm-2/
LOCATION:Knowlton House Distillery\, 204575 County Rd DB\, Mosinee\, WI\, 54455\, United States
ORGANIZER;CN="Knowlton House Distillery":MAILTO:info@knowltonhouse.com
END:VEVENT
BEGIN:VEVENT
DTSTART;TZID=America/Chicago:20231203T133000
DTEND;TZID=America/Chicago:20231203T143000
DTSTAMP:20260420T004550
CREATED:20231026T140236Z
LAST-MODIFIED:20231026T140236Z
UID:2509-1701610200-1701613800@knowltonhouse.com
SUMMARY:Classic Distillery Tour & Tasting - 1:30pm
DESCRIPTION:Get a behind the scenes peak at how our spirits are crafted as we take you through the history\, ingredients\, and process that goes into distilling each bottle of Knowlton House spirits.\n\nTour includes a guided tasting.\n\nDuration: 45 minutes
URL:https://knowltonhouse.com/event/classic-distillery-tour-tasting-130pm-3/
LOCATION:Knowlton House Distillery\, 204575 County Rd DB\, Mosinee\, WI\, 54455\, United States
ORGANIZER;CN="Knowlton House Distillery":MAILTO:info@knowltonhouse.com
END:VEVENT
BEGIN:VEVENT
DTSTART;TZID=America/Chicago:20231208T170000
DTEND;TZID=America/Chicago:20231208T180000
DTSTAMP:20260420T004550
CREATED:20231026T141226Z
LAST-MODIFIED:20231026T141226Z
UID:2530-1702054800-1702058400@knowltonhouse.com
SUMMARY:Classic Distillery Tour & Tasting - 5:00pm
DESCRIPTION:Get a behind the scenes peak at how our spirits are crafted as we take you through the history\, ingredients\, and process that goes into distilling each bottle of Knowlton House spirits.\n\nTour includes a guided tasting.\n\nDuration: 45 minutes
URL:https://knowltonhouse.com/event/classic-distillery-tour-tasting-500pm-7/
LOCATION:Knowlton House Distillery\, 204575 County Rd DB\, Mosinee\, WI\, 54455\, United States
ORGANIZER;CN="Knowlton House Distillery":MAILTO:info@knowltonhouse.com
END:VEVENT
BEGIN:VEVENT
DTSTART;TZID=America/Chicago:20231209T130000
DTEND;TZID=America/Chicago:20231209T143000
DTSTAMP:20260420T004550
CREATED:20231027T150105Z
LAST-MODIFIED:20231108T020152Z
UID:2641-1702126800-1702132200@knowltonhouse.com
SUMMARY:Cocktail Workshop: Some Like it Hot\, Some Like it Cold
DESCRIPTION:Drink in the holiday spirit with our Some Like It Hot\, Some Like It Cold cocktail workshop.  We’ll guide you through mixology and bartending techniques as you get hands-on crafting two seasonal drinks: one chilled and one hot.  Class includes welcome cocktail\, two cocktail creations and light bites.  An evening of fun for cocktail novices and aficionados alike.\n\n 
URL:https://knowltonhouse.com/event/cocktail-workshop-some-like-it-hot-some-like-it-cold-3/
LOCATION:Knowlton House Distillery\, 204575 County Rd DB\, Mosinee\, WI\, 54455\, United States
ORGANIZER;CN="Knowlton House Distillery":MAILTO:info@knowltonhouse.com
END:VEVENT
BEGIN:VEVENT
DTSTART;TZID=America/Chicago:20231209T160000
DTEND;TZID=America/Chicago:20231209T170000
DTSTAMP:20260420T004550
CREATED:20231027T150647Z
LAST-MODIFIED:20231027T150647Z
UID:2647-1702137600-1702141200@knowltonhouse.com
SUMMARY:Classic Distillery Tour & Tasting - 4:00pm
DESCRIPTION:Get a behind the scenes peak at how our spirits are crafted as we take you through the history\, ingredients\, and process that goes into distilling each bottle of Knowlton House spirits.\n\nTour includes a guided tasting.\n\nDuration: 45 minutes
URL:https://knowltonhouse.com/event/classic-distillery-tour-tasting-400pm-9/
LOCATION:Knowlton House Distillery\, 204575 County Rd DB\, Mosinee\, WI\, 54455\, United States
ORGANIZER;CN="Knowlton House Distillery":MAILTO:info@knowltonhouse.com
END:VEVENT
BEGIN:VEVENT
DTSTART;TZID=America/Chicago:20231209T173000
DTEND;TZID=America/Chicago:20231209T183000
DTSTAMP:20260420T004550
CREATED:20231027T151134Z
LAST-MODIFIED:20231027T151134Z
UID:2658-1702143000-1702146600@knowltonhouse.com
SUMMARY:Classic Distillery Tour & Tasting - 5:30pm
DESCRIPTION:Get a behind the scenes peak at how our spirits are crafted as we take you through the history\, ingredients\, and process that goes into distilling each bottle of Knowlton House spirits.\n\nTour includes a guided tasting.\n\nDuration: 45 minutes
URL:https://knowltonhouse.com/event/classic-distillery-tour-tasting-530pm-12/
LOCATION:Knowlton House Distillery\, 204575 County Rd DB\, Mosinee\, WI\, 54455\, United States
ORGANIZER;CN="Knowlton House Distillery":MAILTO:info@knowltonhouse.com
END:VEVENT
END:VCALENDAR