BEGIN:VCALENDAR
VERSION:2.0
PRODID:-//Knowlton House Distillery - ECPv6.15.17.1//NONSGML v1.0//EN
CALSCALE:GREGORIAN
METHOD:PUBLISH
X-ORIGINAL-URL:https://knowltonhouse.com
X-WR-CALDESC:Events for Knowlton House Distillery
REFRESH-INTERVAL;VALUE=DURATION:PT1H
X-Robots-Tag:noindex
X-PUBLISHED-TTL:PT1H
BEGIN:VTIMEZONE
TZID:America/Chicago
BEGIN:DAYLIGHT
TZOFFSETFROM:-0600
TZOFFSETTO:-0500
TZNAME:CDT
DTSTART:20230312T080000
END:DAYLIGHT
BEGIN:STANDARD
TZOFFSETFROM:-0500
TZOFFSETTO:-0600
TZNAME:CST
DTSTART:20231105T070000
END:STANDARD
BEGIN:DAYLIGHT
TZOFFSETFROM:-0600
TZOFFSETTO:-0500
TZNAME:CDT
DTSTART:20240310T080000
END:DAYLIGHT
BEGIN:STANDARD
TZOFFSETFROM:-0500
TZOFFSETTO:-0600
TZNAME:CST
DTSTART:20241103T070000
END:STANDARD
BEGIN:DAYLIGHT
TZOFFSETFROM:-0600
TZOFFSETTO:-0500
TZNAME:CDT
DTSTART:20250309T080000
END:DAYLIGHT
BEGIN:STANDARD
TZOFFSETFROM:-0500
TZOFFSETTO:-0600
TZNAME:CST
DTSTART:20251102T070000
END:STANDARD
END:VTIMEZONE
BEGIN:VEVENT
DTSTART;TZID=America/Chicago:20240921T160000
DTEND;TZID=America/Chicago:20240921T170000
DTSTAMP:20260419T193712
CREATED:20240815T164744Z
LAST-MODIFIED:20240815T165013Z
UID:5592-1726934400-1726938000@knowltonhouse.com
SUMMARY:Classic Distillery Tour & Tasting - 4:00pm
DESCRIPTION:Get a behind the scenes peak at how our spirits are crafted as we take you through the history\, ingredients\, and process that goes into distilling each bottle of Knowlton House spirits.\n\nTour includes a guided tasting.\n\nDuration: 45 minutes
URL:https://knowltonhouse.com/event/classic-distillery-tour-tasting-400pm-40/
LOCATION:Knowlton House Distillery\, 204575 County Rd DB\, Mosinee\, WI\, 54455\, United States
CATEGORIES:Distillery Tours
ORGANIZER;CN="Knowlton House Distillery":MAILTO:info@knowltonhouse.com
END:VEVENT
BEGIN:VEVENT
DTSTART;TZID=America/Chicago:20240921T173000
DTEND;TZID=America/Chicago:20240921T183000
DTSTAMP:20260419T193712
CREATED:20240815T165250Z
LAST-MODIFIED:20240815T165250Z
UID:5605-1726939800-1726943400@knowltonhouse.com
SUMMARY:Classic Distillery Tour & Tasting - 5:30pm
DESCRIPTION:Get a behind the scenes peak at how our spirits are crafted as we take you through the history\, ingredients\, and process that goes into distilling each bottle of Knowlton House spirits.\n\nTour includes a guided tasting.\n\nDuration: 45 minutes
URL:https://knowltonhouse.com/event/classic-distillery-tour-tasting-530pm-41/
LOCATION:Knowlton House Distillery\, 204575 County Rd DB\, Mosinee\, WI\, 54455\, United States
CATEGORIES:Distillery Tours
ORGANIZER;CN="Knowlton House Distillery":MAILTO:info@knowltonhouse.com
END:VEVENT
BEGIN:VEVENT
DTSTART;TZID=America/Chicago:20240922T093000
DTEND;TZID=America/Chicago:20240922T130000
DTSTAMP:20260419T193712
CREATED:20240711T172027Z
LAST-MODIFIED:20240711T172027Z
UID:5350-1726997400-1727010000@knowltonhouse.com
SUMMARY:Farmers Market
DESCRIPTION:Make Sunday a Funday at Knowlton House.  Shop for local produce\, flowers & other goods with a cocktail in hand at our Sunday Farmers Market from 9:30am-1:00pm.\n\nWatch for other Sunday Funday activities including live music & workshops.  All day brunch available starting at 9:30am.
URL:https://knowltonhouse.com/event/farmers-market-14/
LOCATION:Knowlton House Distillery\, 204575 County Rd DB\, Mosinee\, WI\, 54455\, United States
CATEGORIES:Seasonal Market
ORGANIZER;CN="Knowlton House Distillery":MAILTO:info@knowltonhouse.com
END:VEVENT
BEGIN:VEVENT
DTSTART;TZID=America/Chicago:20240922T110000
DTEND;TZID=America/Chicago:20240922T140000
DTSTAMP:20260419T193712
CREATED:20240716T201221Z
LAST-MODIFIED:20240716T201221Z
UID:5474-1727002800-1727013600@knowltonhouse.com
SUMMARY:LIVE MUSIC: PETE HENRY
DESCRIPTION:Enjoy Sunday Funday with singer\, songwriter and instrumentalist PETE HENRY.  He’s a one-man band serving up a delicious mix of originals and covers.\n\nMusic on the Distillery’s southern lawn and pet-friendly patio.  Feel free to bring folding chairs or picnic blanket.  All-day brunch available starting at 9:30am.  Farmers Market runs 9:30am-1:00pm.
URL:https://knowltonhouse.com/event/live-music-pete-henry/
LOCATION:Knowlton House Distillery\, 204575 County Rd DB\, Mosinee\, WI\, 54455\, United States
CATEGORIES:Live Music
ORGANIZER;CN="Knowlton House Distillery":MAILTO:info@knowltonhouse.com
END:VEVENT
BEGIN:VEVENT
DTSTART;TZID=America/Chicago:20240927T173000
DTEND;TZID=America/Chicago:20240927T183000
DTSTAMP:20260419T193712
CREATED:20240815T170227Z
LAST-MODIFIED:20240815T170227Z
UID:5634-1727458200-1727461800@knowltonhouse.com
SUMMARY:Classic Distillery Tour & Tasting - 5:30pm
DESCRIPTION:Get a behind the scenes peak at how our spirits are crafted as we take you through the history\, ingredients\, and process that goes into distilling each bottle of Knowlton House spirits.\n\nTour includes a guided tasting.\n\nDuration: 45 minutes
URL:https://knowltonhouse.com/event/classic-distillery-tour-tasting-530pm-46/
LOCATION:Knowlton House Distillery\, 204575 County Rd DB\, Mosinee\, WI\, 54455\, United States
CATEGORIES:Distillery Tours
ORGANIZER;CN="Knowlton House Distillery":MAILTO:info@knowltonhouse.com
END:VEVENT
BEGIN:VEVENT
DTSTART;TZID=America/Chicago:20240927T190000
DTEND;TZID=America/Chicago:20240927T200000
DTSTAMP:20260419T193712
CREATED:20240815T170335Z
LAST-MODIFIED:20240815T170335Z
UID:5637-1727463600-1727467200@knowltonhouse.com
SUMMARY:Classic Distillery Tour & Tasting - 7:00pm
DESCRIPTION:Get a behind the scenes peak at how our spirits are crafted as we take you through the history\, ingredients\, and process that goes into distilling each bottle of Knowlton House spirits.\n\nTour includes a guided tasting.\n\nDuration: 45 minutes
URL:https://knowltonhouse.com/event/classic-distillery-tour-tasting-700pm-14/
LOCATION:Knowlton House Distillery\, 204575 County Rd DB\, Mosinee\, WI\, 54455\, United States
CATEGORIES:Distillery Tours
ORGANIZER;CN="Knowlton House Distillery":MAILTO:info@knowltonhouse.com
END:VEVENT
BEGIN:VEVENT
DTSTART;TZID=America/Chicago:20240928T130000
DTEND;TZID=America/Chicago:20240928T143000
DTSTAMP:20260419T193712
CREATED:20240827T193125Z
LAST-MODIFIED:20240911T011722Z
UID:5719-1727528400-1727533800@knowltonhouse.com
SUMMARY:Cocktail Workshop: A Cocktail Cornucopia
DESCRIPTION:It’s a boozy feast for cocktail-lovers at our Cocktail Cornucopia Workshop.  Get hands-on as we guide you through basic mixology and bartending techniques as you craft fall inspired libations.  Workshop includes instruction\, welcome cocktail\, two cocktail creations and light bites.  It’s an afternoon of fun for cocktail novices and aficionados alike.\n\n \n\nMust be 21+ to participate.\n\n \n\n 
URL:https://knowltonhouse.com/event/cocktail-workshop-cocktail-cornucopia-1/
LOCATION:Knowlton House Distillery\, 204575 County Rd DB\, Mosinee\, WI\, 54455\, United States
CATEGORIES:Cocktail Making Workshops
ORGANIZER;CN="Knowlton House Distillery":MAILTO:info@knowltonhouse.com
END:VEVENT
BEGIN:VEVENT
DTSTART;TZID=America/Chicago:20240928T160000
DTEND;TZID=America/Chicago:20240928T170000
DTSTAMP:20260419T193712
CREATED:20240815T164907Z
LAST-MODIFIED:20240815T164907Z
UID:5595-1727539200-1727542800@knowltonhouse.com
SUMMARY:Classic Distillery Tour & Tasting - 4:00pm
DESCRIPTION:Get a behind the scenes peak at how our spirits are crafted as we take you through the history\, ingredients\, and process that goes into distilling each bottle of Knowlton House spirits.\n\nTour includes a guided tasting.\n\nDuration: 45 minutes
URL:https://knowltonhouse.com/event/classic-distillery-tour-tasting-400pm-41/
LOCATION:Knowlton House Distillery\, 204575 County Rd DB\, Mosinee\, WI\, 54455\, United States
CATEGORIES:Distillery Tours
ORGANIZER;CN="Knowlton House Distillery":MAILTO:info@knowltonhouse.com
END:VEVENT
BEGIN:VEVENT
DTSTART;TZID=America/Chicago:20240928T173000
DTEND;TZID=America/Chicago:20240928T183000
DTSTAMP:20260419T193712
CREATED:20240815T165143Z
LAST-MODIFIED:20240815T165143Z
UID:5600-1727544600-1727548200@knowltonhouse.com
SUMMARY:Classic Distillery Tour & Tasting - 5:30pm
DESCRIPTION:Get a behind the scenes peak at how our spirits are crafted as we take you through the history\, ingredients\, and process that goes into distilling each bottle of Knowlton House spirits.\n\nTour includes a guided tasting.\n\nDuration: 45 minutes
URL:https://knowltonhouse.com/event/classic-distillery-tour-tasting-530pm-14/
LOCATION:Knowlton House Distillery\, 204575 County Rd DB\, Mosinee\, WI\, 54455\, United States
CATEGORIES:Distillery Tours
ORGANIZER;CN="Knowlton House Distillery":MAILTO:info@knowltonhouse.com
END:VEVENT
BEGIN:VEVENT
DTSTART;TZID=America/Chicago:20240929T093000
DTEND;TZID=America/Chicago:20240929T130000
DTSTAMP:20260419T193712
CREATED:20240711T180159Z
LAST-MODIFIED:20240711T180159Z
UID:5353-1727602200-1727614800@knowltonhouse.com
SUMMARY:Farmers Market
DESCRIPTION:Make Sunday a Funday at Knowlton House.  Shop for local produce\, flowers & other goods with a cocktail in hand at our Sunday Farmers Market from 9:30am-1:00pm.\n\nWatch for other Sunday Funday activities including live music & workshops.  All day brunch available starting at 9:30am.
URL:https://knowltonhouse.com/event/farmers-market-15/
LOCATION:Knowlton House Distillery\, 204575 County Rd DB\, Mosinee\, WI\, 54455\, United States
CATEGORIES:Seasonal Market
ORGANIZER;CN="Knowlton House Distillery":MAILTO:info@knowltonhouse.com
END:VEVENT
BEGIN:VEVENT
DTSTART;TZID=America/Chicago:20240929T110000
DTEND;TZID=America/Chicago:20240929T140000
DTSTAMP:20260419T193712
CREATED:20240716T201647Z
LAST-MODIFIED:20240716T201647Z
UID:5477-1727607600-1727618400@knowltonhouse.com
SUMMARY:LIVE MUSIC: THE CHEESE DOODLES
DESCRIPTION:Enjoy Sunday Funday with Wisconsin duo THE CHEESE DOODLES. Chill with a cocktail in hand as they seamlessly move from rock hits\, to oldies and country\, then back around to pop favorites.\n\nMusic on the Distillery’s southern lawn and pet-friendly patio.  Feel free to bring folding chairs or picnic blanket.  All-day brunch available starting at 9:30am.  Farmers Market runs 9:30am-1:00pm.
URL:https://knowltonhouse.com/event/live-music-the-cheese-doodles/
LOCATION:Knowlton House Distillery\, 204575 County Rd DB\, Mosinee\, WI\, 54455\, United States
CATEGORIES:Live Music
ORGANIZER;CN="Knowlton House Distillery":MAILTO:info@knowltonhouse.com
END:VEVENT
BEGIN:VEVENT
DTSTART;TZID=America/Chicago:20241004T173000
DTEND;TZID=America/Chicago:20241004T183000
DTSTAMP:20260419T193712
CREATED:20241004T170230Z
LAST-MODIFIED:20241004T170230Z
UID:6036-1728063000-1728066600@knowltonhouse.com
SUMMARY:Classic Distillery Tour & Tasting - 5:30pm
DESCRIPTION:Get a behind the scenes peak at how our spirits are crafted as we take you through the history\, ingredients\, and process that goes into distilling each bottle of our award-winning TenHead spirits.\n\nTour includes a guided tasting.\n\nDuration: 45 minutes
URL:https://knowltonhouse.com/event/classic-distillery-tour-tasting-530pm-47/
LOCATION:Knowlton House Distillery\, 204575 County Rd DB\, Mosinee\, WI\, 54455\, United States
CATEGORIES:Distillery Tours
ORGANIZER;CN="Knowlton House Distillery":MAILTO:info@knowltonhouse.com
END:VEVENT
BEGIN:VEVENT
DTSTART;TZID=America/Chicago:20241004T190000
DTEND;TZID=America/Chicago:20241004T200000
DTSTAMP:20260419T193712
CREATED:20240911T202013Z
LAST-MODIFIED:20240911T202013Z
UID:5851-1728068400-1728072000@knowltonhouse.com
SUMMARY:Classic Distillery Tour & Tasting - 7:00pm
DESCRIPTION:Get a behind the scenes peak at how our spirits are crafted as we take you through the history\, ingredients\, and process that goes into distilling each bottle of our award-winning TenHead spirits.\n\nTour includes a guided tasting.\n\nDuration: 45 minutes
URL:https://knowltonhouse.com/event/classic-distillery-tour-tasting-700pm-15/
LOCATION:Knowlton House Distillery\, 204575 County Rd DB\, Mosinee\, WI\, 54455\, United States
CATEGORIES:Distillery Tours
ORGANIZER;CN="Knowlton House Distillery":MAILTO:info@knowltonhouse.com
END:VEVENT
BEGIN:VEVENT
DTSTART;TZID=America/Chicago:20241005T160000
DTEND;TZID=America/Chicago:20241005T170000
DTSTAMP:20260419T193712
CREATED:20240911T203154Z
LAST-MODIFIED:20240911T203154Z
UID:5872-1728144000-1728147600@knowltonhouse.com
SUMMARY:Classic Distillery Tour & Tasting - 4:00pm
DESCRIPTION:Get a behind the scenes peak at how our spirits are crafted as we take you through the history\, ingredients\, and process that goes into distilling each bottle of our award-winning TenHead spirits.\n\nTour includes a guided tasting.\n\nDuration: 45 minutes
URL:https://knowltonhouse.com/event/classic-distillery-tour-tasting-400pm-43/
LOCATION:Knowlton House Distillery\, 204575 County Rd DB\, Mosinee\, WI\, 54455\, United States
CATEGORIES:Distillery Tours
ORGANIZER;CN="Knowlton House Distillery":MAILTO:info@knowltonhouse.com
END:VEVENT
BEGIN:VEVENT
DTSTART;TZID=America/Chicago:20241005T173000
DTEND;TZID=America/Chicago:20241005T183000
DTSTAMP:20260419T193712
CREATED:20240911T200654Z
LAST-MODIFIED:20240911T200654Z
UID:5827-1728149400-1728153000@knowltonhouse.com
SUMMARY:Classic Distillery Tour & Tasting - 5:30pm
DESCRIPTION:Get a behind the scenes peak at how our spirits are crafted as we take you through the history\, ingredients\, and process that goes into distilling each bottle of our award-winning TenHead spirits.\n\nTour includes a guided tasting.\n\nDuration: 45 minutes
URL:https://knowltonhouse.com/event/classic-distillery-tour-tasting-530pm-48/
LOCATION:Knowlton House Distillery\, 204575 County Rd DB\, Mosinee\, WI\, 54455\, United States
CATEGORIES:Distillery Tours
ORGANIZER;CN="Knowlton House Distillery":MAILTO:info@knowltonhouse.com
END:VEVENT
BEGIN:VEVENT
DTSTART;TZID=America/Chicago:20241006T100000
DTEND;TZID=America/Chicago:20241006T110000
DTSTAMP:20260419T193712
CREATED:20240911T011358Z
LAST-MODIFIED:20240911T011358Z
UID:5804-1728208800-1728212400@knowltonhouse.com
SUMMARY:Puppy Yoga
DESCRIPTION:Join us for a 40-minute yoga practice with puppies from Wags of Wisconsin!\nAll profits will benefit Wags of Wisconsin.  Your registration includes a 40-minute yoga practice\, one cocktail token\, a complimentary shopping coupon to our bottle shop & plenty of play time with these adorable pups.\n\nWags of Wisconsin\, Inc. is a local\, non-profit dog rescue in central Wisconsin.\n\nWe ask that you leave your own pups at home for this event.  All furry friends will be from Wags of Wisconsin! All ages & skill levels welcome.  Let’s be honest\, this is light yoga since we really just want to love on these adorable pups.\n\nDON’T FORGET YOUR YOGA MAT.  Class will take place in the distillery production space.\n\nStick around after for brunch.
URL:https://knowltonhouse.com/event/puppy-yoga/
LOCATION:Knowlton House Distillery\, 204575 County Rd DB\, Mosinee\, WI\, 54455\, United States
ATTACH;FMTTYPE=image/jpeg:https://knowltonhouse.com/wp-content/uploads/2024/05/Puppy-Yoga-Stock-Photo.jpeg
ORGANIZER;CN="Knowlton House Distillery":MAILTO:info@knowltonhouse.com
END:VEVENT
BEGIN:VEVENT
DTSTART;TZID=America/Chicago:20241006T123000
DTEND;TZID=America/Chicago:20241006T150000
DTSTAMP:20260419T193712
CREATED:20240911T195701Z
LAST-MODIFIED:20240911T195701Z
UID:5817-1728217800-1728226800@knowltonhouse.com
SUMMARY:U Paint\, We Pour: Canvas Painting Class
DESCRIPTION:Join U Paint & Party for a canvas painting class of “Piggy Petals”. Their step-by-step guidance makes it easy for everyone to participate and create a masterpiece of their own.  Customize your painting to make it unique!\n\nCocktails & food available for purchase.\n\nFor registration & questions\, contact U Paint & Party.\n\n 
URL:https://knowltonhouse.com/event/u-paint-we-pour-canvas-painting-class/
LOCATION:Knowlton House Distillery\, 204575 County Rd DB\, Mosinee\, WI\, 54455\, United States
CATEGORIES:Art & Crafting
ORGANIZER;CN="U Paint & Party":MAILTO:upaintandparty@gmail.com
END:VEVENT
BEGIN:VEVENT
DTSTART;TZID=America/Chicago:20241010T180000
DTEND;TZID=America/Chicago:20241010T193000
DTSTAMP:20260419T193712
CREATED:20240827T193314Z
LAST-MODIFIED:20240927T201205Z
UID:5722-1728583200-1728588600@knowltonhouse.com
SUMMARY:Cocktail Workshop: A Cocktail Cornucopia
DESCRIPTION:It’s a boozy feast for cocktail-lovers at our Cocktail Cornucopia Workshop.  Get hands-on as we guide you through basic mixology and bartending techniques as you craft fall inspired libations.  Workshop includes instruction\, welcome cocktail\, two cocktail creations and light bites.  It’s an evening of fun for cocktail novices and aficionados alike.\n\n \n\nMust be 21+ to participate.\n\n \n\n 
URL:https://knowltonhouse.com/event/cocktail-workshop-a-cocktail-cornucopia-2/
LOCATION:Knowlton House Distillery\, 204575 County Rd DB\, Mosinee\, WI\, 54455\, United States
CATEGORIES:Cocktail Making Workshops
ORGANIZER;CN="Knowlton House Distillery":MAILTO:info@knowltonhouse.com
END:VEVENT
BEGIN:VEVENT
DTSTART;TZID=America/Chicago:20241012T130000
DTEND;TZID=America/Chicago:20241012T140000
DTSTAMP:20260419T193712
CREATED:20240911T205608Z
LAST-MODIFIED:20240911T205608Z
UID:5900-1728738000-1728741600@knowltonhouse.com
SUMMARY:Classic Distillery Tour & Tasting - 1:00pm
DESCRIPTION:Get a behind the scenes peak at how our spirits are crafted as we take you through the history\, ingredients\, and process that goes into distilling each bottle of our award-winning TenHead spirits.\n\nTour includes a guided tasting.\n\nDuration: 45 minutes
URL:https://knowltonhouse.com/event/classic-distillery-tour-tasting-100pm-17/
LOCATION:Knowlton House Distillery\, 204575 County Rd DB\, Mosinee\, WI\, 54455\, United States
CATEGORIES:Distillery Tours
ORGANIZER;CN="Knowlton House Distillery":MAILTO:info@knowltonhouse.com
END:VEVENT
BEGIN:VEVENT
DTSTART;TZID=America/Chicago:20241012T143000
DTEND;TZID=America/Chicago:20241012T153000
DTSTAMP:20260419T193712
CREATED:20240911T204807Z
LAST-MODIFIED:20240911T204807Z
UID:5891-1728743400-1728747000@knowltonhouse.com
SUMMARY:Classic Distillery Tour & Tasting - 2:30pm
DESCRIPTION:Get a behind the scenes peak at how our spirits are crafted as we take you through the history\, ingredients\, and process that goes into distilling each bottle of our award-winning TenHead spirits.\n\nTour includes a guided tasting.\n\nDuration: 45 minutes
URL:https://knowltonhouse.com/event/classic-distillery-tour-tasting-230pm-32/
LOCATION:Knowlton House Distillery\, 204575 County Rd DB\, Mosinee\, WI\, 54455\, United States
CATEGORIES:Distillery Tours
ORGANIZER;CN="Knowlton House Distillery":MAILTO:info@knowltonhouse.com
END:VEVENT
BEGIN:VEVENT
DTSTART;TZID=America/Chicago:20241012T160000
DTEND;TZID=America/Chicago:20241012T170000
DTSTAMP:20260419T193712
CREATED:20240911T203020Z
LAST-MODIFIED:20240911T203020Z
UID:5869-1728748800-1728752400@knowltonhouse.com
SUMMARY:Classic Distillery Tour & Tasting - 4:00pm
DESCRIPTION:Get a behind the scenes peak at how our spirits are crafted as we take you through the history\, ingredients\, and process that goes into distilling each bottle of our award-winning TenHead spirits.\n\nTour includes a guided tasting.\n\nDuration: 45 minutes
URL:https://knowltonhouse.com/event/classic-distillery-tour-tasting-400pm-42/
LOCATION:Knowlton House Distillery\, 204575 County Rd DB\, Mosinee\, WI\, 54455\, United States
CATEGORIES:Distillery Tours
ORGANIZER;CN="Knowlton House Distillery":MAILTO:info@knowltonhouse.com
END:VEVENT
BEGIN:VEVENT
DTSTART;TZID=America/Chicago:20241019T130000
DTEND;TZID=America/Chicago:20241019T140000
DTSTAMP:20260419T193712
CREATED:20240911T205759Z
LAST-MODIFIED:20240911T205759Z
UID:5903-1729342800-1729346400@knowltonhouse.com
SUMMARY:Classic Distillery Tour & Tasting - 1:00pm
DESCRIPTION:Get a behind the scenes peak at how our spirits are crafted as we take you through the history\, ingredients\, and process that goes into distilling each bottle of our award-winning TenHead spirits.\n\nTour includes a guided tasting.\n\nDuration: 45 minutes
URL:https://knowltonhouse.com/event/classic-distillery-tour-tasting-100pm-18/
LOCATION:Knowlton House Distillery\, 204575 County Rd DB\, Mosinee\, WI\, 54455\, United States
CATEGORIES:Distillery Tours
ORGANIZER;CN="Knowlton House Distillery":MAILTO:info@knowltonhouse.com
END:VEVENT
BEGIN:VEVENT
DTSTART;TZID=America/Chicago:20241019T143000
DTEND;TZID=America/Chicago:20241019T153000
DTSTAMP:20260419T193712
CREATED:20240911T204657Z
LAST-MODIFIED:20240911T204657Z
UID:5888-1729348200-1729351800@knowltonhouse.com
SUMMARY:Classic Distillery Tour & Tasting - 2:30pm
DESCRIPTION:Get a behind the scenes peak at how our spirits are crafted as we take you through the history\, ingredients\, and process that goes into distilling each bottle of our award-winning TenHead spirits.\n\nTour includes a guided tasting.\n\nDuration: 45 minutes
URL:https://knowltonhouse.com/event/classic-distillery-tour-tasting-230pm-31/
LOCATION:Knowlton House Distillery\, 204575 County Rd DB\, Mosinee\, WI\, 54455\, United States
CATEGORIES:Distillery Tours
ORGANIZER;CN="Knowlton House Distillery":MAILTO:info@knowltonhouse.com
END:VEVENT
BEGIN:VEVENT
DTSTART;TZID=America/Chicago:20241019T160000
DTEND;TZID=America/Chicago:20241019T170000
DTSTAMP:20260419T193712
CREATED:20240911T202807Z
LAST-MODIFIED:20240911T202807Z
UID:5863-1729353600-1729357200@knowltonhouse.com
SUMMARY:Classic Distillery Tour & Tasting - 4:00pm
DESCRIPTION:Get a behind the scenes peak at how our spirits are crafted as we take you through the history\, ingredients\, and process that goes into distilling each bottle of our award-winning TenHead spirits.\n\nTour includes a guided tasting.\n\nDuration: 45 minutes
URL:https://knowltonhouse.com/event/classic-distillery-tour-tasting-400/
LOCATION:Knowlton House Distillery\, 204575 County Rd DB\, Mosinee\, WI\, 54455\, United States
CATEGORIES:Distillery Tours
ORGANIZER;CN="Knowlton House Distillery":MAILTO:info@knowltonhouse.com
END:VEVENT
BEGIN:VEVENT
DTSTART;TZID=America/Chicago:20241025T173000
DTEND;TZID=America/Chicago:20241025T183000
DTSTAMP:20260419T193712
CREATED:20240911T201314Z
LAST-MODIFIED:20240911T201314Z
UID:5839-1729877400-1729881000@knowltonhouse.com
SUMMARY:Classic Distillery Tour & Tasting - 5:30pm
DESCRIPTION:Get a behind the scenes peak at how our spirits are crafted as we take you through the history\, ingredients\, and process that goes into distilling each bottle of our award-winning TenHead spirits.\n\nTour includes a guided tasting.\n\nDuration: 45 minutes
URL:https://knowltonhouse.com/event/classic-distillery-tour-tasting-530pm-52/
LOCATION:Knowlton House Distillery\, 204575 County Rd DB\, Mosinee\, WI\, 54455\, United States
CATEGORIES:Distillery Tours
ORGANIZER;CN="Knowlton House Distillery":MAILTO:info@knowltonhouse.com
END:VEVENT
BEGIN:VEVENT
DTSTART;TZID=America/Chicago:20241025T190000
DTEND;TZID=America/Chicago:20241025T200000
DTSTAMP:20260419T193712
CREATED:20240911T202415Z
LAST-MODIFIED:20240911T202415Z
UID:5857-1729882800-1729886400@knowltonhouse.com
SUMMARY:Classic Distillery Tour & Tasting - 7:00pm
DESCRIPTION:Get a behind the scenes peak at how our spirits are crafted as we take you through the history\, ingredients\, and process that goes into distilling each bottle of our award-winning TenHead spirits.\n\nTour includes a guided tasting.\n\nDuration: 45 minutes
URL:https://knowltonhouse.com/event/classic-distillery-tour-tasting-700pm-17/
LOCATION:Knowlton House Distillery\, 204575 County Rd DB\, Mosinee\, WI\, 54455\, United States
CATEGORIES:Distillery Tours
ORGANIZER;CN="Knowlton House Distillery":MAILTO:info@knowltonhouse.com
END:VEVENT
BEGIN:VEVENT
DTSTART;TZID=America/Chicago:20241026T130000
DTEND;TZID=America/Chicago:20241026T140000
DTSTAMP:20260419T193712
CREATED:20240911T210109Z
LAST-MODIFIED:20240911T210109Z
UID:5906-1729947600-1729951200@knowltonhouse.com
SUMMARY:Classic Distillery Tour & Tasting - 1:00pm
DESCRIPTION:Get a behind the scenes peak at how our spirits are crafted as we take you through the history\, ingredients\, and process that goes into distilling each bottle of our award-winning TenHead spirits.\n\nTour includes a guided tasting.\n\nDuration: 45 minutes
URL:https://knowltonhouse.com/event/classic-distillery-tour-tasting-100pm-21/
LOCATION:Knowlton House Distillery\, 204575 County Rd DB\, Mosinee\, WI\, 54455\, United States
CATEGORIES:Distillery Tours
ORGANIZER;CN="Knowlton House Distillery":MAILTO:info@knowltonhouse.com
END:VEVENT
BEGIN:VEVENT
DTSTART;TZID=America/Chicago:20241026T143000
DTEND;TZID=America/Chicago:20241026T153000
DTSTAMP:20260419T193712
CREATED:20240911T204412Z
LAST-MODIFIED:20240911T204412Z
UID:5885-1729953000-1729956600@knowltonhouse.com
SUMMARY:Classic Distillery Tour & Tasting - 2:30pm
DESCRIPTION:Get a behind the scenes peak at how our spirits are crafted as we take you through the history\, ingredients\, and process that goes into distilling each bottle of our award-winning TenHead spirits.\n\nTour includes a guided tasting.\n\nDuration: 45 minutes
URL:https://knowltonhouse.com/event/classic-distillery-tour-tasting-230pm-23/
LOCATION:Knowlton House Distillery\, 204575 County Rd DB\, Mosinee\, WI\, 54455\, United States
CATEGORIES:Distillery Tours
ORGANIZER;CN="Knowlton House Distillery":MAILTO:info@knowltonhouse.com
END:VEVENT
BEGIN:VEVENT
DTSTART;TZID=America/Chicago:20241026T160000
DTEND;TZID=America/Chicago:20241026T170000
DTSTAMP:20260419T193712
CREATED:20240911T203639Z
LAST-MODIFIED:20240911T203639Z
UID:5875-1729958400-1729962000@knowltonhouse.com
SUMMARY:Classic Distillery Tour & Tasting - 4:00pm
DESCRIPTION:Get a behind the scenes peak at how our spirits are crafted as we take you through the history\, ingredients\, and process that goes into distilling each bottle of our award-winning TenHead spirits.\n\nTour includes a guided tasting.\n\nDuration: 45 minutes
URL:https://knowltonhouse.com/event/classic-distillery-tour-tasting-400pm-44/
LOCATION:Knowlton House Distillery\, 204575 County Rd DB\, Mosinee\, WI\, 54455\, United States
CATEGORIES:Distillery Tours
ORGANIZER;CN="Knowlton House Distillery":MAILTO:info@knowltonhouse.com
END:VEVENT
BEGIN:VEVENT
DTSTART;TZID=America/Chicago:20241101T173000
DTEND;TZID=America/Chicago:20241101T183000
DTSTAMP:20260419T193712
CREATED:20240911T201612Z
LAST-MODIFIED:20240911T211709Z
UID:5845-1730482200-1730485800@knowltonhouse.com
SUMMARY:Classic Distillery Tour & Tasting - 5:30pm
DESCRIPTION:Get a behind the scenes peak at how our spirits are crafted as we take you through the history\, ingredients\, and process that goes into distilling each bottle of our award-winning TenHead spirits.\n\nTour includes a guided tasting.\n\nDuration: 45 minutes
URL:https://knowltonhouse.com/event/classic-distillery-tour-tasting-530pm-54/
LOCATION:Knowlton House Distillery\, 204575 County Rd DB\, Mosinee\, WI\, 54455\, United States
CATEGORIES:Distillery Tours
ORGANIZER;CN="Knowlton House Distillery":MAILTO:info@knowltonhouse.com
END:VEVENT
END:VCALENDAR