BEGIN:VCALENDAR
VERSION:2.0
PRODID:-//Knowlton House Distillery - ECPv6.15.17.1//NONSGML v1.0//EN
CALSCALE:GREGORIAN
METHOD:PUBLISH
X-ORIGINAL-URL:https://knowltonhouse.com
X-WR-CALDESC:Events for Knowlton House Distillery
REFRESH-INTERVAL;VALUE=DURATION:PT1H
X-Robots-Tag:noindex
X-PUBLISHED-TTL:PT1H
BEGIN:VTIMEZONE
TZID:America/Chicago
BEGIN:DAYLIGHT
TZOFFSETFROM:-0600
TZOFFSETTO:-0500
TZNAME:CDT
DTSTART:20230312T080000
END:DAYLIGHT
BEGIN:STANDARD
TZOFFSETFROM:-0500
TZOFFSETTO:-0600
TZNAME:CST
DTSTART:20231105T070000
END:STANDARD
BEGIN:DAYLIGHT
TZOFFSETFROM:-0600
TZOFFSETTO:-0500
TZNAME:CDT
DTSTART:20240310T080000
END:DAYLIGHT
BEGIN:STANDARD
TZOFFSETFROM:-0500
TZOFFSETTO:-0600
TZNAME:CST
DTSTART:20241103T070000
END:STANDARD
BEGIN:DAYLIGHT
TZOFFSETFROM:-0600
TZOFFSETTO:-0500
TZNAME:CDT
DTSTART:20250309T080000
END:DAYLIGHT
BEGIN:STANDARD
TZOFFSETFROM:-0500
TZOFFSETTO:-0600
TZNAME:CST
DTSTART:20251102T070000
END:STANDARD
END:VTIMEZONE
BEGIN:VEVENT
DTSTART;TZID=America/Chicago:20241019T160000
DTEND;TZID=America/Chicago:20241019T170000
DTSTAMP:20260419T211628
CREATED:20240911T202807Z
LAST-MODIFIED:20240911T202807Z
UID:5863-1729353600-1729357200@knowltonhouse.com
SUMMARY:Classic Distillery Tour & Tasting - 4:00pm
DESCRIPTION:Get a behind the scenes peak at how our spirits are crafted as we take you through the history\, ingredients\, and process that goes into distilling each bottle of our award-winning TenHead spirits.\n\nTour includes a guided tasting.\n\nDuration: 45 minutes
URL:https://knowltonhouse.com/event/classic-distillery-tour-tasting-400/
LOCATION:Knowlton House Distillery\, 204575 County Rd DB\, Mosinee\, WI\, 54455\, United States
CATEGORIES:Distillery Tours
ORGANIZER;CN="Knowlton House Distillery":MAILTO:info@knowltonhouse.com
END:VEVENT
BEGIN:VEVENT
DTSTART;TZID=America/Chicago:20241025T173000
DTEND;TZID=America/Chicago:20241025T183000
DTSTAMP:20260419T211628
CREATED:20240911T201314Z
LAST-MODIFIED:20240911T201314Z
UID:5839-1729877400-1729881000@knowltonhouse.com
SUMMARY:Classic Distillery Tour & Tasting - 5:30pm
DESCRIPTION:Get a behind the scenes peak at how our spirits are crafted as we take you through the history\, ingredients\, and process that goes into distilling each bottle of our award-winning TenHead spirits.\n\nTour includes a guided tasting.\n\nDuration: 45 minutes
URL:https://knowltonhouse.com/event/classic-distillery-tour-tasting-530pm-52/
LOCATION:Knowlton House Distillery\, 204575 County Rd DB\, Mosinee\, WI\, 54455\, United States
CATEGORIES:Distillery Tours
ORGANIZER;CN="Knowlton House Distillery":MAILTO:info@knowltonhouse.com
END:VEVENT
BEGIN:VEVENT
DTSTART;TZID=America/Chicago:20241025T190000
DTEND;TZID=America/Chicago:20241025T200000
DTSTAMP:20260419T211628
CREATED:20240911T202415Z
LAST-MODIFIED:20240911T202415Z
UID:5857-1729882800-1729886400@knowltonhouse.com
SUMMARY:Classic Distillery Tour & Tasting - 7:00pm
DESCRIPTION:Get a behind the scenes peak at how our spirits are crafted as we take you through the history\, ingredients\, and process that goes into distilling each bottle of our award-winning TenHead spirits.\n\nTour includes a guided tasting.\n\nDuration: 45 minutes
URL:https://knowltonhouse.com/event/classic-distillery-tour-tasting-700pm-17/
LOCATION:Knowlton House Distillery\, 204575 County Rd DB\, Mosinee\, WI\, 54455\, United States
CATEGORIES:Distillery Tours
ORGANIZER;CN="Knowlton House Distillery":MAILTO:info@knowltonhouse.com
END:VEVENT
BEGIN:VEVENT
DTSTART;TZID=America/Chicago:20241026T130000
DTEND;TZID=America/Chicago:20241026T140000
DTSTAMP:20260419T211628
CREATED:20240911T210109Z
LAST-MODIFIED:20240911T210109Z
UID:5906-1729947600-1729951200@knowltonhouse.com
SUMMARY:Classic Distillery Tour & Tasting - 1:00pm
DESCRIPTION:Get a behind the scenes peak at how our spirits are crafted as we take you through the history\, ingredients\, and process that goes into distilling each bottle of our award-winning TenHead spirits.\n\nTour includes a guided tasting.\n\nDuration: 45 minutes
URL:https://knowltonhouse.com/event/classic-distillery-tour-tasting-100pm-21/
LOCATION:Knowlton House Distillery\, 204575 County Rd DB\, Mosinee\, WI\, 54455\, United States
CATEGORIES:Distillery Tours
ORGANIZER;CN="Knowlton House Distillery":MAILTO:info@knowltonhouse.com
END:VEVENT
BEGIN:VEVENT
DTSTART;TZID=America/Chicago:20241026T143000
DTEND;TZID=America/Chicago:20241026T153000
DTSTAMP:20260419T211628
CREATED:20240911T204412Z
LAST-MODIFIED:20240911T204412Z
UID:5885-1729953000-1729956600@knowltonhouse.com
SUMMARY:Classic Distillery Tour & Tasting - 2:30pm
DESCRIPTION:Get a behind the scenes peak at how our spirits are crafted as we take you through the history\, ingredients\, and process that goes into distilling each bottle of our award-winning TenHead spirits.\n\nTour includes a guided tasting.\n\nDuration: 45 minutes
URL:https://knowltonhouse.com/event/classic-distillery-tour-tasting-230pm-23/
LOCATION:Knowlton House Distillery\, 204575 County Rd DB\, Mosinee\, WI\, 54455\, United States
CATEGORIES:Distillery Tours
ORGANIZER;CN="Knowlton House Distillery":MAILTO:info@knowltonhouse.com
END:VEVENT
BEGIN:VEVENT
DTSTART;TZID=America/Chicago:20241026T160000
DTEND;TZID=America/Chicago:20241026T170000
DTSTAMP:20260419T211628
CREATED:20240911T203639Z
LAST-MODIFIED:20240911T203639Z
UID:5875-1729958400-1729962000@knowltonhouse.com
SUMMARY:Classic Distillery Tour & Tasting - 4:00pm
DESCRIPTION:Get a behind the scenes peak at how our spirits are crafted as we take you through the history\, ingredients\, and process that goes into distilling each bottle of our award-winning TenHead spirits.\n\nTour includes a guided tasting.\n\nDuration: 45 minutes
URL:https://knowltonhouse.com/event/classic-distillery-tour-tasting-400pm-44/
LOCATION:Knowlton House Distillery\, 204575 County Rd DB\, Mosinee\, WI\, 54455\, United States
CATEGORIES:Distillery Tours
ORGANIZER;CN="Knowlton House Distillery":MAILTO:info@knowltonhouse.com
END:VEVENT
BEGIN:VEVENT
DTSTART;TZID=America/Chicago:20241101T173000
DTEND;TZID=America/Chicago:20241101T183000
DTSTAMP:20260419T211628
CREATED:20240911T201612Z
LAST-MODIFIED:20240911T211709Z
UID:5845-1730482200-1730485800@knowltonhouse.com
SUMMARY:Classic Distillery Tour & Tasting - 5:30pm
DESCRIPTION:Get a behind the scenes peak at how our spirits are crafted as we take you through the history\, ingredients\, and process that goes into distilling each bottle of our award-winning TenHead spirits.\n\nTour includes a guided tasting.\n\nDuration: 45 minutes
URL:https://knowltonhouse.com/event/classic-distillery-tour-tasting-530pm-54/
LOCATION:Knowlton House Distillery\, 204575 County Rd DB\, Mosinee\, WI\, 54455\, United States
CATEGORIES:Distillery Tours
ORGANIZER;CN="Knowlton House Distillery":MAILTO:info@knowltonhouse.com
END:VEVENT
BEGIN:VEVENT
DTSTART;TZID=America/Chicago:20241101T190000
DTEND;TZID=America/Chicago:20241101T200000
DTSTAMP:20260419T211628
CREATED:20240911T202545Z
LAST-MODIFIED:20240911T202545Z
UID:5860-1730487600-1730491200@knowltonhouse.com
SUMMARY:Classic Distillery Tour & Tasting - 7:00pm
DESCRIPTION:Get a behind the scenes peak at how our spirits are crafted as we take you through the history\, ingredients\, and process that goes into distilling each bottle of our award-winning TenHead spirits.\n\nTour includes a guided tasting.\n\nDuration: 45 minutes
URL:https://knowltonhouse.com/event/classic-distillery-tour-tasting-700pm-18/
LOCATION:Knowlton House Distillery\, 204575 County Rd DB\, Mosinee\, WI\, 54455\, United States
CATEGORIES:Distillery Tours
ORGANIZER;CN="Knowlton House Distillery":MAILTO:info@knowltonhouse.com
END:VEVENT
BEGIN:VEVENT
DTSTART;TZID=America/Chicago:20241102T130000
DTEND;TZID=America/Chicago:20241102T140000
DTSTAMP:20260419T211628
CREATED:20240911T210345Z
LAST-MODIFIED:20240911T210345Z
UID:5909-1730552400-1730556000@knowltonhouse.com
SUMMARY:Classic Distillery Tour & Tasting - 1:00pm
DESCRIPTION:Get a behind the scenes peak at how our spirits are crafted as we take you through the history\, ingredients\, and process that goes into distilling each bottle of our award-winning TenHead spirits.\n\nTour includes a guided tasting.\n\nDuration: 45 minutes
URL:https://knowltonhouse.com/event/classic-distillery-tour-tasting-100pm-23/
LOCATION:Knowlton House Distillery\, 204575 County Rd DB\, Mosinee\, WI\, 54455\, United States
CATEGORIES:Distillery Tours
ORGANIZER;CN="Knowlton House Distillery":MAILTO:info@knowltonhouse.com
END:VEVENT
BEGIN:VEVENT
DTSTART;TZID=America/Chicago:20241102T143000
DTEND;TZID=America/Chicago:20241102T153000
DTSTAMP:20260419T211628
CREATED:20240911T204138Z
LAST-MODIFIED:20240911T204138Z
UID:5882-1730557800-1730561400@knowltonhouse.com
SUMMARY:Classic Distillery Tour & Tasting - 2:30pm
DESCRIPTION:Get a behind the scenes peak at how our spirits are crafted as we take you through the history\, ingredients\, and process that goes into distilling each bottle of our award-winning TenHead spirits.\n\nTour includes a guided tasting.\n\nDuration: 45 minutes
URL:https://knowltonhouse.com/event/classic-distillery-tour-tasting-230-2/
LOCATION:Knowlton House Distillery\, 204575 County Rd DB\, Mosinee\, WI\, 54455\, United States
CATEGORIES:Distillery Tours
ORGANIZER;CN="Knowlton House Distillery":MAILTO:info@knowltonhouse.com
END:VEVENT
BEGIN:VEVENT
DTSTART;TZID=America/Chicago:20241103T120000
DTEND;TZID=America/Chicago:20241103T140000
DTSTAMP:20260419T211628
CREATED:20240911T195954Z
LAST-MODIFIED:20241014T172654Z
UID:5822-1730635200-1730642400@knowltonhouse.com
SUMMARY:U Paint\, We Pour: Couples Painting Class
DESCRIPTION:Join U Paint & Party for a couples canvas painting class of “Frosty Forest”. Each ticket includes TWO 16″ x 20″ canvases\, which\, when combined\, create one beautiful picture. No painting experience? No worries! Step-by-step guidance makes it easy for everyone to participate and create a masterpiece of their own!\n\nCocktails & food available for purchase.\n\nFor registration & questions\, contact U Paint & Party.\n\n 
URL:https://knowltonhouse.com/event/u-paint-we-pour-couples-painting-class/
LOCATION:Knowlton House Distillery\, 204575 County Rd DB\, Mosinee\, WI\, 54455\, United States
CATEGORIES:Art & Crafting
ORGANIZER;CN="U Paint & Party":MAILTO:upaintandparty@gmail.com
END:VEVENT
BEGIN:VEVENT
DTSTART;TZID=America/Chicago:20241108T173000
DTEND;TZID=America/Chicago:20241108T183000
DTSTAMP:20260419T211628
CREATED:20241009T142133Z
LAST-MODIFIED:20241009T143205Z
UID:6068-1731087000-1731090600@knowltonhouse.com
SUMMARY:Classic Distillery Tour & Tasting - 5:30pm
DESCRIPTION:Get a behind the scenes peak at how our spirits are crafted as we take you through the history\, ingredients\, and process that goes into distilling each bottle of our award-winning TenHead spirits.\n\nTour includes a guided tasting.\n\nDuration: 45 minutes
URL:https://knowltonhouse.com/event/classic-distillery-tour-tasting-530pm-50/
LOCATION:Knowlton House Distillery\, 204575 County Rd DB\, Mosinee\, WI\, 54455\, United States
CATEGORIES:Distillery Tours
ORGANIZER;CN="Knowlton House Distillery":MAILTO:info@knowltonhouse.com
END:VEVENT
BEGIN:VEVENT
DTSTART;TZID=America/Chicago:20241108T190000
DTEND;TZID=America/Chicago:20241108T200000
DTSTAMP:20260419T211628
CREATED:20241009T143425Z
LAST-MODIFIED:20241009T143425Z
UID:6089-1731092400-1731096000@knowltonhouse.com
SUMMARY:Classic Distillery Tour & Tasting - 7:00pm
DESCRIPTION:Get a behind the scenes peak at how our spirits are crafted as we take you through the history\, ingredients\, and process that goes into distilling each bottle of our award-winning TenHead spirits.\n\nTour includes a guided tasting.\n\nDuration: 45 minutes
URL:https://knowltonhouse.com/event/classic-distillery-tour-tasting-700pm-16/
LOCATION:Knowlton House Distillery\, 204575 County Rd DB\, Mosinee\, WI\, 54455\, United States
CATEGORIES:Distillery Tours
ORGANIZER;CN="Knowlton House Distillery":MAILTO:info@knowltonhouse.com
END:VEVENT
BEGIN:VEVENT
DTSTART;TZID=America/Chicago:20241109T143000
DTEND;TZID=America/Chicago:20241109T153000
DTSTAMP:20260419T211628
CREATED:20241009T145615Z
LAST-MODIFIED:20241009T145615Z
UID:6110-1731162600-1731166200@knowltonhouse.com
SUMMARY:Classic Distillery Tour & Tasting - 2:30pm
DESCRIPTION:Get a behind the scenes peak at how our spirits are crafted as we take you through the history\, ingredients\, and process that goes into distilling each bottle of our award-winning TenHead spirits.\n\nTour includes a guided tasting.\n\nDuration: 45 minutes
URL:https://knowltonhouse.com/event/classic-distillery-tour-tasting-230pm-30/
LOCATION:Knowlton House Distillery\, 204575 County Rd DB\, Mosinee\, WI\, 54455\, United States
CATEGORIES:Distillery Tours
ORGANIZER;CN="Knowlton House Distillery":MAILTO:info@knowltonhouse.com
END:VEVENT
BEGIN:VEVENT
DTSTART;TZID=America/Chicago:20241110T123000
DTEND;TZID=America/Chicago:20241110T150000
DTSTAMP:20260419T211628
CREATED:20241014T172506Z
LAST-MODIFIED:20241014T172506Z
UID:6166-1731241800-1731250800@knowltonhouse.com
SUMMARY:U Paint\, We Pour: Couples Painting Class
DESCRIPTION:Join U Paint & Party for a couples canvas painting class of “Frosty Forest”. Each ticket includes TWO 16″ x 20″ canvases\, which\, when combined\, create one beautiful picture. No painting experience? No worries! Step-by-step guidance makes it easy for everyone to participate and create a masterpiece of their own!\n\nCocktails & food available for purchase.\n\nFor registration & questions\, contact U Paint & Party.\n\n 
URL:https://knowltonhouse.com/event/u-paint-we-pour-couples-painting-class-2/
LOCATION:Knowlton House Distillery\, 204575 County Rd DB\, Mosinee\, WI\, 54455\, United States
CATEGORIES:Art & Crafting
ORGANIZER;CN="U Paint & Party":MAILTO:upaintandparty@gmail.com
END:VEVENT
BEGIN:VEVENT
DTSTART;TZID=America/Chicago:20241115T173000
DTEND;TZID=America/Chicago:20241115T183000
DTSTAMP:20260419T211628
CREATED:20241009T142354Z
LAST-MODIFIED:20241009T142354Z
UID:6074-1731691800-1731695400@knowltonhouse.com
SUMMARY:Classic Distillery Tour & Tasting - 5:30pm
DESCRIPTION:Get a behind the scenes peak at how our spirits are crafted as we take you through the history\, ingredients\, and process that goes into distilling each bottle of our award-winning TenHead spirits.\n\nTour includes a guided tasting.\n\nDuration: 45 minutes
URL:https://knowltonhouse.com/event/classic-distillery-tour-tasting-530pm-56/
LOCATION:Knowlton House Distillery\, 204575 County Rd DB\, Mosinee\, WI\, 54455\, United States
CATEGORIES:Distillery Tours
ORGANIZER;CN="Knowlton House Distillery":MAILTO:info@knowltonhouse.com
END:VEVENT
BEGIN:VEVENT
DTSTART;TZID=America/Chicago:20241116T143000
DTEND;TZID=America/Chicago:20241116T153000
DTSTAMP:20260419T211628
CREATED:20241009T145802Z
LAST-MODIFIED:20241009T145802Z
UID:6113-1731767400-1731771000@knowltonhouse.com
SUMMARY:Classic Distillery Tour & Tasting - 2:30pm
DESCRIPTION:Get a behind the scenes peak at how our spirits are crafted as we take you through the history\, ingredients\, and process that goes into distilling each bottle of our award-winning TenHead spirits.\n\nTour includes a guided tasting.\n\nDuration: 45 minutes
URL:https://knowltonhouse.com/event/classic-distillery-tour-tasting-230pm-33/
LOCATION:Knowlton House Distillery\, 204575 County Rd DB\, Mosinee\, WI\, 54455\, United States
CATEGORIES:Distillery Tours
ORGANIZER;CN="Knowlton House Distillery":MAILTO:info@knowltonhouse.com
END:VEVENT
BEGIN:VEVENT
DTSTART;TZID=America/Chicago:20241116T160000
DTEND;TZID=America/Chicago:20241116T170000
DTSTAMP:20260419T211628
CREATED:20241009T144407Z
LAST-MODIFIED:20241009T144407Z
UID:6104-1731772800-1731776400@knowltonhouse.com
SUMMARY:Classic Distillery Tour & Tasting - 4:00pm
DESCRIPTION:Get a behind the scenes peak at how our spirits are crafted as we take you through the history\, ingredients\, and process that goes into distilling each bottle of our award-winning TenHead spirits.\n\nTour includes a guided tasting.\n\nDuration: 45 minutes
URL:https://knowltonhouse.com/event/classic-distillery-tour-tasting-400pm-48/
LOCATION:Knowlton House Distillery\, 204575 County Rd DB\, Mosinee\, WI\, 54455\, United States
CATEGORIES:Distillery Tours
ORGANIZER;CN="Knowlton House Distillery":MAILTO:info@knowltonhouse.com
END:VEVENT
BEGIN:VEVENT
DTSTART;TZID=America/Chicago:20241116T173000
DTEND;TZID=America/Chicago:20241116T183000
DTSTAMP:20260419T211628
CREATED:20241009T142520Z
LAST-MODIFIED:20241009T142520Z
UID:6077-1731778200-1731781800@knowltonhouse.com
SUMMARY:Classic Distillery Tour & Tasting - 5:30pm
DESCRIPTION:Get a behind the scenes peak at how our spirits are crafted as we take you through the history\, ingredients\, and process that goes into distilling each bottle of our award-winning TenHead spirits.\n\nTour includes a guided tasting.\n\nDuration: 45 minutes
URL:https://knowltonhouse.com/event/classic-distillery-tour-tasting-530pm-57/
LOCATION:Knowlton House Distillery\, 204575 County Rd DB\, Mosinee\, WI\, 54455\, United States
CATEGORIES:Distillery Tours
ORGANIZER;CN="Knowlton House Distillery":MAILTO:info@knowltonhouse.com
END:VEVENT
BEGIN:VEVENT
DTSTART;TZID=America/Chicago:20241117T123000
DTEND;TZID=America/Chicago:20241117T150000
DTSTAMP:20260419T211628
CREATED:20241014T174336Z
LAST-MODIFIED:20241014T174336Z
UID:6168-1731846600-1731855600@knowltonhouse.com
SUMMARY:U Paint\, We Pour: Canvas Painting Class
DESCRIPTION:Join U Paint & Party for a canvas painting class of “Snowman Ornament”. Their step-by-step guidance makes it easy for everyone to participate and create a masterpiece of their own.  Customize your painting to make it unique!\n\nCocktails & food available for purchase.\n\nFor registration & questions\, contact U Paint & Party.\n\n 
URL:https://knowltonhouse.com/event/u-paint-we-pour-canvas-painting-class-4/
LOCATION:Knowlton House Distillery\, 204575 County Rd DB\, Mosinee\, WI\, 54455\, United States
CATEGORIES:Art & Crafting
ORGANIZER;CN="U Paint & Party":MAILTO:upaintandparty@gmail.com
END:VEVENT
BEGIN:VEVENT
DTSTART;TZID=America/Chicago:20241122T173000
DTEND;TZID=America/Chicago:20241122T183000
DTSTAMP:20260419T211628
CREATED:20241009T142800Z
LAST-MODIFIED:20241009T142800Z
UID:6080-1732296600-1732300200@knowltonhouse.com
SUMMARY:Classic Distillery Tour & Tasting - 5:30pm
DESCRIPTION:Get a behind the scenes peak at how our spirits are crafted as we take you through the history\, ingredients\, and process that goes into distilling each bottle of our award-winning TenHead spirits.\n\nTour includes a guided tasting.\n\nDuration: 45 minutes
URL:https://knowltonhouse.com/event/classic-distillery-tour-tasting-530pm-58/
LOCATION:Knowlton House Distillery\, 204575 County Rd DB\, Mosinee\, WI\, 54455\, United States
CATEGORIES:Distillery Tours
ORGANIZER;CN="Knowlton House Distillery":MAILTO:info@knowltonhouse.com
END:VEVENT
BEGIN:VEVENT
DTSTART;TZID=America/Chicago:20241122T190000
DTEND;TZID=America/Chicago:20241122T200000
DTSTAMP:20260419T211628
CREATED:20241009T143738Z
LAST-MODIFIED:20241009T143738Z
UID:6095-1732302000-1732305600@knowltonhouse.com
SUMMARY:Classic Distillery Tour & Tasting - 7:00pm
DESCRIPTION:Get a behind the scenes peak at how our spirits are crafted as we take you through the history\, ingredients\, and process that goes into distilling each bottle of our award-winning TenHead spirits.\n\nTour includes a guided tasting.\n\nDuration: 45 minutes
URL:https://knowltonhouse.com/event/classic-distillery-tour-tasting-700pm-20/
LOCATION:Knowlton House Distillery\, 204575 County Rd DB\, Mosinee\, WI\, 54455\, United States
CATEGORIES:Distillery Tours
ORGANIZER;CN="Knowlton House Distillery":MAILTO:info@knowltonhouse.com
END:VEVENT
BEGIN:VEVENT
DTSTART;TZID=America/Chicago:20241123T183000
DTEND;TZID=America/Chicago:20241123T203000
DTSTAMP:20260419T211628
CREATED:20241014T171910Z
LAST-MODIFIED:20241014T171910Z
UID:6164-1732386600-1732393800@knowltonhouse.com
SUMMARY:U Paint\, We Pour: Canvas Painting Class
DESCRIPTION:Join U Paint & Party for a canvas painting class of “Frosty Fun”. Their step-by-step guidance makes it easy for everyone to participate and create a masterpiece of their own.  Customize your painting to make it unique!\n\nCocktails & food available for purchase.\n\nFor registration & questions\, contact U Paint & Party.\n\n 
URL:https://knowltonhouse.com/event/u-paint-we-pour-canvas-painting-class-3/
LOCATION:Knowlton House Distillery\, 204575 County Rd DB\, Mosinee\, WI\, 54455\, United States
CATEGORIES:Art & Crafting
ORGANIZER;CN="U Paint & Party":MAILTO:upaintandparty@gmail.com
END:VEVENT
BEGIN:VEVENT
DTSTART;VALUE=DATE:20241129
DTEND;VALUE=DATE:20241223
DTSTAMP:20260419T211628
CREATED:20241106T161743Z
LAST-MODIFIED:20241106T161743Z
UID:6382-1732838400-1734911999@knowltonhouse.com
SUMMARY:Tipsy Tree Market
DESCRIPTION:Shop for the perfect Christmas tree the best way — with a hot toddy in hand!  Stop by the Tipsy Tree Market for a fresh cut tree from Swans Christmas Tree Farm of Mosinee.\n\n \n\nOpen daily.  Staffed on Saturdays & Sundays. Cash or PayPal only on Monday-Friday.\n\n 
URL:https://knowltonhouse.com/event/tipsy-tree-market/
LOCATION:Knowlton House Distillery\, 204575 County Rd DB\, Mosinee\, WI\, 54455\, United States
CATEGORIES:Seasonal Market
ATTACH;FMTTYPE=image/png:https://knowltonhouse.com/wp-content/uploads/2024/11/TIPSYSQUARE-e1730909147172.png
END:VEVENT
BEGIN:VEVENT
DTSTART;TZID=America/Chicago:20241129T173000
DTEND;TZID=America/Chicago:20241129T183000
DTSTAMP:20260419T211628
CREATED:20241009T142925Z
LAST-MODIFIED:20241009T142925Z
UID:6083-1732901400-1732905000@knowltonhouse.com
SUMMARY:Classic Distillery Tour & Tasting - 5:30pm
DESCRIPTION:Get a behind the scenes peak at how our spirits are crafted as we take you through the history\, ingredients\, and process that goes into distilling each bottle of our award-winning TenHead spirits.\n\nTour includes a guided tasting.\n\nDuration: 45 minutes
URL:https://knowltonhouse.com/event/classic-distillery-tour-tasting-530pm-59/
LOCATION:Knowlton House Distillery\, 204575 County Rd DB\, Mosinee\, WI\, 54455\, United States
CATEGORIES:Distillery Tours
ORGANIZER;CN="Knowlton House Distillery":MAILTO:info@knowltonhouse.com
END:VEVENT
BEGIN:VEVENT
DTSTART;TZID=America/Chicago:20241129T190000
DTEND;TZID=America/Chicago:20241129T200000
DTSTAMP:20260419T211628
CREATED:20241009T143903Z
LAST-MODIFIED:20241009T143903Z
UID:6098-1732906800-1732910400@knowltonhouse.com
SUMMARY:Classic Distillery Tour & Tasting - 7:00pm
DESCRIPTION:Get a behind the scenes peak at how our spirits are crafted as we take you through the history\, ingredients\, and process that goes into distilling each bottle of our award-winning TenHead spirits.\n\nTour includes a guided tasting.\n\nDuration: 45 minutes
URL:https://knowltonhouse.com/event/classic-distillery-tour-tasting-700pm-21/
LOCATION:Knowlton House Distillery\, 204575 County Rd DB\, Mosinee\, WI\, 54455\, United States
CATEGORIES:Distillery Tours
ORGANIZER;CN="Knowlton House Distillery":MAILTO:info@knowltonhouse.com
END:VEVENT
BEGIN:VEVENT
DTSTART;TZID=America/Chicago:20241205T180000
DTEND;TZID=America/Chicago:20241205T193000
DTSTAMP:20260419T211628
CREATED:20241002T194300Z
LAST-MODIFIED:20241119T190817Z
UID:6020-1733421600-1733427000@knowltonhouse.com
SUMMARY:Cocktail Workshop: Making Spirits Bright
DESCRIPTION:MAKE SPIRITS BRIGHT at our holiday cocktail-making workshop.  Get hands-on as we guide you through basic mixology and bartending techniques as you craft holiday-inspired libations.  Take the recipes home and be ready to shake up some seasonal cocktails for friends and family.  Workshop includes instruction\, welcome cocktail\, two cocktail creations and light bites from our scratch kitchen.  It’s an evening of fun for cocktail novices and aficionados alike.\n\nMust be 21+ to participate.\n\nCocktails: GIN-gle Bells (Gin)\, Sugar Pom Fairy (Vodka)\, Old Fashioned Christmas (Bourbon)\n\n \n\n 
URL:https://knowltonhouse.com/event/cocktail-workshop-holiday/
LOCATION:Knowlton House Distillery\, 204575 County Rd DB\, Mosinee\, WI\, 54455\, United States
CATEGORIES:Cocktail Making Workshops
ATTACH;FMTTYPE=image/jpeg:https://knowltonhouse.com/wp-content/uploads/2024/04/231025_Knowlton-House-Distillery-Photography_Jena-Carlin-Creative-1733-2-LR-e1761747348673.jpg
ORGANIZER;CN="Knowlton House Distillery":MAILTO:info@knowltonhouse.com
END:VEVENT
BEGIN:VEVENT
DTSTART;TZID=America/Chicago:20241206T180000
DTEND;TZID=America/Chicago:20241206T200000
DTSTAMP:20260419T211628
CREATED:20241016T180046Z
LAST-MODIFIED:20241114T163011Z
UID:6209-1733508000-1733515200@knowltonhouse.com
SUMMARY:Holiday Trivia
DESCRIPTION:Put your useless knowledge to the test with an evening of holiday trivia at the distillery hosted by Pete & Swizz.\n\nThere’s no cost to participate\, so grab your smartest friends & register your team. Space is limited. Prizes awarded. Come early to grab dinner before the fun begins.\n\n \n\nREGISTRATION REQUIRED. Teams of 3-6 people (just register once for the team).
URL:https://knowltonhouse.com/event/holiday-trivia/
LOCATION:Knowlton House Distillery\, 204575 County Rd DB\, Mosinee\, WI\, 54455\, United States
ATTACH;FMTTYPE=image/png:https://knowltonhouse.com/wp-content/uploads/2024/10/Holiday-Trivia-Square.png
ORGANIZER;CN="Knowlton House Distillery":MAILTO:info@knowltonhouse.com
END:VEVENT
BEGIN:VEVENT
DTSTART;TZID=America/Chicago:20241207T130000
DTEND;TZID=America/Chicago:20241207T150000
DTSTAMP:20260419T211628
CREATED:20241105T171139Z
LAST-MODIFIED:20241105T171329Z
UID:6361-1733576400-1733583600@knowltonhouse.com
SUMMARY:Winter Wreath Decorating Workshop
DESCRIPTION:Join Fields & Flora for a Winter Wreath Decorating Workshop.  Compose the perfect wreath using dried flowers\, grasses & other foraged or found decorations.  Perfect for getting your home ready for the holidays.\n\nTickets $65.  Price includes 1 winter wreath to be decorated & one drink token.  Additional cocktails & food available for purchase.\n\nFor registration & questions\, contact Fields & Flora.\n\n 
URL:https://knowltonhouse.com/event/winter-wreath-decorating-workshop/
LOCATION:Knowlton House Distillery\, 204575 County Rd DB\, Mosinee\, WI\, 54455\, United States
CATEGORIES:Art & Crafting
ATTACH;FMTTYPE=image/jpeg:https://knowltonhouse.com/wp-content/uploads/2024/11/Fieldsflora3-e1730827840153.jpg
ORGANIZER;CN="Fields & Flora":MAILTO:ella_rosie@fieldsflora.com
END:VEVENT
BEGIN:VEVENT
DTSTART;TZID=America/Chicago:20241207T160000
DTEND;TZID=America/Chicago:20241207T170000
DTSTAMP:20260419T211628
CREATED:20241103T200413Z
LAST-MODIFIED:20241103T200413Z
UID:6304-1733587200-1733590800@knowltonhouse.com
SUMMARY:Classic Distillery Tour & Tasting - 4:00pm
DESCRIPTION:Get a behind the scenes peak at how our spirits are crafted as we take you through the history\, ingredients\, and process that goes into distilling each bottle of our award-winning TenHead spirits.\n\nTour includes a guided tasting.\n\nDuration: 45 minutes
URL:https://knowltonhouse.com/event/classic-distillery-tour-tasting-400pm-46/
LOCATION:Knowlton House Distillery\, 204575 County Rd DB\, Mosinee\, WI\, 54455\, United States
CATEGORIES:Distillery Tours
ORGANIZER;CN="Knowlton House Distillery":MAILTO:info@knowltonhouse.com
END:VEVENT
END:VCALENDAR