BEGIN:VCALENDAR
VERSION:2.0
PRODID:-//Knowlton House Distillery - ECPv6.15.17.1//NONSGML v1.0//EN
CALSCALE:GREGORIAN
METHOD:PUBLISH
X-ORIGINAL-URL:https://knowltonhouse.com
X-WR-CALDESC:Events for Knowlton House Distillery
REFRESH-INTERVAL;VALUE=DURATION:PT1H
X-Robots-Tag:noindex
X-PUBLISHED-TTL:PT1H
BEGIN:VTIMEZONE
TZID:America/Chicago
BEGIN:DAYLIGHT
TZOFFSETFROM:-0600
TZOFFSETTO:-0500
TZNAME:CDT
DTSTART:20240310T080000
END:DAYLIGHT
BEGIN:STANDARD
TZOFFSETFROM:-0500
TZOFFSETTO:-0600
TZNAME:CST
DTSTART:20241103T070000
END:STANDARD
BEGIN:DAYLIGHT
TZOFFSETFROM:-0600
TZOFFSETTO:-0500
TZNAME:CDT
DTSTART:20250309T080000
END:DAYLIGHT
BEGIN:STANDARD
TZOFFSETFROM:-0500
TZOFFSETTO:-0600
TZNAME:CST
DTSTART:20251102T070000
END:STANDARD
BEGIN:DAYLIGHT
TZOFFSETFROM:-0600
TZOFFSETTO:-0500
TZNAME:CDT
DTSTART:20260308T080000
END:DAYLIGHT
BEGIN:STANDARD
TZOFFSETFROM:-0500
TZOFFSETTO:-0600
TZNAME:CST
DTSTART:20261101T070000
END:STANDARD
END:VTIMEZONE
BEGIN:VEVENT
DTSTART;TZID=America/Chicago:20250524T130000
DTEND;TZID=America/Chicago:20250524T140000
DTSTAMP:20260422T082513
CREATED:20250401T164642Z
LAST-MODIFIED:20250401T164642Z
UID:7635-1748091600-1748095200@knowltonhouse.com
SUMMARY:Classic Distillery Tour & Tasting - 1:00pm
DESCRIPTION:Get a behind the scenes peak at how our spirits are crafted as we take you through the history\, ingredients\, and process that goes into distilling each bottle of our award-winning TenHead spirits.\n\nTour includes a guided tasting.\n\nDuration: 60 minutes
URL:https://knowltonhouse.com/event/classic-distillery-tour-tasting-100pm-14/
LOCATION:Knowlton House Distillery\, 204575 County Rd DB\, Mosinee\, WI\, 54455\, United States
CATEGORIES:Distillery Tours
ORGANIZER;CN="Knowlton House Distillery":MAILTO:info@knowltonhouse.com
END:VEVENT
BEGIN:VEVENT
DTSTART;TZID=America/Chicago:20250524T143000
DTEND;TZID=America/Chicago:20250524T153000
DTSTAMP:20260422T082513
CREATED:20250401T163600Z
LAST-MODIFIED:20250401T163600Z
UID:7626-1748097000-1748100600@knowltonhouse.com
SUMMARY:Classic Distillery Tour & Tasting - 2:30pm
DESCRIPTION:Get a behind the scenes peak at how our spirits are crafted as we take you through the history\, ingredients\, and process that goes into distilling each bottle of our award-winning TenHead spirits.\n\nTour includes a guided tasting.\n\nDuration: 60 minutes
URL:https://knowltonhouse.com/event/classic-distillery-tour-tasting-230pm-46/
LOCATION:Knowlton House Distillery\, 204575 County Rd DB\, Mosinee\, WI\, 54455\, United States
CATEGORIES:Distillery Tours
ORGANIZER;CN="Knowlton House Distillery":MAILTO:info@knowltonhouse.com
END:VEVENT
BEGIN:VEVENT
DTSTART;TZID=America/Chicago:20250524T160000
DTEND;TZID=America/Chicago:20250524T170000
DTSTAMP:20260422T082513
CREATED:20250401T161041Z
LAST-MODIFIED:20250401T161041Z
UID:7604-1748102400-1748106000@knowltonhouse.com
SUMMARY:Classic Distillery Tour & Tasting - 4:00pm
DESCRIPTION:Get a behind the scenes peak at how our spirits are crafted as we take you through the history\, ingredients\, and process that goes into distilling each bottle of our award-winning TenHead spirits.\n\nTour includes a guided tasting.\n\nDuration: 60 minutes
URL:https://knowltonhouse.com/event/classic-distillery-tour-tasting-400pm-53/
LOCATION:Knowlton House Distillery\, 204575 County Rd DB\, Mosinee\, WI\, 54455\, United States
CATEGORIES:Distillery Tours
ORGANIZER;CN="Knowlton House Distillery":MAILTO:info@knowltonhouse.com
END:VEVENT
BEGIN:VEVENT
DTSTART;TZID=America/Chicago:20250525T130000
DTEND;TZID=America/Chicago:20250525T160000
DTSTAMP:20260422T082513
CREATED:20250401T195222Z
LAST-MODIFIED:20250519T143635Z
UID:7672-1748178000-1748188800@knowltonhouse.com
SUMMARY:LIVE MUSIC: JORDAN BAIN
DESCRIPTION:Enjoy Sunday Funday at the distillery with live music\, brunch & a Bloody Mary.  Kick back with music from local artist Jordan Bain as he plays a fun mix of Indie\, Classic Rock\, Country & originals.\n\n \n\n 
URL:https://knowltonhouse.com/event/live-music-jordan-bain/
LOCATION:Knowlton House Distillery\, 204575 County Rd DB\, Mosinee\, WI\, 54455\, United States
CATEGORIES:Live Music
ATTACH;FMTTYPE=image/jpeg:https://knowltonhouse.com/wp-content/uploads/2025/04/Jordan-Bain-Musician.jpg
ORGANIZER;CN="Knowlton House Distillery":MAILTO:info@knowltonhouse.com
END:VEVENT
BEGIN:VEVENT
DTSTART;TZID=America/Chicago:20250530T173000
DTEND;TZID=America/Chicago:20250530T183000
DTSTAMP:20260422T082513
CREATED:20250401T153842Z
LAST-MODIFIED:20250401T153842Z
UID:7595-1748626200-1748629800@knowltonhouse.com
SUMMARY:Classic Distillery Tour & Tasting - 5:30pm
DESCRIPTION:Get a behind the scenes peak at how our spirits are crafted as we take you through the history\, ingredients\, and process that goes into distilling each bottle of our award-winning TenHead spirits.\n\nTour includes a guided tasting.\n\nDuration: 60 minutes
URL:https://knowltonhouse.com/event/classic-distillery-tour-tasting-530pm-85/
LOCATION:Knowlton House Distillery\, 204575 County Rd DB\, Mosinee\, WI\, 54455\, United States
CATEGORIES:Distillery Tours
ORGANIZER;CN="Knowlton House Distillery":MAILTO:info@knowltonhouse.com
END:VEVENT
BEGIN:VEVENT
DTSTART;TZID=America/Chicago:20250530T190000
DTEND;TZID=America/Chicago:20250530T200000
DTSTAMP:20260422T082513
CREATED:20250401T194008Z
LAST-MODIFIED:20250401T194008Z
UID:7669-1748631600-1748635200@knowltonhouse.com
SUMMARY:Classic Distillery Tour & Tasting - 7:00pm
DESCRIPTION:Get a behind the scenes peak at how our spirits are crafted as we take you through the history\, ingredients\, and process that goes into distilling each bottle of our award-winning TenHead spirits.\n\nTour includes a guided tasting.\n\nDuration: 60 minutes
URL:https://knowltonhouse.com/event/classic-distillery-tour-tasting-700pm-32/
LOCATION:Knowlton House Distillery\, 204575 County Rd DB\, Mosinee\, WI\, 54455\, United States
CATEGORIES:Distillery Tours
ORGANIZER;CN="Knowlton House Distillery":MAILTO:info@knowltonhouse.com
END:VEVENT
BEGIN:VEVENT
DTSTART;TZID=America/Chicago:20250531T130000
DTEND;TZID=America/Chicago:20250531T140000
DTSTAMP:20260422T082513
CREATED:20250505T182631Z
LAST-MODIFIED:20250505T182631Z
UID:7806-1748696400-1748700000@knowltonhouse.com
SUMMARY:Classic Distillery Tour & Tasting - 1:00pm
DESCRIPTION:Get a behind the scenes peak at how our spirits are crafted as we take you through the history\, ingredients\, and process that goes into distilling each bottle of our award-winning TenHead spirits.\n\nTour includes a guided tasting.\n\nDuration: 60 minutes
URL:https://knowltonhouse.com/event/classic-distillery-tour-tasting-100pm-31/
LOCATION:Knowlton House Distillery\, 204575 County Rd DB\, Mosinee\, WI\, 54455\, United States
CATEGORIES:Distillery Tours
ORGANIZER;CN="Knowlton House Distillery":MAILTO:info@knowltonhouse.com
END:VEVENT
BEGIN:VEVENT
DTSTART;TZID=America/Chicago:20250531T143000
DTEND;TZID=America/Chicago:20250531T153000
DTSTAMP:20260422T082513
CREATED:20250401T163858Z
LAST-MODIFIED:20250401T163858Z
UID:7629-1748701800-1748705400@knowltonhouse.com
SUMMARY:Classic Distillery Tour & Tasting - 2:30pm
DESCRIPTION:Get a behind the scenes peak at how our spirits are crafted as we take you through the history\, ingredients\, and process that goes into distilling each bottle of our award-winning TenHead spirits.\n\nTour includes a guided tasting.\n\nDuration: 60 minutes
URL:https://knowltonhouse.com/event/classic-distillery-tour-tasting-230pm-47/
LOCATION:Knowlton House Distillery\, 204575 County Rd DB\, Mosinee\, WI\, 54455\, United States
CATEGORIES:Distillery Tours
ORGANIZER;CN="Knowlton House Distillery":MAILTO:info@knowltonhouse.com
END:VEVENT
BEGIN:VEVENT
DTSTART;TZID=America/Chicago:20250531T160000
DTEND;TZID=America/Chicago:20250531T170000
DTSTAMP:20260422T082513
CREATED:20250401T155334Z
LAST-MODIFIED:20250401T155334Z
UID:7601-1748707200-1748710800@knowltonhouse.com
SUMMARY:Classic Distillery Tour & Tasting - 4:00pm
DESCRIPTION:Get a behind the scenes peak at how our spirits are crafted as we take you through the history\, ingredients\, and process that goes into distilling each bottle of our award-winning TenHead spirits.\n\nTour includes a guided tasting.\n\nDuration: 60 minutes
URL:https://knowltonhouse.com/event/classic-distillery-tour-tasting-400pm-1/
LOCATION:Knowlton House Distillery\, 204575 County Rd DB\, Mosinee\, WI\, 54455\, United States
CATEGORIES:Distillery Tours
ORGANIZER;CN="Knowlton House Distillery":MAILTO:info@knowltonhouse.com
END:VEVENT
BEGIN:VEVENT
DTSTART;TZID=America/Chicago:20250601T123000
DTEND;TZID=America/Chicago:20250601T150000
DTSTAMP:20260422T082513
CREATED:20250403T192827Z
LAST-MODIFIED:20250403T192827Z
UID:7681-1748781000-1748790000@knowltonhouse.com
SUMMARY:U Paint\, We Pour: Canvas Painting Class
DESCRIPTION:Join U Paint & Party for a canvas painting class of “Graze the Roof!”\, a colorful cow masterpiece. Their step-by-step guidance makes it easy for everyone to participate and create a masterpiece of their own.  Customize your painting to make it unique!\n\nCocktails & food available for purchase.\n\nFor registration & questions\, contact U Paint & Party.\n\n 
URL:https://knowltonhouse.com/event/u-paint-we-pour-canvas-painting-class-7/
LOCATION:Knowlton House Distillery\, 204575 County Rd DB\, Mosinee\, WI\, 54455\, United States
CATEGORIES:Art & Crafting
ORGANIZER;CN="U Paint & Party":MAILTO:upaintandparty@gmail.com
END:VEVENT
BEGIN:VEVENT
DTSTART;TZID=America/Chicago:20250608T130000
DTEND;TZID=America/Chicago:20250608T150000
DTSTAMP:20260422T082513
CREATED:20250506T151151Z
LAST-MODIFIED:20250607T162342Z
UID:7827-1749387600-1749394800@knowltonhouse.com
SUMMARY:Trivia: Bars\, Beer & Booze
DESCRIPTION:Put your useless knowledge to the test with an afternoon of BARS\, BEER & BOOZE themed trivia at the distillery.  From random knowledge on famous TV bars to questions on classic cocktails\, show us how much you (do or don’t) know.\n\nThere’s no cost to participate\, so grab your smartest friends & register your team. Space is limited. Prizes awarded. Come early to grab lunch before the fun begins.\n\n \n\nREGISTRATION REQUIRED. Teams consist of 2-6 people.  For each team\, just register for ONE spot (not one for every team member).
URL:https://knowltonhouse.com/event/trivia-bars-beer-booze/
LOCATION:Knowlton House Distillery\, 204575 County Rd DB\, Mosinee\, WI\, 54455\, United States
ATTACH;FMTTYPE=image/png:https://knowltonhouse.com/wp-content/uploads/2025/05/Facebook-Event-Cover-Trivia.png
ORGANIZER;CN="Knowlton House Distillery":MAILTO:info@knowltonhouse.com
END:VEVENT
BEGIN:VEVENT
DTSTART;TZID=America/Chicago:20250614T160000
DTEND;TZID=America/Chicago:20250614T170000
DTSTAMP:20260422T082513
CREATED:20250505T184510Z
LAST-MODIFIED:20250505T184510Z
UID:7819-1749916800-1749920400@knowltonhouse.com
SUMMARY:Classic Distillery Tour & Tasting - 4:00pm
DESCRIPTION:Get a behind the scenes peak at how our spirits are crafted as we take you through the history\, ingredients\, and process that goes into distilling each bottle of our award-winning TenHead spirits.\n\nTour includes a guided tasting.\n\nDuration: 60 minutes
URL:https://knowltonhouse.com/event/classic-distillery-tour-tasting-400pm-58/
LOCATION:Knowlton House Distillery\, 204575 County Rd DB\, Mosinee\, WI\, 54455\, United States
CATEGORIES:Distillery Tours
ORGANIZER;CN="Knowlton House Distillery":MAILTO:info@knowltonhouse.com
END:VEVENT
BEGIN:VEVENT
DTSTART;TZID=America/Chicago:20250614T173000
DTEND;TZID=America/Chicago:20250614T183000
DTSTAMP:20260422T082513
CREATED:20250505T160222Z
LAST-MODIFIED:20250505T160222Z
UID:7783-1749922200-1749925800@knowltonhouse.com
SUMMARY:Classic Distillery Tour & Tasting - 5:30pm
DESCRIPTION:Get a behind the scenes peak at how our spirits are crafted as we take you through the history\, ingredients\, and process that goes into distilling each bottle of our award-winning TenHead spirits.\n\nTour includes a guided tasting.\n\nDuration: 60 minutes
URL:https://knowltonhouse.com/event/classic-distillery-tour-tasting-530pm-79/
LOCATION:Knowlton House Distillery\, 204575 County Rd DB\, Mosinee\, WI\, 54455\, United States
CATEGORIES:Distillery Tours
ORGANIZER;CN="Knowlton House Distillery":MAILTO:info@knowltonhouse.com
END:VEVENT
BEGIN:VEVENT
DTSTART;TZID=America/Chicago:20250622T110000
DTEND;TZID=America/Chicago:20250622T140000
DTSTAMP:20260422T082513
CREATED:20250403T194921Z
LAST-MODIFIED:20250403T194921Z
UID:7558-1750590000-1750600800@knowltonhouse.com
SUMMARY:LIVE MUSIC: ALLEN BROTHERS
DESCRIPTION:Enjoy Sunday Funday with Central Wisconsin’s own ALLEN BROTHERS\, a fun and entertaining duo serving up a blend of pop\, rock and funk.\n\nMusic on the Distillery’s southern lawn and pet-friendly patio.  Feel free to bring folding chairs or picnic blanket.  All-day brunch available starting at 9:00am.  Farmers Market runs 9:00am-1:00pm.\n\n 
URL:https://knowltonhouse.com/event/live-music-allen-brothers/
LOCATION:Knowlton House Distillery\, 204575 County Rd DB\, Mosinee\, WI\, 54455\, United States
CATEGORIES:Live Music
ATTACH;FMTTYPE=image/jpeg:https://knowltonhouse.com/wp-content/uploads/2025/04/Allen-Brothers.jpg
ORGANIZER;CN="Knowlton House Distillery":MAILTO:info@knowltonhouse.com
END:VEVENT
BEGIN:VEVENT
DTSTART;TZID=America/Chicago:20250627T173000
DTEND;TZID=America/Chicago:20250627T183000
DTSTAMP:20260422T082513
CREATED:20250505T180726Z
LAST-MODIFIED:20250505T180726Z
UID:7791-1751045400-1751049000@knowltonhouse.com
SUMMARY:Classic Distillery Tour & Tasting - 5:30pm
DESCRIPTION:Get a behind the scenes peak at how our spirits are crafted as we take you through the history\, ingredients\, and process that goes into distilling each bottle of our award-winning TenHead spirits.\n\nTour includes a guided tasting.\n\nDuration: 60 minutes
URL:https://knowltonhouse.com/event/classic-distillery-tour-tasting-530pm-83/
LOCATION:Knowlton House Distillery\, 204575 County Rd DB\, Mosinee\, WI\, 54455\, United States
CATEGORIES:Distillery Tours
ORGANIZER;CN="Knowlton House Distillery":MAILTO:info@knowltonhouse.com
END:VEVENT
BEGIN:VEVENT
DTSTART;TZID=America/Chicago:20250627T190000
DTEND;TZID=America/Chicago:20250627T200000
DTSTAMP:20260422T082513
CREATED:20250505T182326Z
LAST-MODIFIED:20250505T182326Z
UID:7803-1751050800-1751054400@knowltonhouse.com
SUMMARY:Classic Distillery Tour & Tasting - 7:00pm
DESCRIPTION:Get a behind the scenes peak at how our spirits are crafted as we take you through the history\, ingredients\, and process that goes into distilling each bottle of our award-winning TenHead spirits.\n\nTour includes a guided tasting.\n\nDuration: 60 minutes
URL:https://knowltonhouse.com/event/classic-distillery-tour-tasting-700pm-35/
LOCATION:Knowlton House Distillery\, 204575 County Rd DB\, Mosinee\, WI\, 54455\, United States
CATEGORIES:Distillery Tours
ORGANIZER;CN="Knowlton House Distillery":MAILTO:info@knowltonhouse.com
END:VEVENT
BEGIN:VEVENT
DTSTART;TZID=America/Chicago:20250628T143000
DTEND;TZID=America/Chicago:20250628T153000
DTSTAMP:20260422T082513
CREATED:20250505T183334Z
LAST-MODIFIED:20250505T183334Z
UID:7816-1751121000-1751124600@knowltonhouse.com
SUMMARY:Classic Distillery Tour & Tasting - 2:30pm
DESCRIPTION:Get a behind the scenes peak at how our spirits are crafted as we take you through the history\, ingredients\, and process that goes into distilling each bottle of our award-winning TenHead spirits.\n\nTour includes a guided tasting.\n\nDuration: 60 minutes
URL:https://knowltonhouse.com/event/classic-distillery-tour-tasting-230pm-41/
LOCATION:Knowlton House Distillery\, 204575 County Rd DB\, Mosinee\, WI\, 54455\, United States
CATEGORIES:Distillery Tours
ORGANIZER;CN="Knowlton House Distillery":MAILTO:info@knowltonhouse.com
END:VEVENT
BEGIN:VEVENT
DTSTART;TZID=America/Chicago:20250628T160000
DTEND;TZID=America/Chicago:20250628T170000
DTSTAMP:20260422T082513
CREATED:20250505T184629Z
LAST-MODIFIED:20250505T184629Z
UID:7824-1751126400-1751130000@knowltonhouse.com
SUMMARY:Classic Distillery Tour & Tasting - 4:00pm
DESCRIPTION:Get a behind the scenes peak at how our spirits are crafted as we take you through the history\, ingredients\, and process that goes into distilling each bottle of our award-winning TenHead spirits.\n\nTour includes a guided tasting.\n\nDuration: 60 minutes
URL:https://knowltonhouse.com/event/classic-distillery-tour-tasting-400pm-60/
LOCATION:Knowlton House Distillery\, 204575 County Rd DB\, Mosinee\, WI\, 54455\, United States
CATEGORIES:Distillery Tours
ORGANIZER;CN="Knowlton House Distillery":MAILTO:info@knowltonhouse.com
END:VEVENT
BEGIN:VEVENT
DTSTART;TZID=America/Chicago:20250629T090000
DTEND;TZID=America/Chicago:20250629T130000
DTSTAMP:20260422T082513
CREATED:20250403T193504Z
LAST-MODIFIED:20250403T193504Z
UID:7683-1751187600-1751202000@knowltonhouse.com
SUMMARY:Farmers Market
DESCRIPTION:Make Sunday a Funday at Knowlton House.  Shop for local produce\, flowers & other goods with a cocktail in hand at our Sunday Farmers Market from 9:00am-1:00pm.  Stick around to join us for all day brunch.\n\nWatch for other Sunday Funday activities including live music & workshops.  Staying for the music?  Feel free to bring a lawn chair or picnic blanket to kick back and relax.
URL:https://knowltonhouse.com/event/farmers-market-16/
LOCATION:Knowlton House Distillery\, 204575 County Rd DB\, Mosinee\, WI\, 54455\, United States
CATEGORIES:Seasonal Market
ATTACH;FMTTYPE=image/jpeg:https://knowltonhouse.com/wp-content/uploads/2025/04/Farmers-Market-Digital-Mobile-Ad-1.91-to-1.jpg
ORGANIZER;CN="Knowlton House Distillery":MAILTO:info@knowltonhouse.com
END:VEVENT
BEGIN:VEVENT
DTSTART;TZID=America/Chicago:20250629T110000
DTEND;TZID=America/Chicago:20250629T140000
DTSTAMP:20260422T082513
CREATED:20250326T205112Z
LAST-MODIFIED:20250326T205112Z
UID:7553-1751194800-1751205600@knowltonhouse.com
SUMMARY:LIVE MUSIC: LUMA KNOTTY
DESCRIPTION:Enjoy Sunday Funday as the LUMA KNOTTY serve up an original blend of guitar-driven funk\, rock\, and reggae.\n\nMusic on the Distillery’s southern lawn and pet-friendly patio.  Feel free to bring folding chairs or a picnic blanket.  All-day brunch available starting at 9:00am.  Farmers Market runs 9:00am-1:00pm.
URL:https://knowltonhouse.com/event/live-music-luma-knotty-3/
LOCATION:Knowlton House Distillery\, 204575 County Rd DB\, Mosinee\, WI\, 54455\, United States
CATEGORIES:Live Music
ATTACH;FMTTYPE=image/png:https://knowltonhouse.com/wp-content/uploads/2025/03/Luma-Knotty-2.png
ORGANIZER;CN="Knowlton House Distillery":MAILTO:info@knowltonhouse.com
END:VEVENT
BEGIN:VEVENT
DTSTART;TZID=America/Chicago:20250706T090000
DTEND;TZID=America/Chicago:20250706T130000
DTSTAMP:20260422T082513
CREATED:20250506T154618Z
LAST-MODIFIED:20250506T154618Z
UID:7833-1751792400-1751806800@knowltonhouse.com
SUMMARY:Farmers Market
DESCRIPTION:Make Sunday a Funday at Knowlton House.  Shop for local produce\, meats\, flowers & other goods with a cocktail in hand at our Sunday Farmers Market from 9:00am-1:00pm.  Stick around to join us for all day brunch and live music at 11:00am.\n\nStaying for the music?  Feel free to bring a lawn chair or picnic blanket to kick back and relax.
URL:https://knowltonhouse.com/event/farmers-market-17/
LOCATION:Knowlton House Distillery\, 204575 County Rd DB\, Mosinee\, WI\, 54455\, United States
CATEGORIES:Seasonal Market
ATTACH;FMTTYPE=image/jpeg:https://knowltonhouse.com/wp-content/uploads/2025/04/Farmers-Market-Digital-Mobile-Ad-1.91-to-1.jpg
ORGANIZER;CN="Knowlton House Distillery":MAILTO:info@knowltonhouse.com
END:VEVENT
BEGIN:VEVENT
DTSTART;TZID=America/Chicago:20250706T110000
DTEND;TZID=America/Chicago:20250706T140000
DTSTAMP:20260422T082513
CREATED:20250506T161248Z
LAST-MODIFIED:20250506T161248Z
UID:7860-1751799600-1751810400@knowltonhouse.com
SUMMARY:Live Music: Curtis Samuel
DESCRIPTION:Enjoy Sunday Funday with Central Wisconsin’s own CURTIS SAMUEL as he entertains with a unique blend of rhythm\, bass\, guitar & vocals.\n\nLive music on the Distillery’s southern lawn and pet-friendly patio.  Feel free to bring folding chairs or picnic blanket.  All-day brunch available starting at 9:00am.  Farmers Market runs 9:00am-1:00pm.\n\n \n\n 
URL:https://knowltonhouse.com/event/live-music-curtis-samuel/
LOCATION:Knowlton House Distillery\, 204575 County Rd DB\, Mosinee\, WI\, 54455\, United States
CATEGORIES:Live Music
ATTACH;FMTTYPE=image/jpeg:https://knowltonhouse.com/wp-content/uploads/2025/05/Curtis-Samuel-Music.jpg
ORGANIZER;CN="Knowlton House Distillery":MAILTO:info@knowltonhouse.com
END:VEVENT
BEGIN:VEVENT
DTSTART;TZID=America/Chicago:20250713T090000
DTEND;TZID=America/Chicago:20250713T130000
DTSTAMP:20260422T082513
CREATED:20250506T154716Z
LAST-MODIFIED:20250506T154716Z
UID:7835-1752397200-1752411600@knowltonhouse.com
SUMMARY:Farmers Market
DESCRIPTION:Make Sunday a Funday at Knowlton House.  Shop for local produce\, meats\, flowers & other goods with a cocktail in hand at our Sunday Farmers Market from 9:00am-1:00pm.  Stick around to join us for all day brunch and live music at 11:00am.\n\nStaying for the music?  Feel free to bring a lawn chair or picnic blanket to kick back and relax.
URL:https://knowltonhouse.com/event/farmers-market-18/
LOCATION:Knowlton House Distillery\, 204575 County Rd DB\, Mosinee\, WI\, 54455\, United States
CATEGORIES:Seasonal Market
ATTACH;FMTTYPE=image/jpeg:https://knowltonhouse.com/wp-content/uploads/2025/04/Farmers-Market-Digital-Mobile-Ad-1.91-to-1.jpg
ORGANIZER;CN="Knowlton House Distillery":MAILTO:info@knowltonhouse.com
END:VEVENT
BEGIN:VEVENT
DTSTART;TZID=America/Chicago:20250713T110000
DTEND;TZID=America/Chicago:20250713T140000
DTSTAMP:20260422T082513
CREATED:20250506T162001Z
LAST-MODIFIED:20250506T174545Z
UID:7863-1752404400-1752415200@knowltonhouse.com
SUMMARY:Live Music: Mattea Joy
DESCRIPTION:Enjoy Sunday Funday with singer/songwriter/guitarist MATTEA JOY.  This rising folk-rock entertainer is best known for her enthralling harmonica and guitar skills\, versatile voice\, clever songwriting and diverse set list with hits that span the decades\n\nLive music on the Distillery’s southern lawn and pet-friendly patio.  Feel free to bring folding chairs or picnic blanket.  All-day brunch available starting at 9:00am.  Farmers Market runs 9:00am-1:00pm.\n\n \n\n 
URL:https://knowltonhouse.com/event/live-music-mattea-joy/
LOCATION:Knowlton House Distillery\, 204575 County Rd DB\, Mosinee\, WI\, 54455\, United States
CATEGORIES:Live Music
ATTACH;FMTTYPE=image/jpeg:https://knowltonhouse.com/wp-content/uploads/2025/05/mattea-joy-music-e1746553498728.jpg
ORGANIZER;CN="Knowlton House Distillery":MAILTO:info@knowltonhouse.com
END:VEVENT
BEGIN:VEVENT
DTSTART;TZID=America/Chicago:20250718T173000
DTEND;TZID=America/Chicago:20250718T183000
DTSTAMP:20260422T082513
CREATED:20250603T140848Z
LAST-MODIFIED:20250603T140848Z
UID:8002-1752859800-1752863400@knowltonhouse.com
SUMMARY:Classic Distillery Tour & Tasting - 5:30pm
DESCRIPTION:Get a behind the scenes peak at how our spirits are crafted as we take you through the history\, ingredients\, and process that goes into distilling each bottle of our award-winning TenHead spirits.\n\nTour includes a guided tasting.\n\nDuration: 60 minutes
URL:https://knowltonhouse.com/event/classic-distillery-tour-tasting-530pm-80/
LOCATION:Knowlton House Distillery\, 204575 County Rd DB\, Mosinee\, WI\, 54455\, United States
CATEGORIES:Distillery Tours
ORGANIZER;CN="Knowlton House Distillery":MAILTO:info@knowltonhouse.com
END:VEVENT
BEGIN:VEVENT
DTSTART;TZID=America/Chicago:20250719T130000
DTEND;TZID=America/Chicago:20250719T143000
DTSTAMP:20260422T082513
CREATED:20250430T183202Z
LAST-MODIFIED:20250506T171114Z
UID:7754-1752930000-1752935400@knowltonhouse.com
SUMMARY:Cocktail Workshop: Tastes Like Summer
DESCRIPTION:Savor the season with our Tastes Like Summer cocktail-making workshop. Get hands-on as we guide you through basic mixology techniques.  Craft unexpected cocktails inspired by some of our favorite summertime foods.  Workshop includes instruction\, welcome cocktail\, two cocktail creations & light bites from our scratch kitchen.  It’s an afternoon of fun for cocktail novices and aficionados alike.\n\n \n\nMust be 21+ to participate.  \n\n \n\n \n\n \n\n \n\n 
URL:https://knowltonhouse.com/event/cocktail-workshop-tastes-like-summer-3/
LOCATION:Knowlton House Distillery\, 204575 County Rd DB\, Mosinee\, WI\, 54455\, United States
CATEGORIES:Cocktail Making Workshops
ATTACH;FMTTYPE=image/jpeg:https://knowltonhouse.com/wp-content/uploads/2024/04/231025_Knowlton-House-Distillery-Photography_Jena-Carlin-Creative-1733-2-LR-e1761747348673.jpg
ORGANIZER;CN="Knowlton House Distillery":MAILTO:info@knowltonhouse.com
END:VEVENT
BEGIN:VEVENT
DTSTART;TZID=America/Chicago:20250719T130000
DTEND;TZID=America/Chicago:20250719T160000
DTSTAMP:20260422T082513
CREATED:20250506T163726Z
LAST-MODIFIED:20250506T174321Z
UID:7868-1752930000-1752940800@knowltonhouse.com
SUMMARY:Live Music: Bradley Sperger
DESCRIPTION:Join us for live music as multi-instrumentalist BRADLEY SPERGER builds songs live & jams out from 1-4pm on the Distillery’s southern-lawn and pet-friendly patio.\n\nStick around for craft cocktails and food from our scratch kitchen.  Then enjoy the area as Knowlton celebrates DuBay Days.
URL:https://knowltonhouse.com/event/live-music-bradley-sperger-3/
LOCATION:Knowlton House Distillery\, 204575 County Rd DB\, Mosinee\, WI\, 54455\, United States
CATEGORIES:Live Music
ATTACH;FMTTYPE=image/jpeg:https://knowltonhouse.com/wp-content/uploads/2025/05/bradley-sperger-music-e1746549260661.jpg
ORGANIZER;CN="Knowlton House Distillery":MAILTO:info@knowltonhouse.com
END:VEVENT
BEGIN:VEVENT
DTSTART;TZID=America/Chicago:20250719T173000
DTEND;TZID=America/Chicago:20250719T183000
DTSTAMP:20260422T082513
CREATED:20250603T141043Z
LAST-MODIFIED:20250603T141043Z
UID:8005-1752946200-1752949800@knowltonhouse.com
SUMMARY:Classic Distillery Tour & Tasting - 5:30pm
DESCRIPTION:Get a behind the scenes peak at how our spirits are crafted as we take you through the history\, ingredients\, and process that goes into distilling each bottle of our award-winning TenHead spirits.\n\nTour includes a guided tasting.\n\nDuration: 60 minutes
URL:https://knowltonhouse.com/event/classic-distillery-tour-tasting-530pm-84/
LOCATION:Knowlton House Distillery\, 204575 County Rd DB\, Mosinee\, WI\, 54455\, United States
CATEGORIES:Distillery Tours
ORGANIZER;CN="Knowlton House Distillery":MAILTO:info@knowltonhouse.com
END:VEVENT
BEGIN:VEVENT
DTSTART;TZID=America/Chicago:20250720T090000
DTEND;TZID=America/Chicago:20250720T130000
DTSTAMP:20260422T082513
CREATED:20250506T154805Z
LAST-MODIFIED:20250506T154805Z
UID:7838-1753002000-1753016400@knowltonhouse.com
SUMMARY:Farmers Market
DESCRIPTION:Make Sunday a Funday at Knowlton House.  Shop for local produce\, meats\, flowers & other goods with a cocktail in hand at our Sunday Farmers Market from 9:00am-1:00pm.  Stick around to join us for all day brunch and live music at 11:00am.\n\nStaying for the music?  Feel free to bring a lawn chair or picnic blanket to kick back and relax.
URL:https://knowltonhouse.com/event/farmers-market-19/
LOCATION:Knowlton House Distillery\, 204575 County Rd DB\, Mosinee\, WI\, 54455\, United States
CATEGORIES:Seasonal Market
ATTACH;FMTTYPE=image/jpeg:https://knowltonhouse.com/wp-content/uploads/2025/04/Farmers-Market-Digital-Mobile-Ad-1.91-to-1.jpg
ORGANIZER;CN="Knowlton House Distillery":MAILTO:info@knowltonhouse.com
END:VEVENT
BEGIN:VEVENT
DTSTART;TZID=America/Chicago:20250720T110000
DTEND;TZID=America/Chicago:20250720T140000
DTSTAMP:20260422T082513
CREATED:20250506T172126Z
LAST-MODIFIED:20250506T172126Z
UID:7876-1753009200-1753020000@knowltonhouse.com
SUMMARY:Live Music: Noah James Hittner
DESCRIPTION:Enjoy Sunday Funday live music with multi-genre folk artist NOAH JAMES HITTNER. Influenced by everything from folk-rock to hip-hop\, Noah has recorded and released several albums which blend singer-songwriter\, acoustic\, rock and urban sounds. Noah was ranked as a top 100 artist on Planet Earth in 2024 on Bandsintown.\n\nLive music on the Distillery’s southern lawn and pet-friendly patio.  Feel free to bring folding chairs or picnic blanket.  All-day brunch available starting at 9:00am.  Farmers Market runs 9:00am-1:00pm.\n\n \n\n 
URL:https://knowltonhouse.com/event/live_music-noahhittner/
LOCATION:Knowlton House Distillery\, 204575 County Rd DB\, Mosinee\, WI\, 54455\, United States
CATEGORIES:Live Music
ATTACH;FMTTYPE=image/jpeg:https://knowltonhouse.com/wp-content/uploads/2025/05/Noah-James-Hittner-Music-e1746551725112.jpg
ORGANIZER;CN="Knowlton House Distillery":MAILTO:info@knowltonhouse.com
END:VEVENT
END:VCALENDAR