BEGIN:VCALENDAR
VERSION:2.0
PRODID:-//Knowlton House Distillery - ECPv6.15.17.1//NONSGML v1.0//EN
CALSCALE:GREGORIAN
METHOD:PUBLISH
X-ORIGINAL-URL:https://knowltonhouse.com
X-WR-CALDESC:Events for Knowlton House Distillery
REFRESH-INTERVAL;VALUE=DURATION:PT1H
X-Robots-Tag:noindex
X-PUBLISHED-TTL:PT1H
BEGIN:VTIMEZONE
TZID:America/Chicago
BEGIN:DAYLIGHT
TZOFFSETFROM:-0600
TZOFFSETTO:-0500
TZNAME:CDT
DTSTART:20230312T080000
END:DAYLIGHT
BEGIN:STANDARD
TZOFFSETFROM:-0500
TZOFFSETTO:-0600
TZNAME:CST
DTSTART:20231105T070000
END:STANDARD
BEGIN:DAYLIGHT
TZOFFSETFROM:-0600
TZOFFSETTO:-0500
TZNAME:CDT
DTSTART:20240310T080000
END:DAYLIGHT
BEGIN:STANDARD
TZOFFSETFROM:-0500
TZOFFSETTO:-0600
TZNAME:CST
DTSTART:20241103T070000
END:STANDARD
BEGIN:DAYLIGHT
TZOFFSETFROM:-0600
TZOFFSETTO:-0500
TZNAME:CDT
DTSTART:20250309T080000
END:DAYLIGHT
BEGIN:STANDARD
TZOFFSETFROM:-0500
TZOFFSETTO:-0600
TZNAME:CST
DTSTART:20251102T070000
END:STANDARD
BEGIN:DAYLIGHT
TZOFFSETFROM:-0600
TZOFFSETTO:-0500
TZNAME:CDT
DTSTART:20260308T080000
END:DAYLIGHT
BEGIN:STANDARD
TZOFFSETFROM:-0500
TZOFFSETTO:-0600
TZNAME:CST
DTSTART:20261101T070000
END:STANDARD
END:VTIMEZONE
BEGIN:VEVENT
DTSTART;TZID=America/Chicago:20241207T173000
DTEND;TZID=America/Chicago:20241207T183000
DTSTAMP:20260420T005251
CREATED:20241103T200031Z
LAST-MODIFIED:20241103T200031Z
UID:6299-1733592600-1733596200@knowltonhouse.com
SUMMARY:Classic Distillery Tour & Tasting - 5:30pm
DESCRIPTION:Get a behind the scenes peak at how our spirits are crafted as we take you through the history\, ingredients\, and process that goes into distilling each bottle of our award-winning TenHead spirits.\n\nTour includes a guided tasting.\n\nDuration: 45 minutes
URL:https://knowltonhouse.com/event/classic-distillery-tour-tasting-530pm-49/
LOCATION:Knowlton House Distillery\, 204575 County Rd DB\, Mosinee\, WI\, 54455\, United States
CATEGORIES:Distillery Tours
ORGANIZER;CN="Knowlton House Distillery":MAILTO:info@knowltonhouse.com
END:VEVENT
BEGIN:VEVENT
DTSTART;TZID=America/Chicago:20241208T100000
DTEND;TZID=America/Chicago:20241208T130000
DTSTAMP:20260420T005251
CREATED:20241108T203829Z
LAST-MODIFIED:20241119T144911Z
UID:6422-1733652000-1733662800@knowltonhouse.com
SUMMARY:Milk Punch & Cookies with Santa
DESCRIPTION:Join us for Milk Punch & Cookies with Santa! Our favorite seasonal celebrity will be visiting Knowlton House with hot cocoa and cookies for the kids\, and samples of our house-made milk punch for the grown-ups.  Grab brunch then sit back with a cocktail as the kids enjoy our cookie decorating station.\n\n \n\n 
URL:https://knowltonhouse.com/event/milk-punch-cookies-with-santa/
LOCATION:Knowlton House Distillery\, 204575 County Rd DB\, Mosinee\, WI\, 54455\, United States
ATTACH;FMTTYPE=image/jpeg:https://knowltonhouse.com/wp-content/uploads/2024/11/Santa-Pic.jpg
ORGANIZER;CN="Knowlton House Distillery":MAILTO:info@knowltonhouse.com
END:VEVENT
BEGIN:VEVENT
DTSTART;TZID=America/Chicago:20241208T100000
DTEND;TZID=America/Chicago:20241208T130000
DTSTAMP:20260420T005251
CREATED:20241114T161427Z
LAST-MODIFIED:20241114T161427Z
UID:6456-1733652000-1733662800@knowltonhouse.com
SUMMARY:Kid's Cookie Decorating
DESCRIPTION:After brunch & a visit with jolly ole’ St Nick\, the kids are welcome to visit our cookie decorating station for a sweet treat.\n\n \n\n 
URL:https://knowltonhouse.com/event/kids-cookie-decorating/
LOCATION:Knowlton House Distillery\, 204575 County Rd DB\, Mosinee\, WI\, 54455\, United States
ORGANIZER;CN="Knowlton House Distillery":MAILTO:info@knowltonhouse.com
END:VEVENT
BEGIN:VEVENT
DTSTART;TZID=America/Chicago:20241208T130000
DTEND;TZID=America/Chicago:20241208T150000
DTSTAMP:20260420T005251
CREATED:20241021T202955Z
LAST-MODIFIED:20241105T172753Z
UID:6236-1733662800-1733670000@knowltonhouse.com
SUMMARY:Candle Making Class
DESCRIPTION:Join ZEN CANDLES to celebrate the holiday season with a unique candle-making experience at the distillery! Their expert instructor will guide you through the process\, ensuring you craft a custom candle that’s perfect for your home or as a thoughtful gift. Whether you’re coming with friends\, a partner\, or treating yourself\, this workshop is the perfect way to kick off the season with creativity and cheer!  Register through Zen Candles.\n\n 
URL:https://knowltonhouse.com/event/candle-making-class/
LOCATION:Knowlton House Distillery\, 204575 County Rd DB\, Mosinee\, WI\, 54455\, United States
CATEGORIES:Art & Crafting
ATTACH;FMTTYPE=image/jpeg:https://knowltonhouse.com/wp-content/uploads/2024/10/Candle-Making-Pic-e1730827615359.jpg
ORGANIZER;CN="Zen Homemade Candles":MAILTO:zenhomemadecandles@gmail.com
END:VEVENT
BEGIN:VEVENT
DTSTART;TZID=America/Chicago:20241213T173000
DTEND;TZID=America/Chicago:20241213T183000
DTSTAMP:20260420T005251
CREATED:20241103T200614Z
LAST-MODIFIED:20241115T220201Z
UID:6307-1734111000-1734114600@knowltonhouse.com
SUMMARY:Classic Distillery Tour & Tasting - 5:30pm
DESCRIPTION:Get a behind the scenes peak at how our spirits are crafted as we take you through the history\, ingredients\, and process that goes into distilling each bottle of our award-winning TenHead spirits.\n\nTour includes a guided tasting.\n\nDuration: 45 minutes
URL:https://knowltonhouse.com/event/classic-distillery-tour-tasting-530pm-51/
LOCATION:Knowlton House Distillery\, 204575 County Rd DB\, Mosinee\, WI\, 54455\, United States
CATEGORIES:Distillery Tours
ORGANIZER;CN="Knowlton House Distillery":MAILTO:info@knowltonhouse.com
END:VEVENT
BEGIN:VEVENT
DTSTART;TZID=America/Chicago:20241213T190000
DTEND;TZID=America/Chicago:20241213T200000
DTSTAMP:20260420T005251
CREATED:20241103T201007Z
LAST-MODIFIED:20241115T220120Z
UID:6310-1734116400-1734120000@knowltonhouse.com
SUMMARY:Classic Distillery Tour & Tasting - 7:00pm
DESCRIPTION:Get a behind the scenes peak at how our spirits are crafted as we take you through the history\, ingredients\, and process that goes into distilling each bottle of our award-winning TenHead spirits.\n\nTour includes a guided tasting.\n\nDuration: 45 minutes
URL:https://knowltonhouse.com/event/classic-distillery-tour-tasting-700pm-22/
LOCATION:Knowlton House Distillery\, 204575 County Rd DB\, Mosinee\, WI\, 54455\, United States
CATEGORIES:Distillery Tours
ORGANIZER;CN="Knowlton House Distillery":MAILTO:info@knowltonhouse.com
END:VEVENT
BEGIN:VEVENT
DTSTART;TZID=America/Chicago:20241214T180000
DTEND;TZID=America/Chicago:20241214T193000
DTSTAMP:20260420T005251
CREATED:20241002T194450Z
LAST-MODIFIED:20241127T202431Z
UID:6023-1734199200-1734204600@knowltonhouse.com
SUMMARY:Cocktail Workshop: Making Spirits Bright
DESCRIPTION:MAKE SPIRITS BRIGHT at our holiday cocktail-making workshop.  Get hands-on as we guide you through basic mixology and bartending techniques as you craft holiday-inspired libations.  Take the recipes home and be ready to shake up some seasonal cocktails for friends and family.  Workshop includes instruction\, welcome cocktail\, two cocktail creations and light bites from our scratch kitchen.  It’s an afternoon of fun for cocktail novices and aficionados alike.\n\nMust be 21+ to participate.\n\nCocktails: GIN-gle Bells (Gin)\, Sugar Pom Fairy (Vodka)\, Old Fashioned Christmas (Bourbon)\n\n \n\n 
URL:https://knowltonhouse.com/event/cocktail-workshop-making-spirits-bright/
LOCATION:Knowlton House Distillery\, 204575 County Rd DB\, Mosinee\, WI\, 54455\, United States
CATEGORIES:Cocktail Making Workshops
ATTACH;FMTTYPE=image/jpeg:https://knowltonhouse.com/wp-content/uploads/2024/04/231025_Knowlton-House-Distillery-Photography_Jena-Carlin-Creative-1733-2-LR-e1761747348673.jpg
ORGANIZER;CN="Knowlton House Distillery":MAILTO:info@knowltonhouse.com
END:VEVENT
BEGIN:VEVENT
DTSTART;TZID=America/Chicago:20241215T123000
DTEND;TZID=America/Chicago:20241215T150000
DTSTAMP:20260420T005251
CREATED:20240911T200228Z
LAST-MODIFIED:20241014T172830Z
UID:5823-1734265800-1734274800@knowltonhouse.com
SUMMARY:U Paint\, We Pour: Canvas Painting Class
DESCRIPTION:Join U Paint & Party for a canvas painting class of “Frosty Fun”. Their step-by-step guidance makes it easy for everyone to participate and create a masterpiece of their own.  Customize your painting to make it unique!\n\nCocktails & food available for purchase.\n\nFor registration & questions\, contact U Paint & Party.\n\n 
URL:https://knowltonhouse.com/event/u-paint-we-pour-canvas-painting-class-2/
LOCATION:Knowlton House Distillery\, 204575 County Rd DB\, Mosinee\, WI\, 54455\, United States
CATEGORIES:Art & Crafting
ORGANIZER;CN="U Paint & Party":MAILTO:upaintandparty@gmail.com
END:VEVENT
BEGIN:VEVENT
DTSTART;TZID=America/Chicago:20241221T130000
DTEND;TZID=America/Chicago:20241221T143000
DTSTAMP:20260420T005251
CREATED:20241028T162617Z
LAST-MODIFIED:20241205T182025Z
UID:6279-1734786000-1734791400@knowltonhouse.com
SUMMARY:Cocktail Workshop: Making Spirits Bright
DESCRIPTION:MAKE SPIRITS BRIGHT at our holiday cocktail-making workshop.  Get hands-on as we guide you through basic mixology and bartending techniques as you craft holiday-inspired libations.  Take the recipes home and be ready to shake up some seasonal cocktails for friends and family.  Workshop includes instruction\, welcome cocktail\, two cocktail creations and light bites from our scratch kitchen.  It’s an afternoon of fun for cocktail novices and aficionados alike.\n\nMust be 21+ to participate.\n\nCocktails: GIN-gle Bells (Gin)\, Sugar Pom Fairy (Vodka)\, Old Fashioned Christmas (Bourbon)\n\n \n\n 
URL:https://knowltonhouse.com/event/cocktail-workshop-making-spirits-bright-2/
LOCATION:Knowlton House Distillery\, 204575 County Rd DB\, Mosinee\, WI\, 54455\, United States
CATEGORIES:Cocktail Making Workshops
ATTACH;FMTTYPE=image/jpeg:https://knowltonhouse.com/wp-content/uploads/2024/04/231025_Knowlton-House-Distillery-Photography_Jena-Carlin-Creative-1733-2-LR-e1761747348673.jpg
ORGANIZER;CN="Knowlton House Distillery":MAILTO:info@knowltonhouse.com
END:VEVENT
BEGIN:VEVENT
DTSTART;TZID=America/Chicago:20241221T160000
DTEND;TZID=America/Chicago:20241221T170000
DTSTAMP:20260420T005251
CREATED:20241103T211104Z
LAST-MODIFIED:20241103T211104Z
UID:6328-1734796800-1734800400@knowltonhouse.com
SUMMARY:Classic Distillery Tour & Tasting - 4:00pm
DESCRIPTION:Get a behind the scenes peak at how our spirits are crafted as we take you through the history\, ingredients\, and process that goes into distilling each bottle of our award-winning TenHead spirits.\n\nTour includes a guided tasting.\n\nDuration: 45 minutes
URL:https://knowltonhouse.com/event/classic-distillery-tour-tasting-400pm-47/
LOCATION:Knowlton House Distillery\, 204575 County Rd DB\, Mosinee\, WI\, 54455\, United States
CATEGORIES:Distillery Tours
ORGANIZER;CN="Knowlton House Distillery":MAILTO:info@knowltonhouse.com
END:VEVENT
BEGIN:VEVENT
DTSTART;TZID=America/Chicago:20241221T173000
DTEND;TZID=America/Chicago:20241221T183000
DTSTAMP:20260420T005251
CREATED:20241103T211240Z
LAST-MODIFIED:20241103T211240Z
UID:6331-1734802200-1734805800@knowltonhouse.com
SUMMARY:Classic Distillery Tour & Tasting - 5:30pm
DESCRIPTION:Get a behind the scenes peak at how our spirits are crafted as we take you through the history\, ingredients\, and process that goes into distilling each bottle of our award-winning TenHead spirits.\n\nTour includes a guided tasting.\n\nDuration: 45 minutes
URL:https://knowltonhouse.com/event/classic-distillery-tour-tasting-530pm-55/
LOCATION:Knowlton House Distillery\, 204575 County Rd DB\, Mosinee\, WI\, 54455\, United States
CATEGORIES:Distillery Tours
ORGANIZER;CN="Knowlton House Distillery":MAILTO:info@knowltonhouse.com
END:VEVENT
BEGIN:VEVENT
DTSTART;TZID=America/Chicago:20241227T173000
DTEND;TZID=America/Chicago:20241227T183000
DTSTAMP:20260420T005251
CREATED:20241103T211418Z
LAST-MODIFIED:20241227T170506Z
UID:6334-1735320600-1735324200@knowltonhouse.com
SUMMARY:Classic Distillery Tour & Tasting - 5:30pm
DESCRIPTION:Get a behind the scenes peak at how our spirits are crafted as we take you through the history\, ingredients\, and process that goes into distilling each bottle of our award-winning TenHead spirits.\n\nTour includes a guided tasting.\n\nDuration: 45 minutes
URL:https://knowltonhouse.com/event/classic-distillery-tour-tasting-530pm-61/
LOCATION:Knowlton House Distillery\, 204575 County Rd DB\, Mosinee\, WI\, 54455\, United States
CATEGORIES:Distillery Tours
ORGANIZER;CN="Knowlton House Distillery":MAILTO:info@knowltonhouse.com
END:VEVENT
BEGIN:VEVENT
DTSTART;TZID=America/Chicago:20241227T190000
DTEND;TZID=America/Chicago:20241227T200000
DTSTAMP:20260420T005251
CREATED:20241103T211552Z
LAST-MODIFIED:20241227T173330Z
UID:6337-1735326000-1735329600@knowltonhouse.com
SUMMARY:Classic Distillery Tour & Tasting - 7:00pm
DESCRIPTION:Get a behind the scenes peak at how our spirits are crafted as we take you through the history\, ingredients\, and process that goes into distilling each bottle of our award-winning TenHead spirits.\n\nTour includes a guided tasting.\n\nDuration: 45 minutes
URL:https://knowltonhouse.com/event/classic-distillery-tour-tasting-700pm-24/
LOCATION:Knowlton House Distillery\, 204575 County Rd DB\, Mosinee\, WI\, 54455\, United States
CATEGORIES:Distillery Tours
ORGANIZER;CN="Knowlton House Distillery":MAILTO:info@knowltonhouse.com
END:VEVENT
BEGIN:VEVENT
DTSTART;TZID=America/Chicago:20241228T130000
DTEND;TZID=America/Chicago:20241228T140000
DTSTAMP:20260420T005251
CREATED:20241103T211724Z
LAST-MODIFIED:20241227T215040Z
UID:6340-1735390800-1735394400@knowltonhouse.com
SUMMARY:Classic Distillery Tour & Tasting - 1:00pm
DESCRIPTION:Get a behind the scenes peak at how our spirits are crafted as we take you through the history\, ingredients\, and process that goes into distilling each bottle of our award-winning TenHead spirits.\n\nTour includes a guided tasting.\n\nDuration: 45 minutes
URL:https://knowltonhouse.com/event/classic-distillery-tour-tasting-100pm-27/
LOCATION:Knowlton House Distillery\, 204575 County Rd DB\, Mosinee\, WI\, 54455\, United States
CATEGORIES:Distillery Tours
ORGANIZER;CN="Knowlton House Distillery":MAILTO:info@knowltonhouse.com
END:VEVENT
BEGIN:VEVENT
DTSTART;TZID=America/Chicago:20241228T143000
DTEND;TZID=America/Chicago:20241228T153000
DTSTAMP:20260420T005251
CREATED:20241103T211852Z
LAST-MODIFIED:20241103T211852Z
UID:6344-1735396200-1735399800@knowltonhouse.com
SUMMARY:Classic Distillery Tour & Tasting - 2:30pm
DESCRIPTION:Get a behind the scenes peak at how our spirits are crafted as we take you through the history\, ingredients\, and process that goes into distilling each bottle of our award-winning TenHead spirits.\n\nTour includes a guided tasting.\n\nDuration: 45 minutes
URL:https://knowltonhouse.com/event/classic-distillery-tour-tasting-230pm-36/
LOCATION:Knowlton House Distillery\, 204575 County Rd DB\, Mosinee\, WI\, 54455\, United States
CATEGORIES:Distillery Tours
ORGANIZER;CN="Knowlton House Distillery":MAILTO:info@knowltonhouse.com
END:VEVENT
BEGIN:VEVENT
DTSTART;TZID=America/Chicago:20241228T160000
DTEND;TZID=America/Chicago:20241228T170000
DTSTAMP:20260420T005251
CREATED:20241103T212025Z
LAST-MODIFIED:20241227T205817Z
UID:6347-1735401600-1735405200@knowltonhouse.com
SUMMARY:Classic Distillery Tour & Tasting - 4:00pm
DESCRIPTION:Get a behind the scenes peak at how our spirits are crafted as we take you through the history\, ingredients\, and process that goes into distilling each bottle of our award-winning TenHead spirits.\n\nTour includes a guided tasting.\n\nDuration: 60 minutes
URL:https://knowltonhouse.com/event/classic-distillery-tour-tasting-400pm-50/
LOCATION:Knowlton House Distillery\, 204575 County Rd DB\, Mosinee\, WI\, 54455\, United States
CATEGORIES:Distillery Tours
ORGANIZER;CN="Knowlton House Distillery":MAILTO:info@knowltonhouse.com
END:VEVENT
BEGIN:VEVENT
DTSTART;TZID=America/Chicago:20241228T173000
DTEND;TZID=America/Chicago:20241228T183000
DTSTAMP:20260420T005251
CREATED:20241103T212227Z
LAST-MODIFIED:20241227T211631Z
UID:6350-1735407000-1735410600@knowltonhouse.com
SUMMARY:Classic Distillery Tour & Tasting - 5:30pm
DESCRIPTION:Get a behind the scenes peak at how our spirits are crafted as we take you through the history\, ingredients\, and process that goes into distilling each bottle of our award-winning TenHead spirits.\n\nTour includes a guided tasting.\n\nDuration: 60 minutes
URL:https://knowltonhouse.com/event/classic-distillery-tour-tasting-530pm-62/
LOCATION:Knowlton House Distillery\, 204575 County Rd DB\, Mosinee\, WI\, 54455\, United States
CATEGORIES:Distillery Tours
ORGANIZER;CN="Knowlton House Distillery":MAILTO:info@knowltonhouse.com
END:VEVENT
BEGIN:VEVENT
DTSTART;TZID=America/Chicago:20250103T173000
DTEND;TZID=America/Chicago:20250103T183000
DTSTAMP:20260420T005251
CREATED:20241205T180444Z
LAST-MODIFIED:20241205T180444Z
UID:6606-1735925400-1735929000@knowltonhouse.com
SUMMARY:Classic Distillery Tour & Tasting - 5:30pm
DESCRIPTION:Get a behind the scenes peak at how our spirits are crafted as we take you through the history\, ingredients\, and process that goes into distilling each bottle of our award-winning TenHead spirits.\n\nTour includes a guided tasting.\n\nDuration: 45 minutes
URL:https://knowltonhouse.com/event/classic-distillery-tour-tasting-530pm-60/
LOCATION:Knowlton House Distillery\, 204575 County Rd DB\, Mosinee\, WI\, 54455\, United States
CATEGORIES:Distillery Tours
ORGANIZER;CN="Knowlton House Distillery":MAILTO:info@knowltonhouse.com
END:VEVENT
BEGIN:VEVENT
DTSTART;TZID=America/Chicago:20250103T190000
DTEND;TZID=America/Chicago:20250103T200000
DTSTAMP:20260420T005251
CREATED:20241205T180637Z
LAST-MODIFIED:20241205T180637Z
UID:6609-1735930800-1735934400@knowltonhouse.com
SUMMARY:Classic Distillery Tour & Tasting - 7:00pm
DESCRIPTION:Get a behind the scenes peak at how our spirits are crafted as we take you through the history\, ingredients\, and process that goes into distilling each bottle of our award-winning TenHead spirits.\n\nTour includes a guided tasting.\n\nDuration: 60 minutes
URL:https://knowltonhouse.com/event/classic-distillery-tour-tasting-700pm-19/
LOCATION:Knowlton House Distillery\, 204575 County Rd DB\, Mosinee\, WI\, 54455\, United States
CATEGORIES:Distillery Tours
ORGANIZER;CN="Knowlton House Distillery":MAILTO:info@knowltonhouse.com
END:VEVENT
BEGIN:VEVENT
DTSTART;TZID=America/Chicago:20250104T173000
DTEND;TZID=America/Chicago:20250104T183000
DTSTAMP:20260420T005251
CREATED:20241205T180840Z
LAST-MODIFIED:20241205T180840Z
UID:6612-1736011800-1736015400@knowltonhouse.com
SUMMARY:Classic Distillery Tour & Tasting - 5:30pm
DESCRIPTION:Get a behind the scenes peak at how our spirits are crafted as we take you through the history\, ingredients\, and process that goes into distilling each bottle of our award-winning TenHead spirits.\n\nTour includes a guided tasting.\n\nDuration: 60 minutes
URL:https://knowltonhouse.com/event/classic-distillery-tour-tasting-530pm-63/
LOCATION:Knowlton House Distillery\, 204575 County Rd DB\, Mosinee\, WI\, 54455\, United States
CATEGORIES:Distillery Tours
ORGANIZER;CN="Knowlton House Distillery":MAILTO:info@knowltonhouse.com
END:VEVENT
BEGIN:VEVENT
DTSTART;TZID=America/Chicago:20250110T190000
DTEND;TZID=America/Chicago:20250110T200000
DTSTAMP:20260420T005251
CREATED:20241219T154824Z
LAST-MODIFIED:20241219T154951Z
UID:6667-1736535600-1736539200@knowltonhouse.com
SUMMARY:Classic Distillery Tour & Tasting - 7:00pm
DESCRIPTION:Get a behind the scenes peak at how our spirits are crafted as we take you through the history\, ingredients\, and process that goes into distilling each bottle of our award-winning TenHead spirits.\n\nTour includes a guided tasting.\n\nDuration: 60 minutes
URL:https://knowltonhouse.com/event/classic-distillery-tour-tasting-700pm-25/
LOCATION:Knowlton House Distillery\, 204575 County Rd DB\, Mosinee\, WI\, 54455\, United States
CATEGORIES:Distillery Tours
ORGANIZER;CN="Knowlton House Distillery":MAILTO:info@knowltonhouse.com
END:VEVENT
BEGIN:VEVENT
DTSTART;TZID=America/Chicago:20250111T130000
DTEND;TZID=America/Chicago:20250111T140000
DTSTAMP:20260420T005251
CREATED:20241219T160911Z
LAST-MODIFIED:20241219T160911Z
UID:6686-1736600400-1736604000@knowltonhouse.com
SUMMARY:Classic Distillery Tour & Tasting - 1:00pm
DESCRIPTION:Get a behind the scenes peak at how our spirits are crafted as we take you through the history\, ingredients\, and process that goes into distilling each bottle of our award-winning TenHead spirits.\n\nTour includes a guided tasting.\n\nDuration: 60 minutes
URL:https://knowltonhouse.com/event/classic-distillery-tour-tasting-100pm-24/
LOCATION:Knowlton House Distillery\, 204575 County Rd DB\, Mosinee\, WI\, 54455\, United States
CATEGORIES:Distillery Tours
ORGANIZER;CN="Knowlton House Distillery":MAILTO:info@knowltonhouse.com
END:VEVENT
BEGIN:VEVENT
DTSTART;TZID=America/Chicago:20250111T143000
DTEND;TZID=America/Chicago:20250111T153000
DTSTAMP:20260420T005251
CREATED:20241219T161103Z
LAST-MODIFIED:20241219T161103Z
UID:6688-1736605800-1736609400@knowltonhouse.com
SUMMARY:Classic Distillery Tour & Tasting - 2:30pm
DESCRIPTION:Get a behind the scenes peak at how our spirits are crafted as we take you through the history\, ingredients\, and process that goes into distilling each bottle of our award-winning TenHead spirits.\n\nTour includes a guided tasting.\n\nDuration: 60 minutes
URL:https://knowltonhouse.com/event/classic-distillery-tour-tasting-230pm-35/
LOCATION:Knowlton House Distillery\, 204575 County Rd DB\, Mosinee\, WI\, 54455\, United States
CATEGORIES:Distillery Tours
ORGANIZER;CN="Knowlton House Distillery":MAILTO:info@knowltonhouse.com
END:VEVENT
BEGIN:VEVENT
DTSTART;TZID=America/Chicago:20250112T123000
DTEND;TZID=America/Chicago:20250112T150000
DTSTAMP:20260420T005251
CREATED:20241205T164913Z
LAST-MODIFIED:20241205T164938Z
UID:6580-1736685000-1736694000@knowltonhouse.com
SUMMARY:U Paint\, We Pour: Canvas Painting Class
DESCRIPTION:Join U Paint & Party for a canvas painting class of “Shrooms in Bloom!”. Their step-by-step guidance makes it easy for everyone to participate and create a masterpiece of their own.  Customize your painting to make it unique!\n\nCocktails & food available for purchase.\n\nFor registration & questions\, contact U Paint & Party.\n\n 
URL:https://knowltonhouse.com/event/u-paint-we-pour-canvas-painting-class-5/
LOCATION:Knowlton House Distillery\, 204575 County Rd DB\, Mosinee\, WI\, 54455\, United States
CATEGORIES:Art & Crafting
ORGANIZER;CN="U Paint & Party":MAILTO:upaintandparty@gmail.com
END:VEVENT
BEGIN:VEVENT
DTSTART;TZID=America/Chicago:20250117T173000
DTEND;TZID=America/Chicago:20250117T183000
DTSTAMP:20260420T005251
CREATED:20241219T155459Z
LAST-MODIFIED:20241219T155459Z
UID:6671-1737135000-1737138600@knowltonhouse.com
SUMMARY:Classic Distillery Tour & Tasting - 5:30pm
DESCRIPTION:Get a behind the scenes peak at how our spirits are crafted as we take you through the history\, ingredients\, and process that goes into distilling each bottle of our award-winning TenHead spirits.\n\nTour includes a guided tasting.\n\nDuration: 60 minutes
URL:https://knowltonhouse.com/event/classic-distillery-tour-tasting-530pm-65/
LOCATION:Knowlton House Distillery\, 204575 County Rd DB\, Mosinee\, WI\, 54455\, United States
CATEGORIES:Distillery Tours
ORGANIZER;CN="Knowlton House Distillery":MAILTO:info@knowltonhouse.com
END:VEVENT
BEGIN:VEVENT
DTSTART;TZID=America/Chicago:20250117T190000
DTEND;TZID=America/Chicago:20250117T200000
DTSTAMP:20260420T005251
CREATED:20241219T155701Z
LAST-MODIFIED:20241219T155701Z
UID:6673-1737140400-1737144000@knowltonhouse.com
SUMMARY:Classic Distillery Tour & Tasting - 7:00pm
DESCRIPTION:Get a behind the scenes peak at how our spirits are crafted as we take you through the history\, ingredients\, and process that goes into distilling each bottle of our award-winning TenHead spirits.\n\nTour includes a guided tasting.\n\nDuration: 60 minutes
URL:https://knowltonhouse.com/event/classic-distillery-tour-tasting-700pm-26/
LOCATION:Knowlton House Distillery\, 204575 County Rd DB\, Mosinee\, WI\, 54455\, United States
CATEGORIES:Distillery Tours
ORGANIZER;CN="Knowlton House Distillery":MAILTO:info@knowltonhouse.com
END:VEVENT
BEGIN:VEVENT
DTSTART;TZID=America/Chicago:20250118T130000
DTEND;TZID=America/Chicago:20250118T140000
DTSTAMP:20260420T005251
CREATED:20241219T161436Z
LAST-MODIFIED:20241219T161436Z
UID:6692-1737205200-1737208800@knowltonhouse.com
SUMMARY:Classic Distillery Tour & Tasting - 1:00pm
DESCRIPTION:Get a behind the scenes peak at how our spirits are crafted as we take you through the history\, ingredients\, and process that goes into distilling each bottle of our award-winning TenHead spirits.\n\nTour includes a guided tasting.\n\nDuration: 60 minutes
URL:https://knowltonhouse.com/event/classic-distillery-tour-tasting-100pm-25/
LOCATION:Knowlton House Distillery\, 204575 County Rd DB\, Mosinee\, WI\, 54455\, United States
CATEGORIES:Distillery Tours
ORGANIZER;CN="Knowlton House Distillery":MAILTO:info@knowltonhouse.com
END:VEVENT
BEGIN:VEVENT
DTSTART;TZID=America/Chicago:20250118T143000
DTEND;TZID=America/Chicago:20250118T153000
DTSTAMP:20260420T005251
CREATED:20241219T161629Z
LAST-MODIFIED:20241219T161629Z
UID:6694-1737210600-1737214200@knowltonhouse.com
SUMMARY:Classic Distillery Tour & Tasting - 2:30pm
DESCRIPTION:Get a behind the scenes peak at how our spirits are crafted as we take you through the history\, ingredients\, and process that goes into distilling each bottle of our award-winning TenHead spirits.\n\nTour includes a guided tasting.\n\nDuration: 60 minutes
URL:https://knowltonhouse.com/event/classic-distillery-tour-tasting-230pm-37/
LOCATION:Knowlton House Distillery\, 204575 County Rd DB\, Mosinee\, WI\, 54455\, United States
CATEGORIES:Distillery Tours
ORGANIZER;CN="Knowlton House Distillery":MAILTO:info@knowltonhouse.com
END:VEVENT
BEGIN:VEVENT
DTSTART;TZID=America/Chicago:20250125T130000
DTEND;TZID=America/Chicago:20250125T140000
DTSTAMP:20260420T005251
CREATED:20241219T161933Z
LAST-MODIFIED:20241219T161933Z
UID:6698-1737810000-1737813600@knowltonhouse.com
SUMMARY:Classic Distillery Tour & Tasting - 1:00pm
DESCRIPTION:Get a behind the scenes peak at how our spirits are crafted as we take you through the history\, ingredients\, and process that goes into distilling each bottle of our award-winning TenHead spirits.\n\nTour includes a guided tasting.\n\nDuration: 60 minutes
URL:https://knowltonhouse.com/event/classic-distillery-tour-tasting-100pm-26/
LOCATION:Knowlton House Distillery\, 204575 County Rd DB\, Mosinee\, WI\, 54455\, United States
CATEGORIES:Distillery Tours
ORGANIZER;CN="Knowlton House Distillery":MAILTO:info@knowltonhouse.com
END:VEVENT
BEGIN:VEVENT
DTSTART;TZID=America/Chicago:20250125T143000
DTEND;TZID=America/Chicago:20250125T153000
DTSTAMP:20260420T005251
CREATED:20241219T162343Z
LAST-MODIFIED:20241219T162343Z
UID:6700-1737815400-1737819000@knowltonhouse.com
SUMMARY:Classic Distillery Tour & Tasting - 2:30pm
DESCRIPTION:Get a behind the scenes peak at how our spirits are crafted as we take you through the history\, ingredients\, and process that goes into distilling each bottle of our award-winning TenHead spirits.\n\nTour includes a guided tasting.\n\nDuration: 60 minutes
URL:https://knowltonhouse.com/event/classic-distillery-tour-tasting-230pm-38/
LOCATION:Knowlton House Distillery\, 204575 County Rd DB\, Mosinee\, WI\, 54455\, United States
CATEGORIES:Distillery Tours
ORGANIZER;CN="Knowlton House Distillery":MAILTO:info@knowltonhouse.com
END:VEVENT
END:VCALENDAR