BEGIN:VCALENDAR
VERSION:2.0
PRODID:-//Knowlton House Distillery - ECPv6.15.17.1//NONSGML v1.0//EN
CALSCALE:GREGORIAN
METHOD:PUBLISH
X-WR-CALNAME:Knowlton House Distillery
X-ORIGINAL-URL:https://knowltonhouse.com
X-WR-CALDESC:Events for Knowlton House Distillery
REFRESH-INTERVAL;VALUE=DURATION:PT1H
X-Robots-Tag:noindex
X-PUBLISHED-TTL:PT1H
BEGIN:VTIMEZONE
TZID:America/Chicago
BEGIN:DAYLIGHT
TZOFFSETFROM:-0600
TZOFFSETTO:-0500
TZNAME:CDT
DTSTART:20250309T080000
END:DAYLIGHT
BEGIN:STANDARD
TZOFFSETFROM:-0500
TZOFFSETTO:-0600
TZNAME:CST
DTSTART:20251102T070000
END:STANDARD
BEGIN:DAYLIGHT
TZOFFSETFROM:-0600
TZOFFSETTO:-0500
TZNAME:CDT
DTSTART:20260308T080000
END:DAYLIGHT
BEGIN:STANDARD
TZOFFSETFROM:-0500
TZOFFSETTO:-0600
TZNAME:CST
DTSTART:20261101T070000
END:STANDARD
BEGIN:DAYLIGHT
TZOFFSETFROM:-0600
TZOFFSETTO:-0500
TZNAME:CDT
DTSTART:20270314T080000
END:DAYLIGHT
BEGIN:STANDARD
TZOFFSETFROM:-0500
TZOFFSETTO:-0600
TZNAME:CST
DTSTART:20271107T070000
END:STANDARD
END:VTIMEZONE
BEGIN:VEVENT
DTSTART;TZID=America/Chicago:20260830T090000
DTEND;TZID=America/Chicago:20260830T130000
DTSTAMP:20260419T161235
CREATED:20260327T181127Z
LAST-MODIFIED:20260327T181127Z
UID:10087-1788080400-1788094800@knowltonhouse.com
SUMMARY:Farmers Market
DESCRIPTION:Make Sunday a Funday at Knowlton House Distillery’s Sunday Farmers Market in Mosinee\, Wisconsin. Join us from 9:00am–1:00pm to shop a curated selection of local produce\, fresh meats\, flowers\, and artisan goods – all while enjoying a craft cocktail from the distillery. \nTurn your morning into a full experience with all-day brunch starting at 9:00am and live music from 11:00am–2:00pm. Bring your friends. Heck\, bring your dog (our patio is pet-friendly). Knowlton House is your go-to destination for a lively Sunday in Central Wisconsin. \nPlanning to stay for the music? Bring a lawn chair or picnic blanket and settle in for a laid-back afternoon of great drinks\, good food\, and live entertainment.
URL:https://knowltonhouse.com/event/farmers-market-38/
LOCATION:Knowlton House Distillery\, 204575 County Rd DB\, Mosinee\, WI\, 54455\, United States
CATEGORIES:Seasonal Market
ATTACH;FMTTYPE=image/jpeg:https://knowltonhouse.com/wp-content/uploads/2025/04/Farmers-Market-Digital-Mobile-Ad-1.91-to-1.jpg
ORGANIZER;CN="Knowlton House Distillery":MAILTO:info@knowltonhouse.com
END:VEVENT
BEGIN:VEVENT
DTSTART;TZID=America/Chicago:20260906T090000
DTEND;TZID=America/Chicago:20260906T130000
DTSTAMP:20260419T161235
CREATED:20260327T181840Z
LAST-MODIFIED:20260327T181840Z
UID:10089-1788685200-1788699600@knowltonhouse.com
SUMMARY:Farmers Market
DESCRIPTION:Make Sunday a Funday at Knowlton House Distillery’s Sunday Farmers Market in Mosinee\, Wisconsin. Join us from 9:00am–1:00pm to shop a curated selection of local produce\, fresh meats\, flowers\, and artisan goods – all while enjoying a craft cocktail from the distillery. \nTurn your morning into a full experience with all-day brunch starting at 9:00am and live music from 11:00am–2:00pm. Bring your friends. Heck\, bring your dog (our patio is pet-friendly). Knowlton House is your go-to destination for a lively Sunday in Central Wisconsin. \nPlanning to stay for the music? Bring a lawn chair or picnic blanket and settle in for a laid-back afternoon of great drinks\, good food\, and live entertainment.
URL:https://knowltonhouse.com/event/farmers-market-39/
LOCATION:Knowlton House Distillery\, 204575 County Rd DB\, Mosinee\, WI\, 54455\, United States
CATEGORIES:Seasonal Market
ATTACH;FMTTYPE=image/jpeg:https://knowltonhouse.com/wp-content/uploads/2025/04/Farmers-Market-Digital-Mobile-Ad-1.91-to-1.jpg
ORGANIZER;CN="Knowlton House Distillery":MAILTO:info@knowltonhouse.com
END:VEVENT
BEGIN:VEVENT
DTSTART;TZID=America/Chicago:20260913T090000
DTEND;TZID=America/Chicago:20260913T130000
DTSTAMP:20260419T161235
CREATED:20260327T182024Z
LAST-MODIFIED:20260327T182024Z
UID:10091-1789290000-1789304400@knowltonhouse.com
SUMMARY:Farmers Market
DESCRIPTION:Make Sunday a Funday at Knowlton House Distillery’s Sunday Farmers Market in Mosinee\, Wisconsin. Join us from 9:00am–1:00pm to shop a curated selection of local produce\, fresh meats\, flowers\, and artisan goods – all while enjoying a craft cocktail from the distillery. \nTurn your morning into a full experience with all-day brunch starting at 9:00am and live music from 11:00am–2:00pm. Bring your friends. Heck\, bring your dog (our patio is pet-friendly). Knowlton House is your go-to destination for a lively Sunday in Central Wisconsin. \nPlanning to stay for the music? Bring a lawn chair or picnic blanket and settle in for a laid-back afternoon of great drinks\, good food\, and live entertainment.
URL:https://knowltonhouse.com/event/farmers-market-40/
LOCATION:Knowlton House Distillery\, 204575 County Rd DB\, Mosinee\, WI\, 54455\, United States
CATEGORIES:Seasonal Market
ATTACH;FMTTYPE=image/jpeg:https://knowltonhouse.com/wp-content/uploads/2025/04/Farmers-Market-Digital-Mobile-Ad-1.91-to-1.jpg
ORGANIZER;CN="Knowlton House Distillery":MAILTO:info@knowltonhouse.com
END:VEVENT
BEGIN:VEVENT
DTSTART;TZID=America/Chicago:20260920T090000
DTEND;TZID=America/Chicago:20260920T130000
DTSTAMP:20260419T161235
CREATED:20260327T184208Z
LAST-MODIFIED:20260327T184208Z
UID:10097-1789894800-1789909200@knowltonhouse.com
SUMMARY:Farmers Market
DESCRIPTION:Make Sunday a Funday at Knowlton House Distillery’s Sunday Farmers Market in Mosinee\, Wisconsin. Join us from 9:00am–1:00pm to shop a curated selection of local produce\, fresh meats\, flowers\, and artisan goods – all while enjoying a craft cocktail from the distillery. \nTurn your morning into a full experience with all-day brunch starting at 9:00am and live music from 11:00am–2:00pm. Bring your friends. Heck\, bring your dog (our patio is pet-friendly). Knowlton House is your go-to destination for a lively Sunday in Central Wisconsin. \nPlanning to stay for the music? Bring a lawn chair or picnic blanket and settle in for a laid-back afternoon of great drinks\, good food\, and live entertainment.
URL:https://knowltonhouse.com/event/farmers-market-42/
LOCATION:Knowlton House Distillery\, 204575 County Rd DB\, Mosinee\, WI\, 54455\, United States
CATEGORIES:Seasonal Market
ATTACH;FMTTYPE=image/jpeg:https://knowltonhouse.com/wp-content/uploads/2025/04/Farmers-Market-Digital-Mobile-Ad-1.91-to-1.jpg
ORGANIZER;CN="Knowlton House Distillery":MAILTO:info@knowltonhouse.com
END:VEVENT
BEGIN:VEVENT
DTSTART;TZID=America/Chicago:20260927T090000
DTEND;TZID=America/Chicago:20260927T130000
DTSTAMP:20260419T161235
CREATED:20260327T182133Z
LAST-MODIFIED:20260327T182242Z
UID:10093-1790499600-1790514000@knowltonhouse.com
SUMMARY:Farmers Market
DESCRIPTION:Make Sunday a Funday at Knowlton House Distillery’s Sunday Farmers Market in Mosinee\, Wisconsin. Join us from 9:00am–1:00pm to shop a curated selection of local produce\, fresh meats\, flowers\, and artisan goods – all while enjoying a craft cocktail from the distillery. \nTurn your morning into a full experience with all-day brunch starting at 9:00am and live music from 11:00am–2:00pm. Bring your friends. Heck\, bring your dog (our patio is pet-friendly). Knowlton House is your go-to destination for a lively Sunday in Central Wisconsin. \nPlanning to stay for the music? Bring a lawn chair or picnic blanket and settle in for a laid-back afternoon of great drinks\, good food\, and live entertainment.
URL:https://knowltonhouse.com/event/farmers-market-41/
LOCATION:Knowlton House Distillery\, 204575 County Rd DB\, Mosinee\, WI\, 54455\, United States
CATEGORIES:Seasonal Market
ATTACH;FMTTYPE=image/jpeg:https://knowltonhouse.com/wp-content/uploads/2025/04/Farmers-Market-Digital-Mobile-Ad-1.91-to-1.jpg
ORGANIZER;CN="Knowlton House Distillery":MAILTO:info@knowltonhouse.com
END:VEVENT
BEGIN:VEVENT
DTSTART;TZID=America/Chicago:20261001T110000
DTEND;TZID=America/Chicago:20261001T220000
DTSTAMP:20260419T161235
CREATED:20260327T184003Z
LAST-MODIFIED:20260327T184003Z
UID:10095-1790852400-1790892000@knowltonhouse.com
SUMMARY:CLOSED - PRIVATE EVENT
DESCRIPTION:We don’t normally do this\, but we’re CLOSED for a private event.  One of our own is getting married and we couldn’t help but accommodate his request to celebrate at Knowlton House.\n\nThanks for your understanding – we hope to see you this weekend!
URL:https://knowltonhouse.com/event/closed-private-event/
LOCATION:WI
END:VEVENT
END:VCALENDAR