BEGIN:VCALENDAR
VERSION:2.0
PRODID:-//Knowlton House Distillery - ECPv6.15.17.1//NONSGML v1.0//EN
CALSCALE:GREGORIAN
METHOD:PUBLISH
X-ORIGINAL-URL:https://knowltonhouse.com
X-WR-CALDESC:Events for Knowlton House Distillery
REFRESH-INTERVAL;VALUE=DURATION:PT1H
X-Robots-Tag:noindex
X-PUBLISHED-TTL:PT1H
BEGIN:VTIMEZONE
TZID:America/Chicago
BEGIN:DAYLIGHT
TZOFFSETFROM:-0600
TZOFFSETTO:-0500
TZNAME:CDT
DTSTART:20230312T080000
END:DAYLIGHT
BEGIN:STANDARD
TZOFFSETFROM:-0500
TZOFFSETTO:-0600
TZNAME:CST
DTSTART:20231105T070000
END:STANDARD
BEGIN:DAYLIGHT
TZOFFSETFROM:-0600
TZOFFSETTO:-0500
TZNAME:CDT
DTSTART:20240310T080000
END:DAYLIGHT
BEGIN:STANDARD
TZOFFSETFROM:-0500
TZOFFSETTO:-0600
TZNAME:CST
DTSTART:20241103T070000
END:STANDARD
BEGIN:DAYLIGHT
TZOFFSETFROM:-0600
TZOFFSETTO:-0500
TZNAME:CDT
DTSTART:20250309T080000
END:DAYLIGHT
BEGIN:STANDARD
TZOFFSETFROM:-0500
TZOFFSETTO:-0600
TZNAME:CST
DTSTART:20251102T070000
END:STANDARD
END:VTIMEZONE
BEGIN:VEVENT
DTSTART;TZID=America/Chicago:20240127T143000
DTEND;TZID=America/Chicago:20240127T153000
DTSTAMP:20260420T004701
CREATED:20231201T232311Z
LAST-MODIFIED:20231201T232311Z
UID:3091-1706365800-1706369400@knowltonhouse.com
SUMMARY:Classic Distillery Tour & Tasting - 2:30pm
DESCRIPTION:Get a behind the scenes peak at how our spirits are crafted as we take you through the history\, ingredients\, and process that goes into distilling each bottle of Knowlton House spirits.\n\nTour includes a guided tasting.\n\nDuration: 45 minutes
URL:https://knowltonhouse.com/event/classic-distillery-tour-tasting-230pm-11/
LOCATION:Knowlton House Distillery\, 204575 County Rd DB\, Mosinee\, WI\, 54455\, United States
ORGANIZER;CN="Knowlton House Distillery":MAILTO:info@knowltonhouse.com
END:VEVENT
BEGIN:VEVENT
DTSTART;TZID=America/Chicago:20240202T173000
DTEND;TZID=America/Chicago:20240202T183000
DTSTAMP:20260420T004701
CREATED:20240110T213655Z
LAST-MODIFIED:20240110T213655Z
UID:3517-1706895000-1706898600@knowltonhouse.com
SUMMARY:Classic Distillery Tour & Tasting - 5:30pm
DESCRIPTION:Get a behind the scenes peak at how our spirits are crafted as we take you through the history\, ingredients\, and process that goes into distilling each bottle of Knowlton House spirits.\n\nTour includes a guided tasting.\n\nDuration: 45 minutes
URL:https://knowltonhouse.com/event/classic-distillery-tour-tasting-530pm-10/
LOCATION:Knowlton House Distillery\, 204575 County Rd DB\, Mosinee\, WI\, 54455\, United States
ORGANIZER;CN="Knowlton House Distillery":MAILTO:info@knowltonhouse.com
END:VEVENT
BEGIN:VEVENT
DTSTART;TZID=America/Chicago:20240203T130000
DTEND;TZID=America/Chicago:20240203T140000
DTSTAMP:20260420T004701
CREATED:20240110T220801Z
LAST-MODIFIED:20240110T220801Z
UID:3577-1706965200-1706968800@knowltonhouse.com
SUMMARY:Classic Distillery Tour & Tasting - 1:00pm
DESCRIPTION:Get a behind the scenes peak at how our spirits are crafted as we take you through the history\, ingredients\, and process that goes into distilling each bottle of Knowlton House spirits.\n\nTour includes a guided tasting.\n\nDuration: 45 minutes
URL:https://knowltonhouse.com/event/classic-distillery-tour-tasting-100pm-7/
LOCATION:Knowlton House Distillery\, 204575 County Rd DB\, Mosinee\, WI\, 54455\, United States
ORGANIZER;CN="Knowlton House Distillery":MAILTO:info@knowltonhouse.com
END:VEVENT
BEGIN:VEVENT
DTSTART;TZID=America/Chicago:20240203T143000
DTEND;TZID=America/Chicago:20240203T153000
DTSTAMP:20260420T004701
CREATED:20240110T220653Z
LAST-MODIFIED:20240110T220653Z
UID:3574-1706970600-1706974200@knowltonhouse.com
SUMMARY:Classic Distillery Tour & Tasting - 2:30pm
DESCRIPTION:Get a behind the scenes peak at how our spirits are crafted as we take you through the history\, ingredients\, and process that goes into distilling each bottle of Knowlton House spirits.\n\nTour includes a guided tasting.\n\nDuration: 45 minutes
URL:https://knowltonhouse.com/event/classic-distillery-tour-tasting-230pm-13/
LOCATION:Knowlton House Distillery\, 204575 County Rd DB\, Mosinee\, WI\, 54455\, United States
ORGANIZER;CN="Knowlton House Distillery":MAILTO:info@knowltonhouse.com
END:VEVENT
BEGIN:VEVENT
DTSTART;TZID=America/Chicago:20240203T160000
DTEND;TZID=America/Chicago:20240203T170000
DTSTAMP:20260420T004701
CREATED:20240110T215453Z
LAST-MODIFIED:20240110T220440Z
UID:3557-1706976000-1706979600@knowltonhouse.com
SUMMARY:Classic Distillery Tour & Tasting - 4:00pm
DESCRIPTION:Get a behind the scenes peak at how our spirits are crafted as we take you through the history\, ingredients\, and process that goes into distilling each bottle of Knowlton House spirits.\n\nTour includes a guided tasting.\n\nDuration: 45 minutes
URL:https://knowltonhouse.com/event/classic-distillery-tour-tasting-400pm-11/
LOCATION:Knowlton House Distillery\, 204575 County Rd DB\, Mosinee\, WI\, 54455\, United States
ORGANIZER;CN="Knowlton House Distillery":MAILTO:info@knowltonhouse.com
END:VEVENT
BEGIN:VEVENT
DTSTART;TZID=America/Chicago:20240209T173000
DTEND;TZID=America/Chicago:20240209T183000
DTSTAMP:20260420T004701
CREATED:20240110T213859Z
LAST-MODIFIED:20240110T213859Z
UID:3523-1707499800-1707503400@knowltonhouse.com
SUMMARY:Classic Distillery Tour & Tasting - 5:30pm
DESCRIPTION:Get a behind the scenes peak at how our spirits are crafted as we take you through the history\, ingredients\, and process that goes into distilling each bottle of Knowlton House spirits.\n\nTour includes a guided tasting.\n\nDuration: 45 minutes
URL:https://knowltonhouse.com/event/classic-distillery-tour-tasting-530pm-19/
LOCATION:Knowlton House Distillery\, 204575 County Rd DB\, Mosinee\, WI\, 54455\, United States
ORGANIZER;CN="Knowlton House Distillery":MAILTO:info@knowltonhouse.com
END:VEVENT
BEGIN:VEVENT
DTSTART;TZID=America/Chicago:20240209T190000
DTEND;TZID=America/Chicago:20240209T200000
DTSTAMP:20260420T004701
CREATED:20240110T214943Z
LAST-MODIFIED:20240110T214943Z
UID:3546-1707505200-1707508800@knowltonhouse.com
SUMMARY:Classic Distillery Tour & Tasting - 7:00pm
DESCRIPTION:Get a behind the scenes peak at how our spirits are crafted as we take you through the history\, ingredients\, and process that goes into distilling each bottle of Knowlton House spirits.\n\nTour includes a guided tasting.\n\nDuration: 45 minutes
URL:https://knowltonhouse.com/event/classic-distillery-tour-tasting-700pm-4/
LOCATION:Knowlton House Distillery\, 204575 County Rd DB\, Mosinee\, WI\, 54455\, United States
ORGANIZER;CN="Knowlton House Distillery":MAILTO:info@knowltonhouse.com
END:VEVENT
BEGIN:VEVENT
DTSTART;TZID=America/Chicago:20240210T130000
DTEND;TZID=America/Chicago:20240210T143000
DTSTAMP:20260420T004701
CREATED:20231208T142406Z
LAST-MODIFIED:20240210T014604Z
UID:3147-1707570000-1707575400@knowltonhouse.com
SUMMARY:Cocktail Workshop: The Birds & The Bees
DESCRIPTION:You’ll be feeling “that thing called love” in our The Birds & The Bees Cocktail Workshop. We’ll guide you through basic mixology and bartending techniques as you get hands-on crafting a classic Bee’s Knees and a bourbon riff on a Jungle Bird. Workshop includes welcome cocktail\, two cocktail creations and light bites.\n\nCocktails: Thing Called Loved (vodka)\, Bee’s Knees (gin)\, Jungle Bird (bourbon)\n\n \n\n 
URL:https://knowltonhouse.com/event/cocktail-workshop-the-birds-the-bees/
LOCATION:Knowlton House Distillery\, 204575 County Rd DB\, Mosinee\, WI\, 54455\, United States
ORGANIZER;CN="Knowlton House Distillery":MAILTO:info@knowltonhouse.com
END:VEVENT
BEGIN:VEVENT
DTSTART;TZID=America/Chicago:20240210T160000
DTEND;TZID=America/Chicago:20240210T170000
DTSTAMP:20260420T004701
CREATED:20240110T215645Z
LAST-MODIFIED:20240110T215754Z
UID:3563-1707580800-1707584400@knowltonhouse.com
SUMMARY:Classic Distillery Tour & Tasting - 4:00pm
DESCRIPTION:Get a behind the scenes peak at how our spirits are crafted as we take you through the history\, ingredients\, and process that goes into distilling each bottle of Knowlton House spirits.\n\nTour includes a guided tasting.\n\nDuration: 45 minutes
URL:https://knowltonhouse.com/event/classic-distillery-tour-tasting-400pm-15/
LOCATION:Knowlton House Distillery\, 204575 County Rd DB\, Mosinee\, WI\, 54455\, United States
ORGANIZER;CN="Knowlton House Distillery":MAILTO:info@knowltonhouse.com
END:VEVENT
BEGIN:VEVENT
DTSTART;TZID=America/Chicago:20240210T173000
DTEND;TZID=America/Chicago:20240210T183000
DTSTAMP:20260420T004701
CREATED:20240110T214125Z
LAST-MODIFIED:20240110T214125Z
UID:3526-1707586200-1707589800@knowltonhouse.com
SUMMARY:Classic Distillery Tour & Tasting - 5:30pm
DESCRIPTION:Get a behind the scenes peak at how our spirits are crafted as we take you through the history\, ingredients\, and process that goes into distilling each bottle of Knowlton House spirits.\n\nTour includes a guided tasting.\n\nDuration: 45 minutes
URL:https://knowltonhouse.com/event/classic-distillery-tour-tasting-530pm-20/
LOCATION:Knowlton House Distillery\, 204575 County Rd DB\, Mosinee\, WI\, 54455\, United States
ORGANIZER;CN="Knowlton House Distillery":MAILTO:info@knowltonhouse.com
END:VEVENT
BEGIN:VEVENT
DTSTART;TZID=America/Chicago:20240215T180000
DTEND;TZID=America/Chicago:20240215T193000
DTSTAMP:20260420T004701
CREATED:20231208T142512Z
LAST-MODIFIED:20240214T222439Z
UID:3150-1708020000-1708025400@knowltonhouse.com
SUMMARY:Cocktail Workshop: The Birds & The Bees
DESCRIPTION:You’ll be feeling “that thing called love” in our The Birds & The Bees Cocktail Workshop. We’ll guide you through basic mixology and bartending techniques as you get hands-on crafting a classic Bee’s Knees and a bourbon riff on a Jungle Bird. Workshop includes welcome cocktail\, two cocktail creations and light bites.\n\nCocktails: Thing Called Loved (vodka)\, Bee’s Knees (gin)\, Jungle Bird (bourbon)\n\n \n\n 
URL:https://knowltonhouse.com/event/cocktail-workshop-the-birds-the-bees-2/
LOCATION:Knowlton House Distillery\, 204575 County Rd DB\, Mosinee\, WI\, 54455\, United States
ORGANIZER;CN="Knowlton House Distillery":MAILTO:info@knowltonhouse.com
END:VEVENT
BEGIN:VEVENT
DTSTART;TZID=America/Chicago:20240216T173000
DTEND;TZID=America/Chicago:20240216T183000
DTSTAMP:20260420T004701
CREATED:20240110T214247Z
LAST-MODIFIED:20240110T214247Z
UID:3529-1708104600-1708108200@knowltonhouse.com
SUMMARY:Classic Distillery Tour & Tasting - 5:30pm
DESCRIPTION:Get a behind the scenes peak at how our spirits are crafted as we take you through the history\, ingredients\, and process that goes into distilling each bottle of Knowlton House spirits.\n\nTour includes a guided tasting.\n\nDuration: 45 minutes
URL:https://knowltonhouse.com/event/classic-distillery-tour-tasting-530pm-21/
LOCATION:Knowlton House Distillery\, 204575 County Rd DB\, Mosinee\, WI\, 54455\, United States
ORGANIZER;CN="Knowlton House Distillery":MAILTO:info@knowltonhouse.com
END:VEVENT
BEGIN:VEVENT
DTSTART;TZID=America/Chicago:20240217T130000
DTEND;TZID=America/Chicago:20240217T140000
DTSTAMP:20260420T004701
CREATED:20240110T220910Z
LAST-MODIFIED:20240110T220910Z
UID:3580-1708174800-1708178400@knowltonhouse.com
SUMMARY:Classic Distillery Tour & Tasting - 1:00pm
DESCRIPTION:Get a behind the scenes peak at how our spirits are crafted as we take you through the history\, ingredients\, and process that goes into distilling each bottle of Knowlton House spirits.\n\nTour includes a guided tasting.\n\nDuration: 45 minutes
URL:https://knowltonhouse.com/event/classic-distillery-tour-tasting-100pm-11/
LOCATION:Knowlton House Distillery\, 204575 County Rd DB\, Mosinee\, WI\, 54455\, United States
ORGANIZER;CN="Knowlton House Distillery":MAILTO:info@knowltonhouse.com
END:VEVENT
BEGIN:VEVENT
DTSTART;TZID=America/Chicago:20240217T143000
DTEND;TZID=America/Chicago:20240217T153000
DTSTAMP:20260420T004701
CREATED:20240110T220549Z
LAST-MODIFIED:20240110T220549Z
UID:3571-1708180200-1708183800@knowltonhouse.com
SUMMARY:Classic Distillery Tour & Tasting - 2:30pm
DESCRIPTION:Get a behind the scenes peak at how our spirits are crafted as we take you through the history\, ingredients\, and process that goes into distilling each bottle of Knowlton House spirits.\n\nTour includes a guided tasting.\n\nDuration: 45 minutes
URL:https://knowltonhouse.com/event/classic-distillery-tour-tasting-230pm-12/
LOCATION:Knowlton House Distillery\, 204575 County Rd DB\, Mosinee\, WI\, 54455\, United States
ORGANIZER;CN="Knowlton House Distillery":MAILTO:info@knowltonhouse.com
END:VEVENT
BEGIN:VEVENT
DTSTART;TZID=America/Chicago:20240217T173000
DTEND;TZID=America/Chicago:20240217T183000
DTSTAMP:20260420T004701
CREATED:20240110T214343Z
LAST-MODIFIED:20240110T214343Z
UID:3532-1708191000-1708194600@knowltonhouse.com
SUMMARY:Classic Distillery Tour & Tasting - 5:30pm
DESCRIPTION:Get a behind the scenes peak at how our spirits are crafted as we take you through the history\, ingredients\, and process that goes into distilling each bottle of Knowlton House spirits.\n\nTour includes a guided tasting.\n\nDuration: 45 minutes
URL:https://knowltonhouse.com/event/classic-distillery-tour-tasting-530pm-22/
LOCATION:Knowlton House Distillery\, 204575 County Rd DB\, Mosinee\, WI\, 54455\, United States
ORGANIZER;CN="Knowlton House Distillery":MAILTO:info@knowltonhouse.com
END:VEVENT
BEGIN:VEVENT
DTSTART;TZID=America/Chicago:20240223T173000
DTEND;TZID=America/Chicago:20240223T183000
DTSTAMP:20260420T004701
CREATED:20240110T214635Z
LAST-MODIFIED:20240110T214635Z
UID:3537-1708709400-1708713000@knowltonhouse.com
SUMMARY:Classic Distillery Tour & Tasting - 5:30pm
DESCRIPTION:Get a behind the scenes peak at how our spirits are crafted as we take you through the history\, ingredients\, and process that goes into distilling each bottle of Knowlton House spirits.\n\nTour includes a guided tasting.\n\nDuration: 45 minutes
URL:https://knowltonhouse.com/event/classic-distillery-tour-tasting-530pm-23/
LOCATION:Knowlton House Distillery\, 204575 County Rd DB\, Mosinee\, WI\, 54455\, United States
ORGANIZER;CN="Knowlton House Distillery":MAILTO:info@knowltonhouse.com
END:VEVENT
BEGIN:VEVENT
DTSTART;TZID=America/Chicago:20240224T160000
DTEND;TZID=America/Chicago:20240224T170000
DTSTAMP:20260420T004701
CREATED:20240110T220118Z
LAST-MODIFIED:20240223T191337Z
UID:3568-1708790400-1708794000@knowltonhouse.com
SUMMARY:Classic Distillery Tour & Tasting - 4:00pm
DESCRIPTION:Get a behind the scenes peak at how our spirits are crafted as we take you through the history\, ingredients\, and process that goes into distilling each bottle of Knowlton House spirits.\n\nTour includes a guided tasting.\n\nDuration: 45 minutes
URL:https://knowltonhouse.com/event/classic-distillery-tour-tasting-400pm-16/
LOCATION:Knowlton House Distillery\, 204575 County Rd DB\, Mosinee\, WI\, 54455\, United States
ORGANIZER;CN="Knowlton House Distillery":MAILTO:info@knowltonhouse.com
END:VEVENT
BEGIN:VEVENT
DTSTART;TZID=America/Chicago:20240224T173000
DTEND;TZID=America/Chicago:20240224T183000
DTSTAMP:20260420T004701
CREATED:20240110T214731Z
LAST-MODIFIED:20240110T214731Z
UID:3540-1708795800-1708799400@knowltonhouse.com
SUMMARY:Classic Distillery Tour & Tasting - 5:30pm
DESCRIPTION:Get a behind the scenes peak at how our spirits are crafted as we take you through the history\, ingredients\, and process that goes into distilling each bottle of Knowlton House spirits.\n\nTour includes a guided tasting.\n\nDuration: 45 minutes
URL:https://knowltonhouse.com/event/classic-distillery-tour-tasting-530pm-24/
LOCATION:Knowlton House Distillery\, 204575 County Rd DB\, Mosinee\, WI\, 54455\, United States
ORGANIZER;CN="Knowlton House Distillery":MAILTO:info@knowltonhouse.com
END:VEVENT
BEGIN:VEVENT
DTSTART;TZID=America/Chicago:20240229T180000
DTEND;TZID=America/Chicago:20240229T193000
DTSTAMP:20260420T004701
CREATED:20240102T144017Z
LAST-MODIFIED:20240102T144017Z
UID:3418-1709229600-1709235000@knowltonhouse.com
SUMMARY:Shaken & Stirred Cocktail Workshop
DESCRIPTION:Step up your home bartending skills with our Shaken & Stirred cocktail class.  We’ll guide you through mixology and bartending techniques on your way to making two cocktails: one shaken\, one stirred.  Class includes welcome cocktail\, two cocktail creations and light bites.  An evening of fun for cocktail novices and aficionados alike. — Welcome Cocktail: Rosemary’s Baby (Gin) — Shaken Cocktail: Bolivar of Broken Dreams (Vodka) — Stirred Cocktail: Knowlton Old Fashioned (Bourbon)\n\n 
URL:https://knowltonhouse.com/event/shaken-stirred-cocktail-workshop/
LOCATION:Knowlton House Distillery\, 204575 County Rd DB\, Mosinee\, WI\, 54455\, United States
ORGANIZER;CN="Knowlton House Distillery":MAILTO:info@knowltonhouse.com
END:VEVENT
BEGIN:VEVENT
DTSTART;TZID=America/Chicago:20240302T130000
DTEND;TZID=America/Chicago:20240302T140000
DTSTAMP:20260420T004701
CREATED:20240208T194950Z
LAST-MODIFIED:20240208T194950Z
UID:3856-1709384400-1709388000@knowltonhouse.com
SUMMARY:Classic Distillery Tour & Tasting - 1:00pm
DESCRIPTION:Get a behind the scenes peak at how our spirits are crafted as we take you through the history\, ingredients\, and process that goes into distilling each bottle of Knowlton House spirits.\n\nTour includes a guided tasting.\n\nDuration: 45 minutes
URL:https://knowltonhouse.com/event/classic-distillery-tour-tasting-100pm-9/
LOCATION:Knowlton House Distillery\, 204575 County Rd DB\, Mosinee\, WI\, 54455\, United States
ORGANIZER;CN="Knowlton House Distillery":MAILTO:info@knowltonhouse.com
END:VEVENT
BEGIN:VEVENT
DTSTART;TZID=America/Chicago:20240302T143000
DTEND;TZID=America/Chicago:20240302T153000
DTSTAMP:20260420T004702
CREATED:20240208T194530Z
LAST-MODIFIED:20240301T160825Z
UID:3843-1709389800-1709393400@knowltonhouse.com
SUMMARY:Classic Distillery Tour & Tasting - 2:30pm
DESCRIPTION:Get a behind the scenes peak at how our spirits are crafted as we take you through the history\, ingredients\, and process that goes into distilling each bottle of Knowlton House spirits.\n\nTour includes a guided tasting.\n\nDuration: 45 minutes
URL:https://knowltonhouse.com/event/classic-distillery-tour-tasting-230pm-14/
LOCATION:Knowlton House Distillery\, 204575 County Rd DB\, Mosinee\, WI\, 54455\, United States
ORGANIZER;CN="Knowlton House Distillery":MAILTO:info@knowltonhouse.com
END:VEVENT
BEGIN:VEVENT
DTSTART;TZID=America/Chicago:20240308T173000
DTEND;TZID=America/Chicago:20240308T183000
DTSTAMP:20260420T004702
CREATED:20240208T192801Z
LAST-MODIFIED:20240208T192801Z
UID:3790-1709919000-1709922600@knowltonhouse.com
SUMMARY:Classic Distillery Tour & Tasting - 5:30pm
DESCRIPTION:Get a behind the scenes peak at how our spirits are crafted as we take you through the history\, ingredients\, and process that goes into distilling each bottle of Knowlton House spirits.\n\nTour includes a guided tasting.\n\nDuration: 45 minutes
URL:https://knowltonhouse.com/event/classic-distillery-tour-tasting-530pm-17/
LOCATION:Knowlton House Distillery\, 204575 County Rd DB\, Mosinee\, WI\, 54455\, United States
ORGANIZER;CN="Knowlton House Distillery":MAILTO:info@knowltonhouse.com
END:VEVENT
BEGIN:VEVENT
DTSTART;TZID=America/Chicago:20240309T130000
DTEND;TZID=America/Chicago:20240309T143000
DTSTAMP:20260420T004702
CREATED:20240105T185557Z
LAST-MODIFIED:20240215T194446Z
UID:3456-1709989200-1709994600@knowltonhouse.com
SUMMARY:Cocktail Workshop: Tropic Like It's Hot
DESCRIPTION:Shake a cocktail\, shake your coconuts\, just shake those winter blues away in our Tropic Like It’s Hot Cocktail Workshop.  We’ll guide you through basic mixology and bartending techniques as you get hands-on crafting tropical inspired cocktails.  Workshop includes welcome cocktail\, two cocktail creations and light bites.\n\n \n\n 
URL:https://knowltonhouse.com/event/cocktail-workshop-tropic-like-its-hot/
LOCATION:Knowlton House Distillery\, 204575 County Rd DB\, Mosinee\, WI\, 54455\, United States
ORGANIZER;CN="Knowlton House Distillery":MAILTO:info@knowltonhouse.com
END:VEVENT
BEGIN:VEVENT
DTSTART;TZID=America/Chicago:20240309T160000
DTEND;TZID=America/Chicago:20240309T170000
DTSTAMP:20260420T004702
CREATED:20240208T194133Z
LAST-MODIFIED:20240208T194133Z
UID:3831-1710000000-1710003600@knowltonhouse.com
SUMMARY:Classic Distillery Tour & Tasting - 4:00pm
DESCRIPTION:Get a behind the scenes peak at how our spirits are crafted as we take you through the history\, ingredients\, and process that goes into distilling each bottle of Knowlton House spirits.\n\nTour includes a guided tasting.\n\nDuration: 45 minutes
URL:https://knowltonhouse.com/event/classic-distillery-tour-tasting-400pm-17/
LOCATION:Knowlton House Distillery\, 204575 County Rd DB\, Mosinee\, WI\, 54455\, United States
ORGANIZER;CN="Knowlton House Distillery":MAILTO:info@knowltonhouse.com
END:VEVENT
BEGIN:VEVENT
DTSTART;TZID=America/Chicago:20240309T173000
DTEND;TZID=America/Chicago:20240309T183000
DTSTAMP:20260420T004702
CREATED:20240208T192857Z
LAST-MODIFIED:20240208T192857Z
UID:3793-1710005400-1710009000@knowltonhouse.com
SUMMARY:Classic Distillery Tour & Tasting - 5:30pm
DESCRIPTION:Get a behind the scenes peak at how our spirits are crafted as we take you through the history\, ingredients\, and process that goes into distilling each bottle of Knowlton House spirits.\n\nTour includes a guided tasting.\n\nDuration: 45 minutes
URL:https://knowltonhouse.com/event/classic-distillery-tour-tasting-530pm-18/
LOCATION:Knowlton House Distillery\, 204575 County Rd DB\, Mosinee\, WI\, 54455\, United States
ORGANIZER;CN="Knowlton House Distillery":MAILTO:info@knowltonhouse.com
END:VEVENT
BEGIN:VEVENT
DTSTART;TZID=America/Chicago:20240316T130000
DTEND;TZID=America/Chicago:20240316T140000
DTSTAMP:20260420T004702
CREATED:20240208T195046Z
LAST-MODIFIED:20240208T195046Z
UID:3859-1710594000-1710597600@knowltonhouse.com
SUMMARY:Classic Distillery Tour & Tasting - 1:00pm
DESCRIPTION:Get a behind the scenes peak at how our spirits are crafted as we take you through the history\, ingredients\, and process that goes into distilling each bottle of Knowlton House spirits.\n\nTour includes a guided tasting.\n\nDuration: 45 minutes
URL:https://knowltonhouse.com/event/classic-distillery-tour-tasting-100pm-12/
LOCATION:Knowlton House Distillery\, 204575 County Rd DB\, Mosinee\, WI\, 54455\, United States
ORGANIZER;CN="Knowlton House Distillery":MAILTO:info@knowltonhouse.com
END:VEVENT
BEGIN:VEVENT
DTSTART;TZID=America/Chicago:20240316T143000
DTEND;TZID=America/Chicago:20240316T153000
DTSTAMP:20260420T004702
CREATED:20240208T194633Z
LAST-MODIFIED:20240208T194633Z
UID:3846-1710599400-1710603000@knowltonhouse.com
SUMMARY:Classic Distillery Tour & Tasting - 2:30pm
DESCRIPTION:Get a behind the scenes peak at how our spirits are crafted as we take you through the history\, ingredients\, and process that goes into distilling each bottle of Knowlton House spirits.\n\nTour includes a guided tasting.\n\nDuration: 45 minutes
URL:https://knowltonhouse.com/event/classic-distillery-tour-tasting-230pm-15/
LOCATION:Knowlton House Distillery\, 204575 County Rd DB\, Mosinee\, WI\, 54455\, United States
ORGANIZER;CN="Knowlton House Distillery":MAILTO:info@knowltonhouse.com
END:VEVENT
BEGIN:VEVENT
DTSTART;TZID=America/Chicago:20240316T160000
DTEND;TZID=America/Chicago:20240316T170000
DTSTAMP:20260420T004702
CREATED:20240208T194227Z
LAST-MODIFIED:20240208T194227Z
UID:3834-1710604800-1710608400@knowltonhouse.com
SUMMARY:Classic Distillery Tour & Tasting - 4:00pm
DESCRIPTION:Get a behind the scenes peak at how our spirits are crafted as we take you through the history\, ingredients\, and process that goes into distilling each bottle of Knowlton House spirits.\n\nTour includes a guided tasting.\n\nDuration: 45 minutes
URL:https://knowltonhouse.com/event/classic-distillery-tour-tasting-400pm-18/
LOCATION:Knowlton House Distillery\, 204575 County Rd DB\, Mosinee\, WI\, 54455\, United States
ORGANIZER;CN="Knowlton House Distillery":MAILTO:info@knowltonhouse.com
END:VEVENT
BEGIN:VEVENT
DTSTART;TZID=America/Chicago:20240321T180000
DTEND;TZID=America/Chicago:20240321T193000
DTSTAMP:20260420T004702
CREATED:20240105T190331Z
LAST-MODIFIED:20240319T165238Z
UID:3459-1711044000-1711049400@knowltonhouse.com
SUMMARY:Cocktail Workshop: Tropic Like It's Hot
DESCRIPTION:Shake a cocktail\, shake your coconuts\, just shake those winter blues away in our Tropic Like It’s Hot Cocktail Workshop.  We’ll guide you through basic mixology and bartending techniques as you get hands-on crafting tropical inspired cocktails.  Workshop includes welcome cocktail\, two cocktail creations and light bites.\n\n \n\n 
URL:https://knowltonhouse.com/event/cocktail-workshop-tropic-like-its-hot-2/
LOCATION:Knowlton House Distillery\, 204575 County Rd DB\, Mosinee\, WI\, 54455\, United States
ORGANIZER;CN="Knowlton House Distillery":MAILTO:info@knowltonhouse.com
END:VEVENT
BEGIN:VEVENT
DTSTART;TZID=America/Chicago:20240322T173000
DTEND;TZID=America/Chicago:20240322T183000
DTSTAMP:20260420T004702
CREATED:20240208T193157Z
LAST-MODIFIED:20240208T193157Z
UID:3802-1711128600-1711132200@knowltonhouse.com
SUMMARY:Classic Distillery Tour & Tasting - 5:30pm
DESCRIPTION:Get a behind the scenes peak at how our spirits are crafted as we take you through the history\, ingredients\, and process that goes into distilling each bottle of Knowlton House spirits.\n\nTour includes a guided tasting.\n\nDuration: 45 minutes
URL:https://knowltonhouse.com/event/classic-distillery-tour-tasting-530pm-27/
LOCATION:Knowlton House Distillery\, 204575 County Rd DB\, Mosinee\, WI\, 54455\, United States
ORGANIZER;CN="Knowlton House Distillery":MAILTO:info@knowltonhouse.com
END:VEVENT
END:VCALENDAR