BEGIN:VCALENDAR
VERSION:2.0
PRODID:-//Knowlton House Distillery - ECPv6.15.17.1//NONSGML v1.0//EN
CALSCALE:GREGORIAN
METHOD:PUBLISH
X-ORIGINAL-URL:https://knowltonhouse.com
X-WR-CALDESC:Events for Knowlton House Distillery
REFRESH-INTERVAL;VALUE=DURATION:PT1H
X-Robots-Tag:noindex
X-PUBLISHED-TTL:PT1H
BEGIN:VTIMEZONE
TZID:America/Chicago
BEGIN:DAYLIGHT
TZOFFSETFROM:-0600
TZOFFSETTO:-0500
TZNAME:CDT
DTSTART:20230312T080000
END:DAYLIGHT
BEGIN:STANDARD
TZOFFSETFROM:-0500
TZOFFSETTO:-0600
TZNAME:CST
DTSTART:20231105T070000
END:STANDARD
BEGIN:DAYLIGHT
TZOFFSETFROM:-0600
TZOFFSETTO:-0500
TZNAME:CDT
DTSTART:20240310T080000
END:DAYLIGHT
BEGIN:STANDARD
TZOFFSETFROM:-0500
TZOFFSETTO:-0600
TZNAME:CST
DTSTART:20241103T070000
END:STANDARD
BEGIN:DAYLIGHT
TZOFFSETFROM:-0600
TZOFFSETTO:-0500
TZNAME:CDT
DTSTART:20250309T080000
END:DAYLIGHT
BEGIN:STANDARD
TZOFFSETFROM:-0500
TZOFFSETTO:-0600
TZNAME:CST
DTSTART:20251102T070000
END:STANDARD
END:VTIMEZONE
BEGIN:VEVENT
DTSTART;TZID=America/Chicago:20240606T180000
DTEND;TZID=America/Chicago:20240606T193000
DTSTAMP:20260419T212039
CREATED:20240507T173253Z
LAST-MODIFIED:20240517T140117Z
UID:4755-1717696800-1717702200@knowltonhouse.com
SUMMARY:Cocktail Workshop: Tropic Like It's Hot
DESCRIPTION:Shake a cocktail\, shake your coconuts\, just shake up those summer flavors in our Tropic Like It’s Hot Cocktail Workshop.  We’ll guide you through basic mixology and bartending techniques as you get hands-on crafting tropical inspired cocktails.  Workshop includes welcome cocktail\, two cocktail creations and light bites.\n\n \n\n 
URL:https://knowltonhouse.com/event/cocktail-workshop-tropic-like-its-hot-3/
LOCATION:Knowlton House Distillery\, 204575 County Rd DB\, Mosinee\, WI\, 54455\, United States
ORGANIZER;CN="Knowlton House Distillery":MAILTO:info@knowltonhouse.com
END:VEVENT
BEGIN:VEVENT
DTSTART;TZID=America/Chicago:20240607T190000
DTEND;TZID=America/Chicago:20240607T200000
DTSTAMP:20260419T212039
CREATED:20240513T141142Z
LAST-MODIFIED:20240513T151439Z
UID:4801-1717786800-1717790400@knowltonhouse.com
SUMMARY:Classic Distillery Tour & Tasting - 7:00pm
DESCRIPTION:Get a behind the scenes peak at how our spirits are crafted as we take you through the history\, ingredients\, and process that goes into distilling each bottle of Knowlton House spirits.\n\nTour includes a guided tasting.\n\nDuration: 45 minutes
URL:https://knowltonhouse.com/event/classic-distillery-tour-tasting-700pm-2/
LOCATION:Knowlton House Distillery\, 204575 County Rd DB\, Mosinee\, WI\, 54455\, United States
ORGANIZER;CN="Knowlton House Distillery":MAILTO:info@knowltonhouse.com
END:VEVENT
BEGIN:VEVENT
DTSTART;TZID=America/Chicago:20240608T160000
DTEND;TZID=America/Chicago:20240608T170000
DTSTAMP:20260419T212039
CREATED:20240513T154741Z
LAST-MODIFIED:20240513T160349Z
UID:4863-1717862400-1717866000@knowltonhouse.com
SUMMARY:Classic Distillery Tour & Tasting - 4:00pm
DESCRIPTION:Get a behind the scenes peak at how our spirits are crafted as we take you through the history\, ingredients\, and process that goes into distilling each bottle of Knowlton House spirits.\n\nTour includes a guided tasting.\n\nDuration: 45 minutes
URL:https://knowltonhouse.com/event/classic-distillery-tour-tasting-400pm-30/
LOCATION:Knowlton House Distillery\, 204575 County Rd DB\, Mosinee\, WI\, 54455\, United States
ORGANIZER;CN="Knowlton House Distillery":MAILTO:info@knowltonhouse.com
END:VEVENT
BEGIN:VEVENT
DTSTART;TZID=America/Chicago:20240615T143000
DTEND;TZID=America/Chicago:20240615T153000
DTSTAMP:20260419T212039
CREATED:20240513T153908Z
LAST-MODIFIED:20240513T153908Z
UID:4845-1718461800-1718465400@knowltonhouse.com
SUMMARY:Classic Distillery Tour & Tasting - 2:30pm
DESCRIPTION:Get a behind the scenes peak at how our spirits are crafted as we take you through the history\, ingredients\, and process that goes into distilling each bottle of Knowlton House spirits.\n\nTour includes a guided tasting.\n\nDuration: 45 minutes
URL:https://knowltonhouse.com/event/classic-distillery-tour-tasting-230pm-22/
LOCATION:Knowlton House Distillery\, 204575 County Rd DB\, Mosinee\, WI\, 54455\, United States
ORGANIZER;CN="Knowlton House Distillery":MAILTO:info@knowltonhouse.com
END:VEVENT
BEGIN:VEVENT
DTSTART;TZID=America/Chicago:20240615T160000
DTEND;TZID=America/Chicago:20240615T170000
DTSTAMP:20260419T212039
CREATED:20240513T154640Z
LAST-MODIFIED:20240513T160035Z
UID:4860-1718467200-1718470800@knowltonhouse.com
SUMMARY:Classic Distillery Tour & Tasting - 4:00pm
DESCRIPTION:Get a behind the scenes peak at how our spirits are crafted as we take you through the history\, ingredients\, and process that goes into distilling each bottle of Knowlton House spirits.\n\nTour includes a guided tasting.\n\nDuration: 45 minutes
URL:https://knowltonhouse.com/event/classic-distillery-tour-tasting-400pm-29/
LOCATION:Knowlton House Distillery\, 204575 County Rd DB\, Mosinee\, WI\, 54455\, United States
ORGANIZER;CN="Knowlton House Distillery":MAILTO:info@knowltonhouse.com
END:VEVENT
BEGIN:VEVENT
DTSTART;TZID=America/Chicago:20240621T173000
DTEND;TZID=America/Chicago:20240621T183000
DTSTAMP:20260419T212039
CREATED:20240513T152054Z
LAST-MODIFIED:20240513T155846Z
UID:4816-1718991000-1718994600@knowltonhouse.com
SUMMARY:Classic Distillery Tour & Tasting - 5:30pm
DESCRIPTION:Get a behind the scenes peak at how our spirits are crafted as we take you through the history\, ingredients\, and process that goes into distilling each bottle of Knowlton House spirits.\n\nTour includes a guided tasting.\n\nDuration: 45 minutes
URL:https://knowltonhouse.com/event/classic-distillery-tour-tasting-530pm-28/
LOCATION:Knowlton House Distillery\, 204575 County Rd DB\, Mosinee\, WI\, 54455\, United States
ORGANIZER;CN="Knowlton House Distillery":MAILTO:info@knowltonhouse.com
END:VEVENT
BEGIN:VEVENT
DTSTART;TZID=America/Chicago:20240621T190000
DTEND;TZID=America/Chicago:20240621T200000
DTSTAMP:20260419T212039
CREATED:20240513T151629Z
LAST-MODIFIED:20240513T151629Z
UID:4807-1718996400-1719000000@knowltonhouse.com
SUMMARY:Classic Distillery Tour & Tasting - 7:00pm
DESCRIPTION:Get a behind the scenes peak at how our spirits are crafted as we take you through the history\, ingredients\, and process that goes into distilling each bottle of Knowlton House spirits.\n\nTour includes a guided tasting.\n\nDuration: 45 minutes
URL:https://knowltonhouse.com/event/classic-distillery-tour-tasting-700pm-10/
LOCATION:Knowlton House Distillery\, 204575 County Rd DB\, Mosinee\, WI\, 54455\, United States
ORGANIZER;CN="Knowlton House Distillery":MAILTO:info@knowltonhouse.com
END:VEVENT
BEGIN:VEVENT
DTSTART;TZID=America/Chicago:20240622T160000
DTEND;TZID=America/Chicago:20240622T170000
DTSTAMP:20260419T212039
CREATED:20240513T154458Z
LAST-MODIFIED:20240513T155540Z
UID:4857-1719072000-1719075600@knowltonhouse.com
SUMMARY:Classic Distillery Tour & Tasting - 4:00pm
DESCRIPTION:Get a behind the scenes peak at how our spirits are crafted as we take you through the history\, ingredients\, and process that goes into distilling each bottle of Knowlton House spirits.\n\nTour includes a guided tasting.\n\nDuration: 45 minutes
URL:https://knowltonhouse.com/event/classic-distillery-tour-tasting-400pm-28/
LOCATION:Knowlton House Distillery\, 204575 County Rd DB\, Mosinee\, WI\, 54455\, United States
ORGANIZER;CN="Knowlton House Distillery":MAILTO:info@knowltonhouse.com
END:VEVENT
BEGIN:VEVENT
DTSTART;TZID=America/Chicago:20240623T093000
DTEND;TZID=America/Chicago:20240623T130000
DTSTAMP:20260419T212039
CREATED:20240513T161200Z
LAST-MODIFIED:20240514T133730Z
UID:4866-1719135000-1719147600@knowltonhouse.com
SUMMARY:Farmers Market
DESCRIPTION:Make Sunday a Funday at Knowlton House.  Shop for local produce\, flowers & other goods with a cocktail in hand at our Sunday Farmers Market from 9:30am-1:00pm.\n\nWatch for other Sunday Funday activities including live music & workshops.  All day brunch available starting at 9:30am.
URL:https://knowltonhouse.com/event/farmers-market/
LOCATION:Knowlton House Distillery\, 204575 County Rd DB\, Mosinee\, WI\, 54455\, United States
CATEGORIES:Seasonal Market
ORGANIZER;CN="Knowlton House Distillery":MAILTO:info@knowltonhouse.com
END:VEVENT
BEGIN:VEVENT
DTSTART;TZID=America/Chicago:20240623T110000
DTEND;TZID=America/Chicago:20240623T140000
DTSTAMP:20260419T212039
CREATED:20240520T141654Z
LAST-MODIFIED:20240520T142117Z
UID:4916-1719140400-1719151200@knowltonhouse.com
SUMMARY:LIVE MUSIC: THE BROTHERS BURN MOUNTAIN
DESCRIPTION:Enjoy Sunday Funday with THE BROTHERS BURN MOUNTAIN\, a soulful & energetic duo of real-life brothers from Northern Minnesota.  They’ll be serving up an eclectic blend of rock\, groove\, blues & soul.\n\nMusic on the Distillery’s southern lawn and pet-friendly patio.  Feel free to bring folding chairs or picnic blanket.  All-day brunch available starting at 9:30am.  Farmers Market runs 9:30am-1:00pm.\n\n 
URL:https://knowltonhouse.com/event/live-music-thebrothersburnmountain/
LOCATION:Knowlton House Distillery\, 204575 County Rd DB\, Mosinee\, WI\, 54455\, United States
CATEGORIES:Live Music
ORGANIZER;CN="Knowlton House Distillery":MAILTO:info@knowltonhouse.com
END:VEVENT
BEGIN:VEVENT
DTSTART;TZID=America/Chicago:20240623T130000
DTEND;TZID=America/Chicago:20240623T150000
DTSTAMP:20260419T212039
CREATED:20240516T014017Z
LAST-MODIFIED:20240522T191855Z
UID:4894-1719147600-1719154800@knowltonhouse.com
SUMMARY:Candle Making & Cocktails
DESCRIPTION:Join Zen Homemade Candles for an afternoon of cocktails & candles at the distillery.  You will be guided step-by-step on how to make a custom candle that you can take home. Workshop is beginner friendly and is ideal for candle lovers\, friends & families looking for a fun activity or anyone wanting to make a personalized gift.  What to expect:\n\n 	One candle making kit\n 	A variety of over 30 fragrance oils to choose from\n 	Candle making trivia games & discussions\n 	A complimentary drink\n 	Unforgettable experience\n\nFollow the link to Zen Candles for details & registration.\n\n \n\nhttps://www.zenhomemadecandles.com/event-details/candles-cocktails
URL:https://knowltonhouse.com/event/candles-cocktails/
LOCATION:Knowlton House Distillery\, 204575 County Rd DB\, Mosinee\, WI\, 54455\, United States
ORGANIZER;CN="Zen Homemade Candles":MAILTO:zenhomemadecandles@gmail.com
END:VEVENT
BEGIN:VEVENT
DTSTART;TZID=America/Chicago:20240629T130000
DTEND;TZID=America/Chicago:20240629T140000
DTSTAMP:20260419T212039
CREATED:20240513T153641Z
LAST-MODIFIED:20240513T153641Z
UID:4839-1719666000-1719669600@knowltonhouse.com
SUMMARY:Classic Distillery Tour & Tasting - 1:00pm
DESCRIPTION:Get a behind the scenes peak at how our spirits are crafted as we take you through the history\, ingredients\, and process that goes into distilling each bottle of Knowlton House spirits.\n\nTour includes a guided tasting.\n\nDuration: 45 minutes
URL:https://knowltonhouse.com/event/classic-distillery-tour-tasting-100pm-20/
LOCATION:Knowlton House Distillery\, 204575 County Rd DB\, Mosinee\, WI\, 54455\, United States
ORGANIZER;CN="Knowlton House Distillery":MAILTO:info@knowltonhouse.com
END:VEVENT
BEGIN:VEVENT
DTSTART;TZID=America/Chicago:20240629T143000
DTEND;TZID=America/Chicago:20240629T153000
DTSTAMP:20260419T212039
CREATED:20240513T154148Z
LAST-MODIFIED:20240513T154148Z
UID:4851-1719671400-1719675000@knowltonhouse.com
SUMMARY:Classic Distillery Tour & Tasting - 2:30pm
DESCRIPTION:Get a behind the scenes peak at how our spirits are crafted as we take you through the history\, ingredients\, and process that goes into distilling each bottle of Knowlton House spirits.\n\nTour includes a guided tasting.\n\nDuration: 45 minutes
URL:https://knowltonhouse.com/event/classic-distillery-tour-tasting-230pm-24/
LOCATION:Knowlton House Distillery\, 204575 County Rd DB\, Mosinee\, WI\, 54455\, United States
ORGANIZER;CN="Knowlton House Distillery":MAILTO:info@knowltonhouse.com
END:VEVENT
BEGIN:VEVENT
DTSTART;TZID=America/Chicago:20240630T093000
DTEND;TZID=America/Chicago:20240630T130000
DTSTAMP:20260419T212039
CREATED:20240513T161339Z
LAST-MODIFIED:20240514T133834Z
UID:4868-1719739800-1719752400@knowltonhouse.com
SUMMARY:Farmers Market
DESCRIPTION:Make Sunday a Funday at Knowlton House.  Shop for local produce\, flowers & other goods with a cocktail in hand at our Sunday Farmers Market from 9:30am-1:00pm.\n\nWatch for other Sunday Funday activities including live music & workshops.  All day brunch available starting at 9:30am.
URL:https://knowltonhouse.com/event/farmers-market-2/
LOCATION:Knowlton House Distillery\, 204575 County Rd DB\, Mosinee\, WI\, 54455\, United States
CATEGORIES:Seasonal Market
ORGANIZER;CN="Knowlton House Distillery":MAILTO:info@knowltonhouse.com
END:VEVENT
BEGIN:VEVENT
DTSTART;TZID=America/Chicago:20240630T110000
DTEND;TZID=America/Chicago:20240630T140000
DTSTAMP:20260419T212039
CREATED:20240513T162005Z
LAST-MODIFIED:20240513T162005Z
UID:4870-1719745200-1719756000@knowltonhouse.com
SUMMARY:LIVE MUSIC: LUMA KNOTTY
DESCRIPTION:Enjoy Sunday Funday as the LUMA KNOTTY serve up an original blend of guitar-driven funk\, rock\, and reggae.\n\nMusic on the Distillery’s southern lawn and pet-friendly patio.  Feel free to bring folding chairs or picnic blanket.  All-day brunch available starting at 9:30am.  Farmers Market runs 9:30am-1:00pm.
URL:https://knowltonhouse.com/event/live-music-luma-knotty/
LOCATION:Knowlton House Distillery\, 204575 County Rd DB\, Mosinee\, WI\, 54455\, United States
CATEGORIES:Live Music
ORGANIZER;CN="Knowlton House Distillery":MAILTO:info@knowltonhouse.com
END:VEVENT
BEGIN:VEVENT
DTSTART;TZID=America/Chicago:20240630T130000
DTEND;TZID=America/Chicago:20240630T153000
DTSTAMP:20260419T212039
CREATED:20240513T162632Z
LAST-MODIFIED:20240513T163013Z
UID:4872-1719752400-1719761400@knowltonhouse.com
SUMMARY:U Paint\, We Pour: Painting Class
DESCRIPTION:SOLD OUT —  Join U Paint & Party for a canvas painting class & bring a majestic “Colorful Highland Cow” painting to life. No painting experience? No worries! Step-by-step guidance makes it easy for everyone to participate and create a masterpiece of their own!\n\nCocktails & food available for purchase.\n\nFor registration & questions\, contact U Paint & Party.
URL:https://knowltonhouse.com/event/u-paint-we-pour-painting-class/
LOCATION:Knowlton House Distillery\, 204575 County Rd DB\, Mosinee\, WI\, 54455\, United States
CATEGORIES:Art & Crafting
ORGANIZER;CN="U Paint & Party":MAILTO:upaintandparty@gmail.com
END:VEVENT
BEGIN:VEVENT
DTSTART;TZID=America/Chicago:20240705T173000
DTEND;TZID=America/Chicago:20240705T183000
DTSTAMP:20260419T212039
CREATED:20240529T141132Z
LAST-MODIFIED:20240529T141132Z
UID:5020-1720200600-1720204200@knowltonhouse.com
SUMMARY:Classic Distillery Tour & Tasting - 5:30pm
DESCRIPTION:Get a behind the scenes peak at how our spirits are crafted as we take you through the history\, ingredients\, and process that goes into distilling each bottle of Knowlton House spirits.\n\nTour includes a guided tasting.\n\nDuration: 45 minutes
URL:https://knowltonhouse.com/event/classic-distillery-tour-tasting-530pm-40/
LOCATION:Knowlton House Distillery\, 204575 County Rd DB\, Mosinee\, WI\, 54455\, United States
ORGANIZER;CN="Knowlton House Distillery":MAILTO:info@knowltonhouse.com
END:VEVENT
BEGIN:VEVENT
DTSTART;TZID=America/Chicago:20240705T190000
DTEND;TZID=America/Chicago:20240705T200000
DTSTAMP:20260419T212039
CREATED:20240529T141637Z
LAST-MODIFIED:20240529T141637Z
UID:5029-1720206000-1720209600@knowltonhouse.com
SUMMARY:Classic Distillery Tour & Tasting - 7:00pm
DESCRIPTION:Get a behind the scenes peak at how our spirits are crafted as we take you through the history\, ingredients\, and process that goes into distilling each bottle of Knowlton House spirits.\n\nTour includes a guided tasting.\n\nDuration: 45 minutes
URL:https://knowltonhouse.com/event/classic-distillery-tour-tasting-700pm-13/
LOCATION:Knowlton House Distillery\, 204575 County Rd DB\, Mosinee\, WI\, 54455\, United States
ORGANIZER;CN="Knowlton House Distillery":MAILTO:info@knowltonhouse.com
END:VEVENT
BEGIN:VEVENT
DTSTART;TZID=America/Chicago:20240706T130000
DTEND;TZID=America/Chicago:20240706T140000
DTSTAMP:20260419T212039
CREATED:20240529T143412Z
LAST-MODIFIED:20240529T143412Z
UID:5075-1720270800-1720274400@knowltonhouse.com
SUMMARY:Classic Distillery Tour & Tasting - 1:00pm
DESCRIPTION:Get a behind the scenes peak at how our spirits are crafted as we take you through the history\, ingredients\, and process that goes into distilling each bottle of Knowlton House spirits.\n\nTour includes a guided tasting.\n\nDuration: 45 minutes
URL:https://knowltonhouse.com/event/classic-distillery-tour-tasting-100pm-22/
LOCATION:Knowlton House Distillery\, 204575 County Rd DB\, Mosinee\, WI\, 54455\, United States
ORGANIZER;CN="Knowlton House Distillery":MAILTO:info@knowltonhouse.com
END:VEVENT
BEGIN:VEVENT
DTSTART;TZID=America/Chicago:20240706T143000
DTEND;TZID=America/Chicago:20240706T153000
DTSTAMP:20260419T212039
CREATED:20240529T142643Z
LAST-MODIFIED:20240529T142643Z
UID:5052-1720276200-1720279800@knowltonhouse.com
SUMMARY:Classic Distillery Tour & Tasting - 2:30pm
DESCRIPTION:Get a behind the scenes peak at how our spirits are crafted as we take you through the history\, ingredients\, and process that goes into distilling each bottle of Knowlton House spirits.\n\nTour includes a guided tasting.\n\nDuration: 45 minutes
URL:https://knowltonhouse.com/event/classic-distillery-tour-tasting-230pm-20/
LOCATION:Knowlton House Distillery\, 204575 County Rd DB\, Mosinee\, WI\, 54455\, United States
ORGANIZER;CN="Knowlton House Distillery":MAILTO:info@knowltonhouse.com
END:VEVENT
BEGIN:VEVENT
DTSTART;TZID=America/Chicago:20240706T160000
DTEND;TZID=America/Chicago:20240706T170000
DTSTAMP:20260419T212039
CREATED:20240529T142234Z
LAST-MODIFIED:20240529T142234Z
UID:5039-1720281600-1720285200@knowltonhouse.com
SUMMARY:Classic Distillery Tour & Tasting - 4:00pm
DESCRIPTION:Get a behind the scenes peak at how our spirits are crafted as we take you through the history\, ingredients\, and process that goes into distilling each bottle of Knowlton House spirits.\n\nTour includes a guided tasting.\n\nDuration: 45 minutes
URL:https://knowltonhouse.com/event/classic-distillery-tour-tasting-400pm-45/
LOCATION:Knowlton House Distillery\, 204575 County Rd DB\, Mosinee\, WI\, 54455\, United States
ORGANIZER;CN="Knowlton House Distillery":MAILTO:info@knowltonhouse.com
END:VEVENT
BEGIN:VEVENT
DTSTART;TZID=America/Chicago:20240707T093000
DTEND;TZID=America/Chicago:20240707T130000
DTSTAMP:20260419T212039
CREATED:20240514T133939Z
LAST-MODIFIED:20240514T133939Z
UID:4879-1720344600-1720357200@knowltonhouse.com
SUMMARY:Farmers Market
DESCRIPTION:Make Sunday a Funday at Knowlton House.  Shop for local produce\, flowers & other goods with a cocktail in hand at our Sunday Farmers Market from 9:30am-1:00pm.\n\nWatch for other Sunday Funday activities including live music & workshops.  All day brunch available starting at 9:30am.
URL:https://knowltonhouse.com/event/farmers-market-3/
LOCATION:Knowlton House Distillery\, 204575 County Rd DB\, Mosinee\, WI\, 54455\, United States
CATEGORIES:Seasonal Market
ORGANIZER;CN="Knowlton House Distillery":MAILTO:info@knowltonhouse.com
END:VEVENT
BEGIN:VEVENT
DTSTART;TZID=America/Chicago:20240707T110000
DTEND;TZID=America/Chicago:20240707T140000
DTSTAMP:20260419T212039
CREATED:20240514T135035Z
LAST-MODIFIED:20240520T154349Z
UID:4890-1720350000-1720360800@knowltonhouse.com
SUMMARY:LIVE MUSIC: SUNDAE + MR. GOESSL
DESCRIPTION:Enjoy Sunday Funday as duo SUNDAE + MR. GOESSL serve up their delightful brand of countrified jazz\, melding the likability of Americana\, pop & country music.\n\nMusic on the Distillery’s southern lawn and pet-friendly patio.  Feel free to bring folding chairs or picnic blanket.  All-day brunch available starting at 9:30am.  Farmers Market runs 9:30am-1:00pm.\n\n 
URL:https://knowltonhouse.com/event/live-music-sundae-mr-goessl/
LOCATION:Knowlton House Distillery\, 204575 County Rd DB\, Mosinee\, WI\, 54455\, United States
CATEGORIES:Live Music
ATTACH;FMTTYPE=image/jpeg:https://knowltonhouse.com/wp-content/uploads/2024/05/Sundae-Lookin-Back-Hudson.jpg
ORGANIZER;CN="Knowlton House Distillery":MAILTO:info@knowltonhouse.com
END:VEVENT
BEGIN:VEVENT
DTSTART;TZID=America/Chicago:20240713T143000
DTEND;TZID=America/Chicago:20240713T153000
DTSTAMP:20260419T212039
CREATED:20240529T142805Z
LAST-MODIFIED:20240529T142805Z
UID:5056-1720881000-1720884600@knowltonhouse.com
SUMMARY:Classic Distillery Tour & Tasting - 2:30pm
DESCRIPTION:Get a behind the scenes peak at how our spirits are crafted as we take you through the history\, ingredients\, and process that goes into distilling each bottle of Knowlton House spirits.\n\nTour includes a guided tasting.\n\nDuration: 45 minutes
URL:https://knowltonhouse.com/event/classic-distillery-tour-tasting-230pm-25/
LOCATION:Knowlton House Distillery\, 204575 County Rd DB\, Mosinee\, WI\, 54455\, United States
ORGANIZER;CN="Knowlton House Distillery":MAILTO:info@knowltonhouse.com
END:VEVENT
BEGIN:VEVENT
DTSTART;TZID=America/Chicago:20240713T160000
DTEND;TZID=America/Chicago:20240713T170000
DTSTAMP:20260419T212039
CREATED:20240529T142327Z
LAST-MODIFIED:20240529T142327Z
UID:5043-1720886400-1720890000@knowltonhouse.com
SUMMARY:Classic Distillery Tour & Tasting - 4:00pm
DESCRIPTION:Get a behind the scenes peak at how our spirits are crafted as we take you through the history\, ingredients\, and process that goes into distilling each bottle of Knowlton House spirits.\n\nTour includes a guided tasting.\n\nDuration: 45 minutes
URL:https://knowltonhouse.com/event/classic-distillery-tour-tasting-400pm-31/
LOCATION:Knowlton House Distillery\, 204575 County Rd DB\, Mosinee\, WI\, 54455\, United States
ORGANIZER;CN="Knowlton House Distillery":MAILTO:info@knowltonhouse.com
END:VEVENT
BEGIN:VEVENT
DTSTART;TZID=America/Chicago:20240714T093000
DTEND;TZID=America/Chicago:20240714T103000
DTSTAMP:20260419T212039
CREATED:20240528T165422Z
LAST-MODIFIED:20240625T175142Z
UID:4997-1720949400-1720953000@knowltonhouse.com
SUMMARY:Puppy Yoga on the Lawn
DESCRIPTION:Join us for a 40-minute yoga practice with puppies from Wags of Wisconsin!\nAll profits will benefit Wags of Wisconsin.  Your registration includes a 40-minute yoga practice\, one cocktail token\, a complimentary shopping coupon to our bottle shop & plenty of play time with these adorable pups.\n\nWags of Wisconsin\, inc. is a local\, non-profit dog rescue in central Wisconsin.\n\nWe ask that you leave your own pups at home for this event.  All furry friends will be from Wags of Wisconsin! All ages & skill levels welcome.  Let’s be honest\, this is light yoga since we really just want to love on these adorable pups.\n\nDON’T FORGET YOUR YOGA MAT.  Weather permitting\, yoga will take place on the distillery lawn.  In case of rain\, yoga will be moved indoors.\n\nStick around after for brunch & our weekly farmers market.
URL:https://knowltonhouse.com/event/puppy-yoga-on-the-lawn/
LOCATION:Knowlton House Distillery\, 204575 County Rd DB\, Mosinee\, WI\, 54455\, United States
ATTACH;FMTTYPE=image/jpeg:https://knowltonhouse.com/wp-content/uploads/2024/05/Puppy-Yoga-Stock-Photo.jpeg
ORGANIZER;CN="Knowlton House Distillery":MAILTO:info@knowltonhouse.com
END:VEVENT
BEGIN:VEVENT
DTSTART;TZID=America/Chicago:20240714T093000
DTEND;TZID=America/Chicago:20240714T130000
DTSTAMP:20260419T212039
CREATED:20240514T134041Z
LAST-MODIFIED:20240514T134041Z
UID:4880-1720949400-1720962000@knowltonhouse.com
SUMMARY:Farmers Market
DESCRIPTION:Make Sunday a Funday at Knowlton House.  Shop for local produce\, flowers & other goods with a cocktail in hand at our Sunday Farmers Market from 9:30am-1:00pm.\n\nWatch for other Sunday Funday activities including live music & workshops.  All day brunch available starting at 9:30am.
URL:https://knowltonhouse.com/event/farmers-market-4/
LOCATION:Knowlton House Distillery\, 204575 County Rd DB\, Mosinee\, WI\, 54455\, United States
CATEGORIES:Seasonal Market
ORGANIZER;CN="Knowlton House Distillery":MAILTO:info@knowltonhouse.com
END:VEVENT
BEGIN:VEVENT
DTSTART;TZID=America/Chicago:20240714T110000
DTEND;TZID=America/Chicago:20240714T140000
DTSTAMP:20260419T212039
CREATED:20240514T135551Z
LAST-MODIFIED:20240514T135551Z
UID:4891-1720954800-1720965600@knowltonhouse.com
SUMMARY:LIVE MUSIC: BRADLEY SPERGER
DESCRIPTION:Enjoy Sunday Funday as multi instrumentalist BRADLEY SPERGER builds songs live & jams out.\n\nMusic on the Distillery’s southern lawn and pet-friendly patio.  Feel free to bring folding chairs or picnic blanket.  All-day brunch available starting at 9:30am.  Farmers Market runs 9:30am-1:00pm.
URL:https://knowltonhouse.com/event/live-music-bradley-sperger/
LOCATION:Knowlton House Distillery\, 204575 County Rd DB\, Mosinee\, WI\, 54455\, United States
CATEGORIES:Live Music
ORGANIZER;CN="Knowlton House Distillery":MAILTO:info@knowltonhouse.com
END:VEVENT
BEGIN:VEVENT
DTSTART;TZID=America/Chicago:20240714T130000
DTEND;TZID=America/Chicago:20240714T153000
DTSTAMP:20260419T212039
CREATED:20240520T142916Z
LAST-MODIFIED:20240520T142916Z
UID:4921-1720962000-1720971000@knowltonhouse.com
SUMMARY:U Paint\, We Pour: Painting Class
DESCRIPTION:Back by demand — Join U Paint & Party for a canvas painting class & bring a majestic “Colorful Highland Cow” painting to life. No painting experience? No worries! Step-by-step guidance makes it easy for everyone to participate and create a masterpiece of their own!\n\nCocktails & food available for purchase.\n\nFor registration & questions\, contact U Paint & Party.
URL:https://knowltonhouse.com/event/u-paint-we-pour-painting-class-2/
LOCATION:Knowlton House Distillery\, 204575 County Rd DB\, Mosinee\, WI\, 54455\, United States
CATEGORIES:Art & Crafting
ORGANIZER;CN="U Paint & Party":MAILTO:upaintandparty@gmail.com
END:VEVENT
BEGIN:VEVENT
DTSTART;TZID=America/Chicago:20240720T160000
DTEND;TZID=America/Chicago:20240720T170000
DTSTAMP:20260419T212039
CREATED:20240529T142424Z
LAST-MODIFIED:20240529T142424Z
UID:5046-1721491200-1721494800@knowltonhouse.com
SUMMARY:Classic Distillery Tour & Tasting - 4:00pm
DESCRIPTION:Get a behind the scenes peak at how our spirits are crafted as we take you through the history\, ingredients\, and process that goes into distilling each bottle of Knowlton House spirits.\n\nTour includes a guided tasting.\n\nDuration: 45 minutes
URL:https://knowltonhouse.com/event/classic-distillery-tour-tasting-400pm-32/
LOCATION:Knowlton House Distillery\, 204575 County Rd DB\, Mosinee\, WI\, 54455\, United States
ORGANIZER;CN="Knowlton House Distillery":MAILTO:info@knowltonhouse.com
END:VEVENT
END:VCALENDAR