BEGIN:VCALENDAR
VERSION:2.0
PRODID:-//Knowlton House Distillery - ECPv6.15.17.1//NONSGML v1.0//EN
CALSCALE:GREGORIAN
METHOD:PUBLISH
X-ORIGINAL-URL:https://knowltonhouse.com
X-WR-CALDESC:Events for Knowlton House Distillery
REFRESH-INTERVAL;VALUE=DURATION:PT1H
X-Robots-Tag:noindex
X-PUBLISHED-TTL:PT1H
BEGIN:VTIMEZONE
TZID:America/Chicago
BEGIN:DAYLIGHT
TZOFFSETFROM:-0600
TZOFFSETTO:-0500
TZNAME:CDT
DTSTART:20230312T080000
END:DAYLIGHT
BEGIN:STANDARD
TZOFFSETFROM:-0500
TZOFFSETTO:-0600
TZNAME:CST
DTSTART:20231105T070000
END:STANDARD
BEGIN:DAYLIGHT
TZOFFSETFROM:-0600
TZOFFSETTO:-0500
TZNAME:CDT
DTSTART:20240310T080000
END:DAYLIGHT
BEGIN:STANDARD
TZOFFSETFROM:-0500
TZOFFSETTO:-0600
TZNAME:CST
DTSTART:20241103T070000
END:STANDARD
BEGIN:DAYLIGHT
TZOFFSETFROM:-0600
TZOFFSETTO:-0500
TZNAME:CDT
DTSTART:20250309T080000
END:DAYLIGHT
BEGIN:STANDARD
TZOFFSETFROM:-0500
TZOFFSETTO:-0600
TZNAME:CST
DTSTART:20251102T070000
END:STANDARD
END:VTIMEZONE
BEGIN:VEVENT
DTSTART;TZID=America/Chicago:20240210T130000
DTEND;TZID=America/Chicago:20240210T143000
DTSTAMP:20260419T140306
CREATED:20231208T142406Z
LAST-MODIFIED:20240210T014604Z
UID:3147-1707570000-1707575400@knowltonhouse.com
SUMMARY:Cocktail Workshop: The Birds & The Bees
DESCRIPTION:You’ll be feeling “that thing called love” in our The Birds & The Bees Cocktail Workshop. We’ll guide you through basic mixology and bartending techniques as you get hands-on crafting a classic Bee’s Knees and a bourbon riff on a Jungle Bird. Workshop includes welcome cocktail\, two cocktail creations and light bites.\n\nCocktails: Thing Called Loved (vodka)\, Bee’s Knees (gin)\, Jungle Bird (bourbon)\n\n \n\n 
URL:https://knowltonhouse.com/event/cocktail-workshop-the-birds-the-bees/
LOCATION:Knowlton House Distillery\, 204575 County Rd DB\, Mosinee\, WI\, 54455\, United States
ORGANIZER;CN="Knowlton House Distillery":MAILTO:info@knowltonhouse.com
END:VEVENT
BEGIN:VEVENT
DTSTART;TZID=America/Chicago:20240215T180000
DTEND;TZID=America/Chicago:20240215T193000
DTSTAMP:20260419T140306
CREATED:20231208T142512Z
LAST-MODIFIED:20240214T222439Z
UID:3150-1708020000-1708025400@knowltonhouse.com
SUMMARY:Cocktail Workshop: The Birds & The Bees
DESCRIPTION:You’ll be feeling “that thing called love” in our The Birds & The Bees Cocktail Workshop. We’ll guide you through basic mixology and bartending techniques as you get hands-on crafting a classic Bee’s Knees and a bourbon riff on a Jungle Bird. Workshop includes welcome cocktail\, two cocktail creations and light bites.\n\nCocktails: Thing Called Loved (vodka)\, Bee’s Knees (gin)\, Jungle Bird (bourbon)\n\n \n\n 
URL:https://knowltonhouse.com/event/cocktail-workshop-the-birds-the-bees-2/
LOCATION:Knowlton House Distillery\, 204575 County Rd DB\, Mosinee\, WI\, 54455\, United States
ORGANIZER;CN="Knowlton House Distillery":MAILTO:info@knowltonhouse.com
END:VEVENT
BEGIN:VEVENT
DTSTART;TZID=America/Chicago:20240229T180000
DTEND;TZID=America/Chicago:20240229T193000
DTSTAMP:20260419T140306
CREATED:20240102T144017Z
LAST-MODIFIED:20240102T144017Z
UID:3418-1709229600-1709235000@knowltonhouse.com
SUMMARY:Shaken & Stirred Cocktail Workshop
DESCRIPTION:Step up your home bartending skills with our Shaken & Stirred cocktail class.  We’ll guide you through mixology and bartending techniques on your way to making two cocktails: one shaken\, one stirred.  Class includes welcome cocktail\, two cocktail creations and light bites.  An evening of fun for cocktail novices and aficionados alike. — Welcome Cocktail: Rosemary’s Baby (Gin) — Shaken Cocktail: Bolivar of Broken Dreams (Vodka) — Stirred Cocktail: Knowlton Old Fashioned (Bourbon)\n\n 
URL:https://knowltonhouse.com/event/shaken-stirred-cocktail-workshop/
LOCATION:Knowlton House Distillery\, 204575 County Rd DB\, Mosinee\, WI\, 54455\, United States
ORGANIZER;CN="Knowlton House Distillery":MAILTO:info@knowltonhouse.com
END:VEVENT
END:VCALENDAR