BEGIN:VCALENDAR
VERSION:2.0
PRODID:-//Knowlton House Distillery - ECPv6.15.17.1//NONSGML v1.0//EN
CALSCALE:GREGORIAN
METHOD:PUBLISH
X-ORIGINAL-URL:https://knowltonhouse.com
X-WR-CALDESC:Events for Knowlton House Distillery
REFRESH-INTERVAL;VALUE=DURATION:PT1H
X-Robots-Tag:noindex
X-PUBLISHED-TTL:PT1H
BEGIN:VTIMEZONE
TZID:America/Chicago
BEGIN:DAYLIGHT
TZOFFSETFROM:-0600
TZOFFSETTO:-0500
TZNAME:CDT
DTSTART:20230312T080000
END:DAYLIGHT
BEGIN:STANDARD
TZOFFSETFROM:-0500
TZOFFSETTO:-0600
TZNAME:CST
DTSTART:20231105T070000
END:STANDARD
BEGIN:DAYLIGHT
TZOFFSETFROM:-0600
TZOFFSETTO:-0500
TZNAME:CDT
DTSTART:20240310T080000
END:DAYLIGHT
BEGIN:STANDARD
TZOFFSETFROM:-0500
TZOFFSETTO:-0600
TZNAME:CST
DTSTART:20241103T070000
END:STANDARD
BEGIN:DAYLIGHT
TZOFFSETFROM:-0600
TZOFFSETTO:-0500
TZNAME:CDT
DTSTART:20250309T080000
END:DAYLIGHT
BEGIN:STANDARD
TZOFFSETFROM:-0500
TZOFFSETTO:-0600
TZNAME:CST
DTSTART:20251102T070000
END:STANDARD
END:VTIMEZONE
BEGIN:VEVENT
DTSTART;TZID=America/Chicago:20240406T130000
DTEND;TZID=America/Chicago:20240406T143000
DTSTAMP:20260419T104754
CREATED:20240305T173654Z
LAST-MODIFIED:20240305T173654Z
UID:4088-1712408400-1712413800@knowltonhouse.com
SUMMARY:Cocktail Workshop: Flower Power
DESCRIPTION:Let the season inspire you at our Flower Power Cocktail Workshop.  From making a classic daisy-style cocktail to using butterfly pea flowers for a color-changing effect\, we’ll guide you through basic mixology and bartending techniques as you get hands-on crafting spring-inspired cocktails.  Workshop includes welcome cocktail\, two cocktail creations and light bites.  An afternoon of fun for cocktail novices and aficionados alike.\n\n 
URL:https://knowltonhouse.com/event/cocktail-workshop-flower-power-2/
LOCATION:Knowlton House Distillery\, 204575 County Rd DB\, Mosinee\, WI\, 54455\, United States
ORGANIZER;CN="Knowlton House Distillery":MAILTO:info@knowltonhouse.com
END:VEVENT
BEGIN:VEVENT
DTSTART;TZID=America/Chicago:20240413T130000
DTEND;TZID=America/Chicago:20240413T143000
DTSTAMP:20260419T104754
CREATED:20240305T173307Z
LAST-MODIFIED:20240328T131518Z
UID:4085-1713013200-1713018600@knowltonhouse.com
SUMMARY:Cocktail Workshop: Flower Power
DESCRIPTION:Let the season inspire you at our Flower Power Cocktail Workshop.  From making a classic daisy-style cocktail to using butterfly pea flowers for a color-changing effect\, we’ll guide you through basic mixology and bartending techniques as you get hands-on crafting spring-inspired cocktails.  Workshop includes welcome cocktail\, two cocktail creations and light bites.  An afternoon of fun for cocktail novices and aficionados alike.\n\n 
URL:https://knowltonhouse.com/event/cocktail-workshop-flower-power/
LOCATION:Knowlton House Distillery\, 204575 County Rd DB\, Mosinee\, WI\, 54455\, United States
ORGANIZER;CN="Knowlton House Distillery":MAILTO:info@knowltonhouse.com
END:VEVENT
BEGIN:VEVENT
DTSTART;TZID=America/Chicago:20240427T130000
DTEND;TZID=America/Chicago:20240427T143000
DTSTAMP:20260419T104754
CREATED:20240305T174057Z
LAST-MODIFIED:20240408T193032Z
UID:4093-1714222800-1714228200@knowltonhouse.com
SUMMARY:Cocktail Workshop: Triple Crown Cocktails
DESCRIPTION:You’ll be ready for the races with our Triple Crown Cocktail Workshop.  We’ll guide you through basic mixology and bartending techniques as you get hands-on crafting the cocktails of the races.  Cocktails include riffs on the classic Mint Julep (Derby)\, Black Eyed Susan (Preakness) and Belmont Jewel (Belmont Stakes). Workshop includes welcome cocktail\, two cocktail creations and light bites.  An afternoon of fun for cocktail novices and aficionados alike.
URL:https://knowltonhouse.com/event/cocktail-workshop-triple-crown-cocktails/
LOCATION:Knowlton House Distillery\, 204575 County Rd DB\, Mosinee\, WI\, 54455\, United States
ORGANIZER;CN="Knowlton House Distillery":MAILTO:info@knowltonhouse.com
END:VEVENT
END:VCALENDAR