BEGIN:VCALENDAR
VERSION:2.0
PRODID:-//Knowlton House Distillery - ECPv6.15.17.1//NONSGML v1.0//EN
CALSCALE:GREGORIAN
METHOD:PUBLISH
X-ORIGINAL-URL:https://knowltonhouse.com
X-WR-CALDESC:Events for Knowlton House Distillery
REFRESH-INTERVAL;VALUE=DURATION:PT1H
X-Robots-Tag:noindex
X-PUBLISHED-TTL:PT1H
BEGIN:VTIMEZONE
TZID:America/Chicago
BEGIN:DAYLIGHT
TZOFFSETFROM:-0600
TZOFFSETTO:-0500
TZNAME:CDT
DTSTART:20230312T080000
END:DAYLIGHT
BEGIN:STANDARD
TZOFFSETFROM:-0500
TZOFFSETTO:-0600
TZNAME:CST
DTSTART:20231105T070000
END:STANDARD
BEGIN:DAYLIGHT
TZOFFSETFROM:-0600
TZOFFSETTO:-0500
TZNAME:CDT
DTSTART:20240310T080000
END:DAYLIGHT
BEGIN:STANDARD
TZOFFSETFROM:-0500
TZOFFSETTO:-0600
TZNAME:CST
DTSTART:20241103T070000
END:STANDARD
BEGIN:DAYLIGHT
TZOFFSETFROM:-0600
TZOFFSETTO:-0500
TZNAME:CDT
DTSTART:20250309T080000
END:DAYLIGHT
BEGIN:STANDARD
TZOFFSETFROM:-0500
TZOFFSETTO:-0600
TZNAME:CST
DTSTART:20251102T070000
END:STANDARD
END:VTIMEZONE
BEGIN:VEVENT
DTSTART;TZID=America/Chicago:20241205T180000
DTEND;TZID=America/Chicago:20241205T193000
DTSTAMP:20260419T211357
CREATED:20241002T194300Z
LAST-MODIFIED:20241119T190817Z
UID:6020-1733421600-1733427000@knowltonhouse.com
SUMMARY:Cocktail Workshop: Making Spirits Bright
DESCRIPTION:MAKE SPIRITS BRIGHT at our holiday cocktail-making workshop.  Get hands-on as we guide you through basic mixology and bartending techniques as you craft holiday-inspired libations.  Take the recipes home and be ready to shake up some seasonal cocktails for friends and family.  Workshop includes instruction\, welcome cocktail\, two cocktail creations and light bites from our scratch kitchen.  It’s an evening of fun for cocktail novices and aficionados alike.\n\nMust be 21+ to participate.\n\nCocktails: GIN-gle Bells (Gin)\, Sugar Pom Fairy (Vodka)\, Old Fashioned Christmas (Bourbon)\n\n \n\n 
URL:https://knowltonhouse.com/event/cocktail-workshop-holiday/
LOCATION:Knowlton House Distillery\, 204575 County Rd DB\, Mosinee\, WI\, 54455\, United States
CATEGORIES:Cocktail Making Workshops
ATTACH;FMTTYPE=image/jpeg:https://knowltonhouse.com/wp-content/uploads/2024/04/231025_Knowlton-House-Distillery-Photography_Jena-Carlin-Creative-1733-2-LR-e1761747348673.jpg
ORGANIZER;CN="Knowlton House Distillery":MAILTO:info@knowltonhouse.com
END:VEVENT
BEGIN:VEVENT
DTSTART;TZID=America/Chicago:20241207T130000
DTEND;TZID=America/Chicago:20241207T150000
DTSTAMP:20260419T211357
CREATED:20241105T171139Z
LAST-MODIFIED:20241105T171329Z
UID:6361-1733576400-1733583600@knowltonhouse.com
SUMMARY:Winter Wreath Decorating Workshop
DESCRIPTION:Join Fields & Flora for a Winter Wreath Decorating Workshop.  Compose the perfect wreath using dried flowers\, grasses & other foraged or found decorations.  Perfect for getting your home ready for the holidays.\n\nTickets $65.  Price includes 1 winter wreath to be decorated & one drink token.  Additional cocktails & food available for purchase.\n\nFor registration & questions\, contact Fields & Flora.\n\n 
URL:https://knowltonhouse.com/event/winter-wreath-decorating-workshop/
LOCATION:Knowlton House Distillery\, 204575 County Rd DB\, Mosinee\, WI\, 54455\, United States
CATEGORIES:Art & Crafting
ATTACH;FMTTYPE=image/jpeg:https://knowltonhouse.com/wp-content/uploads/2024/11/Fieldsflora3-e1730827840153.jpg
ORGANIZER;CN="Fields & Flora":MAILTO:ella_rosie@fieldsflora.com
END:VEVENT
BEGIN:VEVENT
DTSTART;TZID=America/Chicago:20241208T130000
DTEND;TZID=America/Chicago:20241208T150000
DTSTAMP:20260419T211357
CREATED:20241021T202955Z
LAST-MODIFIED:20241105T172753Z
UID:6236-1733662800-1733670000@knowltonhouse.com
SUMMARY:Candle Making Class
DESCRIPTION:Join ZEN CANDLES to celebrate the holiday season with a unique candle-making experience at the distillery! Their expert instructor will guide you through the process\, ensuring you craft a custom candle that’s perfect for your home or as a thoughtful gift. Whether you’re coming with friends\, a partner\, or treating yourself\, this workshop is the perfect way to kick off the season with creativity and cheer!  Register through Zen Candles.\n\n 
URL:https://knowltonhouse.com/event/candle-making-class/
LOCATION:Knowlton House Distillery\, 204575 County Rd DB\, Mosinee\, WI\, 54455\, United States
CATEGORIES:Art & Crafting
ATTACH;FMTTYPE=image/jpeg:https://knowltonhouse.com/wp-content/uploads/2024/10/Candle-Making-Pic-e1730827615359.jpg
ORGANIZER;CN="Zen Homemade Candles":MAILTO:zenhomemadecandles@gmail.com
END:VEVENT
BEGIN:VEVENT
DTSTART;TZID=America/Chicago:20241214T180000
DTEND;TZID=America/Chicago:20241214T193000
DTSTAMP:20260419T211357
CREATED:20241002T194450Z
LAST-MODIFIED:20241127T202431Z
UID:6023-1734199200-1734204600@knowltonhouse.com
SUMMARY:Cocktail Workshop: Making Spirits Bright
DESCRIPTION:MAKE SPIRITS BRIGHT at our holiday cocktail-making workshop.  Get hands-on as we guide you through basic mixology and bartending techniques as you craft holiday-inspired libations.  Take the recipes home and be ready to shake up some seasonal cocktails for friends and family.  Workshop includes instruction\, welcome cocktail\, two cocktail creations and light bites from our scratch kitchen.  It’s an afternoon of fun for cocktail novices and aficionados alike.\n\nMust be 21+ to participate.\n\nCocktails: GIN-gle Bells (Gin)\, Sugar Pom Fairy (Vodka)\, Old Fashioned Christmas (Bourbon)\n\n \n\n 
URL:https://knowltonhouse.com/event/cocktail-workshop-making-spirits-bright/
LOCATION:Knowlton House Distillery\, 204575 County Rd DB\, Mosinee\, WI\, 54455\, United States
CATEGORIES:Cocktail Making Workshops
ATTACH;FMTTYPE=image/jpeg:https://knowltonhouse.com/wp-content/uploads/2024/04/231025_Knowlton-House-Distillery-Photography_Jena-Carlin-Creative-1733-2-LR-e1761747348673.jpg
ORGANIZER;CN="Knowlton House Distillery":MAILTO:info@knowltonhouse.com
END:VEVENT
BEGIN:VEVENT
DTSTART;TZID=America/Chicago:20241221T130000
DTEND;TZID=America/Chicago:20241221T143000
DTSTAMP:20260419T211357
CREATED:20241028T162617Z
LAST-MODIFIED:20241205T182025Z
UID:6279-1734786000-1734791400@knowltonhouse.com
SUMMARY:Cocktail Workshop: Making Spirits Bright
DESCRIPTION:MAKE SPIRITS BRIGHT at our holiday cocktail-making workshop.  Get hands-on as we guide you through basic mixology and bartending techniques as you craft holiday-inspired libations.  Take the recipes home and be ready to shake up some seasonal cocktails for friends and family.  Workshop includes instruction\, welcome cocktail\, two cocktail creations and light bites from our scratch kitchen.  It’s an afternoon of fun for cocktail novices and aficionados alike.\n\nMust be 21+ to participate.\n\nCocktails: GIN-gle Bells (Gin)\, Sugar Pom Fairy (Vodka)\, Old Fashioned Christmas (Bourbon)\n\n \n\n 
URL:https://knowltonhouse.com/event/cocktail-workshop-making-spirits-bright-2/
LOCATION:Knowlton House Distillery\, 204575 County Rd DB\, Mosinee\, WI\, 54455\, United States
CATEGORIES:Cocktail Making Workshops
ATTACH;FMTTYPE=image/jpeg:https://knowltonhouse.com/wp-content/uploads/2024/04/231025_Knowlton-House-Distillery-Photography_Jena-Carlin-Creative-1733-2-LR-e1761747348673.jpg
ORGANIZER;CN="Knowlton House Distillery":MAILTO:info@knowltonhouse.com
END:VEVENT
END:VCALENDAR