BEGIN:VCALENDAR
VERSION:2.0
PRODID:-//Knowlton House Distillery - ECPv6.15.17.1//NONSGML v1.0//EN
CALSCALE:GREGORIAN
METHOD:PUBLISH
X-ORIGINAL-URL:https://knowltonhouse.com
X-WR-CALDESC:Events for Knowlton House Distillery
REFRESH-INTERVAL;VALUE=DURATION:PT1H
X-Robots-Tag:noindex
X-PUBLISHED-TTL:PT1H
BEGIN:VTIMEZONE
TZID:America/Chicago
BEGIN:DAYLIGHT
TZOFFSETFROM:-0600
TZOFFSETTO:-0500
TZNAME:CDT
DTSTART:20240310T080000
END:DAYLIGHT
BEGIN:STANDARD
TZOFFSETFROM:-0500
TZOFFSETTO:-0600
TZNAME:CST
DTSTART:20241103T070000
END:STANDARD
BEGIN:DAYLIGHT
TZOFFSETFROM:-0600
TZOFFSETTO:-0500
TZNAME:CDT
DTSTART:20250309T080000
END:DAYLIGHT
BEGIN:STANDARD
TZOFFSETFROM:-0500
TZOFFSETTO:-0600
TZNAME:CST
DTSTART:20251102T070000
END:STANDARD
BEGIN:DAYLIGHT
TZOFFSETFROM:-0600
TZOFFSETTO:-0500
TZNAME:CDT
DTSTART:20260308T080000
END:DAYLIGHT
BEGIN:STANDARD
TZOFFSETFROM:-0500
TZOFFSETTO:-0600
TZNAME:CST
DTSTART:20261101T070000
END:STANDARD
END:VTIMEZONE
BEGIN:VEVENT
DTSTART;TZID=America/Chicago:20250213T180000
DTEND;TZID=America/Chicago:20250213T193000
DTSTAMP:20260420T003343
CREATED:20250109T162950Z
LAST-MODIFIED:20250109T171458Z
UID:6923-1739469600-1739475000@knowltonhouse.com
SUMMARY:Cocktail Workshop: All You Need Is Love
DESCRIPTION:Celebrate the season with our All You Need Is Love cocktail workshop. Get hands-on as we guide you through basic mixology techniques\, infuse spirits & craft unique Valentine’s inspired libations.  Workshop includes instruction\, welcome cocktail\, two cocktail creations\, take-home spirit infusion & a selection of light bite desserts from our scratch kitchen.  It’s an evening of fun for cocktail novices and aficionados alike.\n\nMust be 21+ to participate.\n\n \n\n \n\n 
URL:https://knowltonhouse.com/event/cocktail-workshop-all-you-need-is-love/
LOCATION:Knowlton House Distillery\, 204575 County Rd DB\, Mosinee\, WI\, 54455\, United States
CATEGORIES:Cocktail Making Workshops
ATTACH;FMTTYPE=image/jpeg:https://knowltonhouse.com/wp-content/uploads/2024/04/231025_Knowlton-House-Distillery-Photography_Jena-Carlin-Creative-1733-2-LR-e1761747348673.jpg
ORGANIZER;CN="Knowlton House Distillery":MAILTO:info@knowltonhouse.com
END:VEVENT
BEGIN:VEVENT
DTSTART;TZID=America/Chicago:20250215T130000
DTEND;TZID=America/Chicago:20250215T143000
DTSTAMP:20260420T003343
CREATED:20250109T171202Z
LAST-MODIFIED:20250109T171559Z
UID:6927-1739624400-1739629800@knowltonhouse.com
SUMMARY:Cocktail Workshop: All You Need Is Love
DESCRIPTION:Celebrate the season with our All You Need Is Love cocktail workshop. Get hands-on as we guide you through basic mixology techniques\, infuse spirits & craft unique Valentine’s inspired libations.  Workshop includes instruction\, welcome cocktail\, two cocktail creations\, take-home spirit infusion & a selection of light bite desserts from our scratch kitchen.  It’s an afternoon of fun for cocktail novices and aficionados alike.\n\nMust be 21+ to participate.\n\n \n\n \n\n 
URL:https://knowltonhouse.com/event/cocktail-workshop-all-you-need-is-love-2/
LOCATION:Knowlton House Distillery\, 204575 County Rd DB\, Mosinee\, WI\, 54455\, United States
CATEGORIES:Cocktail Making Workshops
ATTACH;FMTTYPE=image/jpeg:https://knowltonhouse.com/wp-content/uploads/2024/04/231025_Knowlton-House-Distillery-Photography_Jena-Carlin-Creative-1733-2-LR-e1761747348673.jpg
ORGANIZER;CN="Knowlton House Distillery":MAILTO:info@knowltonhouse.com
END:VEVENT
END:VCALENDAR