BEGIN:VCALENDAR
VERSION:2.0
PRODID:-//Knowlton House Distillery - ECPv6.15.17.1//NONSGML v1.0//EN
CALSCALE:GREGORIAN
METHOD:PUBLISH
X-ORIGINAL-URL:https://knowltonhouse.com
X-WR-CALDESC:Events for Knowlton House Distillery
REFRESH-INTERVAL;VALUE=DURATION:PT1H
X-Robots-Tag:noindex
X-PUBLISHED-TTL:PT1H
BEGIN:VTIMEZONE
TZID:America/Chicago
BEGIN:DAYLIGHT
TZOFFSETFROM:-0600
TZOFFSETTO:-0500
TZNAME:CDT
DTSTART:20240310T080000
END:DAYLIGHT
BEGIN:STANDARD
TZOFFSETFROM:-0500
TZOFFSETTO:-0600
TZNAME:CST
DTSTART:20241103T070000
END:STANDARD
BEGIN:DAYLIGHT
TZOFFSETFROM:-0600
TZOFFSETTO:-0500
TZNAME:CDT
DTSTART:20250309T080000
END:DAYLIGHT
BEGIN:STANDARD
TZOFFSETFROM:-0500
TZOFFSETTO:-0600
TZNAME:CST
DTSTART:20251102T070000
END:STANDARD
BEGIN:DAYLIGHT
TZOFFSETFROM:-0600
TZOFFSETTO:-0500
TZNAME:CDT
DTSTART:20260308T080000
END:DAYLIGHT
BEGIN:STANDARD
TZOFFSETFROM:-0500
TZOFFSETTO:-0600
TZNAME:CST
DTSTART:20261101T070000
END:STANDARD
END:VTIMEZONE
BEGIN:VEVENT
DTSTART;TZID=America/Chicago:20250329T130000
DTEND;TZID=America/Chicago:20250329T143000
DTSTAMP:20260420T022230
CREATED:20250129T201817Z
LAST-MODIFIED:20250326T212817Z
UID:7116-1743253200-1743258600@knowltonhouse.com
SUMMARY:Cocktail Workshop: Bikinis & Banana Hammocks
DESCRIPTION:Missed Spring Break on the beach?  Well\, don’t miss out on our Bikinis & Banana Hammocks cocktail-making workshop. Get hands-on as we guide you through basic mixology techniques & craft tropical-inspired cocktails.  Workshop includes instruction\, welcome cocktail\, two cocktail creations & a light bites from our scratch kitchen.  It’s an afternoon of fun for cocktail novices and aficionados alike.\n\n \n\nMust be 21+ to participate.  \n\n \n\nImportant Note:  Please don’t wear a bikini or banana hammock to class.  While tropical shirts are welcome\, this is a family establishment & we’re kinda classy.\n\n \n\n \n\n 
URL:https://knowltonhouse.com/event/cocktail-workshop-bikinis-banana-hammocks/
LOCATION:Knowlton House Distillery\, 204575 County Rd DB\, Mosinee\, WI\, 54455\, United States
CATEGORIES:Cocktail Making Workshops
ATTACH;FMTTYPE=image/jpeg:https://knowltonhouse.com/wp-content/uploads/2024/04/231025_Knowlton-House-Distillery-Photography_Jena-Carlin-Creative-1733-2-LR-e1761747348673.jpg
ORGANIZER;CN="Knowlton House Distillery":MAILTO:info@knowltonhouse.com
END:VEVENT
BEGIN:VEVENT
DTSTART;TZID=America/Chicago:20250330T130000
DTEND;TZID=America/Chicago:20250330T150000
DTSTAMP:20260420T022231
CREATED:20250220T145614Z
LAST-MODIFIED:20250220T145908Z
UID:7318-1743339600-1743346800@knowltonhouse.com
SUMMARY:Cocktails & Crafting: Spring Wreath Workshop
DESCRIPTION:Come join Ash & Co at the distillery for a fun and creative event where you will learn how to make your own eucalyptus wreath just in time for spring! Beautiful as a fresh wreath and perfect to keep for months to come as a dried floral piece. This workshop will guide you through the process of crafting a beautiful wreath using fresh eucalyptus\, fresh florals and dried accents. Selection of spring inspired bows available. No experience necessary – just bring your creativity\, grab a craft cocktail and we’ll provide all the materials you need. Don’t miss out on this opportunity to add this fragrant spring wreath to your home!\n\nClass includes all supplies to create a beautiful wreath as well as one craft cocktail.
URL:https://knowltonhouse.com/event/cocktails-crafting-spring-wreath-workshop/
LOCATION:Knowlton House Distillery\, 204575 County Rd DB\, Mosinee\, WI\, 54455\, United States
CATEGORIES:Art & Crafting
ATTACH;FMTTYPE=image/jpeg:https://knowltonhouse.com/wp-content/uploads/2025/02/Wreath-class-e1740063483199.jpg
END:VEVENT
END:VCALENDAR