BEGIN:VCALENDAR
VERSION:2.0
PRODID:-//Knowlton House Distillery - ECPv6.15.17.1//NONSGML v1.0//EN
CALSCALE:GREGORIAN
METHOD:PUBLISH
X-ORIGINAL-URL:https://knowltonhouse.com
X-WR-CALDESC:Events for Knowlton House Distillery
REFRESH-INTERVAL;VALUE=DURATION:PT1H
X-Robots-Tag:noindex
X-PUBLISHED-TTL:PT1H
BEGIN:VTIMEZONE
TZID:America/Chicago
BEGIN:DAYLIGHT
TZOFFSETFROM:-0600
TZOFFSETTO:-0500
TZNAME:CDT
DTSTART:20240310T080000
END:DAYLIGHT
BEGIN:STANDARD
TZOFFSETFROM:-0500
TZOFFSETTO:-0600
TZNAME:CST
DTSTART:20241103T070000
END:STANDARD
BEGIN:DAYLIGHT
TZOFFSETFROM:-0600
TZOFFSETTO:-0500
TZNAME:CDT
DTSTART:20250309T080000
END:DAYLIGHT
BEGIN:STANDARD
TZOFFSETFROM:-0500
TZOFFSETTO:-0600
TZNAME:CST
DTSTART:20251102T070000
END:STANDARD
BEGIN:DAYLIGHT
TZOFFSETFROM:-0600
TZOFFSETTO:-0500
TZNAME:CDT
DTSTART:20260308T080000
END:DAYLIGHT
BEGIN:STANDARD
TZOFFSETFROM:-0500
TZOFFSETTO:-0600
TZNAME:CST
DTSTART:20261101T070000
END:STANDARD
END:VTIMEZONE
BEGIN:VEVENT
DTSTART;TZID=America/Chicago:20251213T130000
DTEND;TZID=America/Chicago:20251213T143000
DTSTAMP:20260421T073343
CREATED:20250926T132721Z
LAST-MODIFIED:20251210T235821Z
UID:8623-1765630800-1765636200@knowltonhouse.com
SUMMARY:Cocktail Workshop: Making Spirits Bright
DESCRIPTION:MAKE SPIRITS BRIGHT at our holiday cocktail-making workshop.  Get hands-on as we guide you through basic mixology and bartending techniques as you craft holiday-inspired libations.  Take the recipes home and be ready to shake up some seasonal cocktails for friends and family.  Workshop includes instruction\, welcome cocktail\, two cocktail creations and light bites from our scratch kitchen.  It’s an afternoon of fun for cocktail novices and aficionados alike.\n\nMust be 21+ to participate.\n\n \n\n \n\n 
URL:https://knowltonhouse.com/event/cocktail-workshop-making-spirits-bright-3/
LOCATION:Knowlton House Distillery\, 204575 County Rd DB\, Mosinee\, WI\, 54455\, United States
CATEGORIES:Cocktail Making Workshops
ATTACH;FMTTYPE=image/jpeg:https://knowltonhouse.com/wp-content/uploads/2024/04/231025_Knowlton-House-Distillery-Photography_Jena-Carlin-Creative-1733-2-LR-e1761747348673.jpg
ORGANIZER;CN="Knowlton House Distillery":MAILTO:info@knowltonhouse.com
END:VEVENT
BEGIN:VEVENT
DTSTART;TZID=America/Chicago:20251213T160000
DTEND;TZID=America/Chicago:20251213T173000
DTSTAMP:20260421T073343
CREATED:20251029T141620Z
LAST-MODIFIED:20251210T235344Z
UID:8990-1765641600-1765647000@knowltonhouse.com
SUMMARY:Cocktail Workshop: Making Spirits Bright
DESCRIPTION:MAKE SPIRITS BRIGHT at our holiday cocktail-making workshop.  Get hands-on as we guide you through basic mixology and bartending techniques as you craft holiday-inspired libations.  Take the recipes home and be ready to shake up some seasonal cocktails for friends and family.  Workshop includes instruction\, welcome cocktail\, two cocktail creations and light bites from our scratch kitchen.  It’s an afternoon of fun for cocktail novices and aficionados alike.\n\nMust be 21+ to participate.\n\n \n\n \n\n 
URL:https://knowltonhouse.com/event/cocktail-workshop-making-spirits-bright-5/
LOCATION:Knowlton House Distillery\, 204575 County Rd DB\, Mosinee\, WI\, 54455\, United States
CATEGORIES:Cocktail Making Workshops
ATTACH;FMTTYPE=image/jpeg:https://knowltonhouse.com/wp-content/uploads/2024/04/231025_Knowlton-House-Distillery-Photography_Jena-Carlin-Creative-1733-2-LR-e1761747348673.jpg
ORGANIZER;CN="Knowlton House Distillery":MAILTO:info@knowltonhouse.com
END:VEVENT
BEGIN:VEVENT
DTSTART;TZID=America/Chicago:20251220T130000
DTEND;TZID=America/Chicago:20251220T143000
DTSTAMP:20260421T073343
CREATED:20250926T132840Z
LAST-MODIFIED:20251210T235624Z
UID:8626-1766235600-1766241000@knowltonhouse.com
SUMMARY:Cocktail Workshop: Making Spirits Bright
DESCRIPTION:MAKE SPIRITS BRIGHT at our holiday cocktail-making workshop.  Get hands-on as we guide you through basic mixology and bartending techniques as you craft holiday-inspired libations.  Take the recipes home and be ready to shake up some seasonal cocktails for friends and family.  Workshop includes instruction\, welcome cocktail\, two cocktail creations and light bites from our scratch kitchen.  It’s an afternoon of fun for cocktail novices and aficionados alike.\n\nMust be 21+ to participate.\n\n \n\n \n\n 
URL:https://knowltonhouse.com/event/cocktail-workshop-making-spirits-bright-4/
LOCATION:Knowlton House Distillery\, 204575 County Rd DB\, Mosinee\, WI\, 54455\, United States
CATEGORIES:Cocktail Making Workshops
ATTACH;FMTTYPE=image/jpeg:https://knowltonhouse.com/wp-content/uploads/2024/04/231025_Knowlton-House-Distillery-Photography_Jena-Carlin-Creative-1733-2-LR-e1761747348673.jpg
ORGANIZER;CN="Knowlton House Distillery":MAILTO:info@knowltonhouse.com
END:VEVENT
BEGIN:VEVENT
DTSTART;TZID=America/Chicago:20251220T160000
DTEND;TZID=America/Chicago:20251220T173000
DTSTAMP:20260421T073343
CREATED:20251121T205823Z
LAST-MODIFIED:20251217T140429Z
UID:9208-1766246400-1766251800@knowltonhouse.com
SUMMARY:Cocktail Workshop: Making Spirits Bright
DESCRIPTION:MAKE SPIRITS BRIGHT at our holiday cocktail-making workshop.  Get hands-on as we guide you through basic mixology and bartending techniques as you craft holiday-inspired libations.  Take the recipes home and be ready to shake up some seasonal cocktails for friends and family.  Workshop includes instruction\, welcome cocktail\, two cocktail creations and light bites from our scratch kitchen.  It’s an afternoon of fun for cocktail novices and aficionados alike.\n\nMust be 21+ to participate.\n\n \n\n \n\n 
URL:https://knowltonhouse.com/event/cocktail-workshop-making-spirits-bright-6/
LOCATION:Knowlton House Distillery\, 204575 County Rd DB\, Mosinee\, WI\, 54455\, United States
CATEGORIES:Cocktail Making Workshops
ATTACH;FMTTYPE=image/jpeg:https://knowltonhouse.com/wp-content/uploads/2024/04/231025_Knowlton-House-Distillery-Photography_Jena-Carlin-Creative-1733-2-LR-e1761747348673.jpg
ORGANIZER;CN="Knowlton House Distillery":MAILTO:info@knowltonhouse.com
END:VEVENT
END:VCALENDAR