BEGIN:VCALENDAR
VERSION:2.0
PRODID:-//Knowlton House Distillery - ECPv6.15.17.1//NONSGML v1.0//EN
CALSCALE:GREGORIAN
METHOD:PUBLISH
X-ORIGINAL-URL:https://knowltonhouse.com
X-WR-CALDESC:Events for Knowlton House Distillery
REFRESH-INTERVAL;VALUE=DURATION:PT1H
X-Robots-Tag:noindex
X-PUBLISHED-TTL:PT1H
BEGIN:VTIMEZONE
TZID:America/Chicago
BEGIN:DAYLIGHT
TZOFFSETFROM:-0600
TZOFFSETTO:-0500
TZNAME:CDT
DTSTART:20250309T080000
END:DAYLIGHT
BEGIN:STANDARD
TZOFFSETFROM:-0500
TZOFFSETTO:-0600
TZNAME:CST
DTSTART:20251102T070000
END:STANDARD
BEGIN:DAYLIGHT
TZOFFSETFROM:-0600
TZOFFSETTO:-0500
TZNAME:CDT
DTSTART:20260308T080000
END:DAYLIGHT
BEGIN:STANDARD
TZOFFSETFROM:-0500
TZOFFSETTO:-0600
TZNAME:CST
DTSTART:20261101T070000
END:STANDARD
BEGIN:DAYLIGHT
TZOFFSETFROM:-0600
TZOFFSETTO:-0500
TZNAME:CDT
DTSTART:20270314T080000
END:DAYLIGHT
BEGIN:STANDARD
TZOFFSETFROM:-0500
TZOFFSETTO:-0600
TZNAME:CST
DTSTART:20271107T070000
END:STANDARD
END:VTIMEZONE
BEGIN:VEVENT
DTSTART;TZID=America/Chicago:20260206T180000
DTEND;TZID=America/Chicago:20260206T193000
DTSTAMP:20260421T050612
CREATED:20260114T153847Z
LAST-MODIFIED:20260202T144807Z
UID:9516-1770400800-1770406200@knowltonhouse.com
SUMMARY:Cocktail Workshop: All You Need Is Love
DESCRIPTION:Celebrate the season with our All You Need Is Love cocktail workshop\, a hands-on Valentine’s experience perfect for couples\, friends\, and anyone who believes great cocktails are a love language. During this interactive cocktail making class\, our team will guide you through mixology basics as you get hands-on to craft Valentine’s-inspired cocktails from start to finish. \nYour workshop experience includes: \n\n\n 	A welcome cocktail to get things started\n 	Hands-on creation of two cocktails\n 	A make-and-take cocktail ingredient to enjoy at home\n 	A selection of light bites from our scratch kitchen\n\nWhether you’re a cocktail novice or a seasoned enthusiast\, this is a relaxed\, playful evening full of flavor\, technique\, and good company. \nMust be 21+ to participate \n \n\n \n\n 
URL:https://knowltonhouse.com/event/cocktail-workshop-all-you-need-is-love-3/
LOCATION:Knowlton House Distillery\, 204575 County Rd DB\, Mosinee\, WI\, 54455\, United States
CATEGORIES:Cocktail Making Workshops
ATTACH;FMTTYPE=image/jpeg:https://knowltonhouse.com/wp-content/uploads/2024/04/231025_Knowlton-House-Distillery-Photography_Jena-Carlin-Creative-1733-2-LR-e1761747348673.jpg
ORGANIZER;CN="Knowlton House Distillery":MAILTO:info@knowltonhouse.com
END:VEVENT
BEGIN:VEVENT
DTSTART;TZID=America/Chicago:20260214T110000
DTEND;TZID=America/Chicago:20260214T210000
DTSTAMP:20260421T050612
CREATED:20260114T152554Z
LAST-MODIFIED:20260127T155112Z
UID:9513-1771066800-1771102800@knowltonhouse.com
SUMMARY:Valentine's Day: Special Chef's Menu
DESCRIPTION:Celebrate Valentine’s Day with us and enjoy a special evening of food and drink. \nOn Valentine’s Day\, we’ll be featuring an exclusive Chef’s Valentine’s Menu\, along with a special pop-up cocktail menu crafted just for the occasion. Please note that our regular dining menu will not be available that day. The Valentine’s menu is posted to our online menu. \nWe’d love for you to join us. \nTo help seat guests as efficiently as possible\, we do not accept dining reservations. However\, we do offer call-ahead seating to help reduce your wait time. Before you leave home\, give us a call. If there’s a wait\, we’re happy to add you to the list to get your wait started early. You may also join the waitlist online. \nLooking for more fun? Join us for our Valentines-themed Cocktail Making Workshop on Friday\, February 6.
URL:https://knowltonhouse.com/event/valentines-day-special-chefs-menu/
LOCATION:Knowlton House Distillery\, 204575 County Rd DB\, Mosinee\, WI\, 54455\, United States
CATEGORIES:Special Event
ATTACH;FMTTYPE=image/jpeg:https://knowltonhouse.com/wp-content/uploads/2026/01/Facebook-Event-Cover-Valentines.jpg
ORGANIZER;CN="Knowlton House Distillery":MAILTO:info@knowltonhouse.com
END:VEVENT
END:VCALENDAR