BEGIN:VCALENDAR
VERSION:2.0
PRODID:-//Knowlton House Distillery - ECPv6.15.17.1//NONSGML v1.0//EN
CALSCALE:GREGORIAN
METHOD:PUBLISH
X-WR-CALNAME:Knowlton House Distillery
X-ORIGINAL-URL:https://knowltonhouse.com
X-WR-CALDESC:Events for Knowlton House Distillery
REFRESH-INTERVAL;VALUE=DURATION:PT1H
X-Robots-Tag:noindex
X-PUBLISHED-TTL:PT1H
BEGIN:VTIMEZONE
TZID:America/Chicago
BEGIN:DAYLIGHT
TZOFFSETFROM:-0600
TZOFFSETTO:-0500
TZNAME:CDT
DTSTART:20250309T080000
END:DAYLIGHT
BEGIN:STANDARD
TZOFFSETFROM:-0500
TZOFFSETTO:-0600
TZNAME:CST
DTSTART:20251102T070000
END:STANDARD
BEGIN:DAYLIGHT
TZOFFSETFROM:-0600
TZOFFSETTO:-0500
TZNAME:CDT
DTSTART:20260308T080000
END:DAYLIGHT
BEGIN:STANDARD
TZOFFSETFROM:-0500
TZOFFSETTO:-0600
TZNAME:CST
DTSTART:20261101T070000
END:STANDARD
BEGIN:DAYLIGHT
TZOFFSETFROM:-0600
TZOFFSETTO:-0500
TZNAME:CDT
DTSTART:20270314T080000
END:DAYLIGHT
BEGIN:STANDARD
TZOFFSETFROM:-0500
TZOFFSETTO:-0600
TZNAME:CST
DTSTART:20271107T070000
END:STANDARD
END:VTIMEZONE
BEGIN:VEVENT
DTSTART;TZID=America/Chicago:20260327T180000
DTEND;TZID=America/Chicago:20260327T193000
DTSTAMP:20260419T121910
CREATED:20260213T222902Z
LAST-MODIFIED:20260213T222902Z
UID:9821-1774634400-1774639800@knowltonhouse.com
SUMMARY:Tiki Cocktail Workshop: Everyone Gets Lei'd
DESCRIPTION:Escape the snow and step into the islands for one night as we wrap up March Tiki Month at the distillery with Everyone Gets Lei’d\, a hands-on cocktail experience packed with tropical flavor\, vibrant ingredients\, and plenty of laid-back tiki fun. \nOur Tiki Cocktail Workshop is the perfect way to enjoy island-inspired mixology\, whether you’re a cocktail beginner or a seasoned enthusiast. Our team will guide you step-by-step through the recipes as you learn new techniques\, shake things up\, and craft tiki-style drinks from start to finish. \nYour workshop experience includes: \n\n\n 	A welcome cocktail and lei to kick off the evening\n 	Hands-on creation of two tiki cocktail creations\n 	A make-and-take ingredient so you can bring the tiki vibes home\n 	A selection of light bites from our scratch kitchen\n 	And a tiki mug to take home\, because the party shouldn’t have to end just because Wisconsin forgot what warmth feels like\n\nCome raise a glass\, learn some new skills\, and help us send off Tiki Month in true island style. \nMust be 21+ to participate.
URL:https://knowltonhouse.com/event/tiki-cocktail-workshop-everyone-gets-leid-2/
LOCATION:Knowlton House Distillery\, 204575 County Rd DB\, Mosinee\, WI\, 54455\, United States
CATEGORIES:Cocktail Making Workshops
ATTACH;FMTTYPE=image/png:https://knowltonhouse.com/wp-content/uploads/2026/02/31411abd-8607-41ad-b7d5-657a17a65030.png
ORGANIZER;CN="Knowlton House Distillery":MAILTO:info@knowltonhouse.com
END:VEVENT
BEGIN:VEVENT
DTSTART;TZID=America/Chicago:20260328T130000
DTEND;TZID=America/Chicago:20260328T143000
DTSTAMP:20260419T121910
CREATED:20260206T174101Z
LAST-MODIFIED:20260206T174101Z
UID:9736-1774702800-1774708200@knowltonhouse.com
SUMMARY:Tiki Cocktail Workshop: Everyone Gets Lei'd
DESCRIPTION:Escape the snow and step into the islands for one night as we wrap up March Tiki Month at the distillery with Everyone Gets Lei’d\, a hands-on cocktail experience packed with tropical flavor\, vibrant ingredients\, and plenty of laid-back tiki fun. \nOur Tiki Cocktail Workshop is the perfect way to enjoy island-inspired mixology\, whether you’re a cocktail beginner or a seasoned enthusiast. Our team will guide you step-by-step through the recipes as you learn new techniques\, shake things up\, and craft tiki-style drinks from start to finish. \nYour workshop experience includes: \n\n\n 	A welcome cocktail and lei to kick off the evening\n 	Hands-on creation of two tiki cocktail creations\n 	A make-and-take ingredient so you can bring the tiki vibes home\n 	A selection of light bites from our scratch kitchen\n 	And a tiki mug to take home\, because the party shouldn’t have to end just because Wisconsin forgot what warmth feels like\n\nCome raise a glass\, learn some new skills\, and help us send off Tiki Month in true island style. \nMust be 21+ to participate.
URL:https://knowltonhouse.com/event/tiki-cocktail-making-workshop/
LOCATION:Knowlton House Distillery\, 204575 County Rd DB\, Mosinee\, WI\, 54455\, United States
CATEGORIES:Cocktail Making Workshops
ATTACH;FMTTYPE=image/png:https://knowltonhouse.com/wp-content/uploads/2026/02/ChatGPT-Image-Feb-6-2026-11_35_28-AM.png
ORGANIZER;CN="Knowlton House Distillery":MAILTO:info@knowltonhouse.com
END:VEVENT
BEGIN:VEVENT
DTSTART;TZID=America/Chicago:20260328T160000
DTEND;TZID=America/Chicago:20260328T173000
DTSTAMP:20260419T121910
CREATED:20260206T174555Z
LAST-MODIFIED:20260206T174555Z
UID:9751-1774713600-1774719000@knowltonhouse.com
SUMMARY:Tiki Cocktail Workshop: Everyone Gets Lei'd
DESCRIPTION:Escape the snow and step into the islands for one night as we wrap up March Tiki Month at the distillery with Everyone Gets Lei’d\, a hands-on cocktail experience packed with tropical flavor\, vibrant ingredients\, and plenty of laid-back tiki fun. \nOur Tiki Cocktail Workshop is the perfect way to enjoy island-inspired mixology\, whether you’re a cocktail beginner or a seasoned enthusiast. Our team will guide you step-by-step through the recipes as you learn new techniques\, shake things up\, and craft tiki-style drinks from start to finish. \nYour workshop experience includes: \n\n\n 	A welcome cocktail and lei to kick off the evening\n 	Hands-on creation of two tiki cocktail creations\n 	A make-and-take ingredient so you can bring the tiki vibes home\n 	A selection of light bites from our scratch kitchen\n 	And a tiki mug to take home\, because the party shouldn’t have to end just because Wisconsin forgot what warmth feels like\n\nCome raise a glass\, learn some new skills\, and help us send off Tiki Month in true island style. \nMust be 21+ to participate.
URL:https://knowltonhouse.com/event/tiki-cocktail-workshop-everyone-gets-leid/
LOCATION:Knowlton House Distillery\, 204575 County Rd DB\, Mosinee\, WI\, 54455\, United States
CATEGORIES:Cocktail Making Workshops
ATTACH;FMTTYPE=image/png:https://knowltonhouse.com/wp-content/uploads/2026/02/ChatGPT-Image-Feb-6-2026-11_35_28-AM.png
ORGANIZER;CN="Knowlton House Distillery":MAILTO:info@knowltonhouse.com
END:VEVENT
END:VCALENDAR