BEGIN:VCALENDAR
VERSION:2.0
PRODID:-//Knowlton House Distillery - ECPv6.15.17.1//NONSGML v1.0//EN
CALSCALE:GREGORIAN
METHOD:PUBLISH
X-WR-CALNAME:Knowlton House Distillery
X-ORIGINAL-URL:https://knowltonhouse.com
X-WR-CALDESC:Events for Knowlton House Distillery
REFRESH-INTERVAL;VALUE=DURATION:PT1H
X-Robots-Tag:noindex
X-PUBLISHED-TTL:PT1H
BEGIN:VTIMEZONE
TZID:America/Chicago
BEGIN:DAYLIGHT
TZOFFSETFROM:-0600
TZOFFSETTO:-0500
TZNAME:CDT
DTSTART:20240310T080000
END:DAYLIGHT
BEGIN:STANDARD
TZOFFSETFROM:-0500
TZOFFSETTO:-0600
TZNAME:CST
DTSTART:20241103T070000
END:STANDARD
BEGIN:DAYLIGHT
TZOFFSETFROM:-0600
TZOFFSETTO:-0500
TZNAME:CDT
DTSTART:20250309T080000
END:DAYLIGHT
BEGIN:STANDARD
TZOFFSETFROM:-0500
TZOFFSETTO:-0600
TZNAME:CST
DTSTART:20251102T070000
END:STANDARD
BEGIN:DAYLIGHT
TZOFFSETFROM:-0600
TZOFFSETTO:-0500
TZNAME:CDT
DTSTART:20260308T080000
END:DAYLIGHT
BEGIN:STANDARD
TZOFFSETFROM:-0500
TZOFFSETTO:-0600
TZNAME:CST
DTSTART:20261101T070000
END:STANDARD
END:VTIMEZONE
BEGIN:VEVENT
DTSTART;TZID=America/Chicago:20251214T100000
DTEND;TZID=America/Chicago:20251214T110000
DTSTAMP:20260419T224950
CREATED:20250926T132154Z
LAST-MODIFIED:20251117T144359Z
UID:8620-1765706400-1765710000@knowltonhouse.com
SUMMARY:Puppy Yoga
DESCRIPTION:SOLD OUT… but visit us at 11am for puppy meet & greet.  These cuties need a home for Christmas.\n\nJoin us for a 40-minute yoga practice with puppies from Wags of Wisconsin!\nAll profits will benefit Wags of Wisconsin.  Your registration includes a 40-minute yoga practice\, one cocktail token\, a complimentary shopping coupon to our bottle shop & plenty of play time with these adorable pups.\n\nWags of Wisconsin\, Inc. is a local\, non-profit dog rescue in central Wisconsin.\n\nWe ask that you leave your own pups at home for this event.  All furry friends will be from Wags of Wisconsin! All ages & skill levels welcome.  Let’s be honest\, this is light yoga since we really just want to love on these adorable pups.\n\nDON’T FORGET YOUR YOGA MAT.  Class will take place in the distillery production space.\n\nStick around after for brunch.
URL:https://knowltonhouse.com/event/puppy-yoga-4/
LOCATION:Knowlton House Distillery\, 204575 County Rd DB\, Mosinee\, WI\, 54455\, United States
ATTACH;FMTTYPE=image/jpeg:https://knowltonhouse.com/wp-content/uploads/2025/09/Puppy-Yoga.jpg
ORGANIZER;CN="Knowlton House Distillery":MAILTO:info@knowltonhouse.com
END:VEVENT
END:VCALENDAR